BEGIN:VCALENDAR
VERSION:2.0
PRODID:-//Fun in Farmington - ECPv6.15.20//NONSGML v1.0//EN
CALSCALE:GREGORIAN
METHOD:PUBLISH
X-WR-CALNAME:Fun in Farmington
X-ORIGINAL-URL:https://funinfarmington.com
X-WR-CALDESC:Events for Fun in Farmington
REFRESH-INTERVAL;VALUE=DURATION:PT1H
X-Robots-Tag:noindex
X-PUBLISHED-TTL:PT1H
BEGIN:VTIMEZONE
TZID:UTC
BEGIN:STANDARD
TZOFFSETFROM:+0000
TZOFFSETTO:+0000
TZNAME:UTC
DTSTART:20240101T000000
END:STANDARD
END:VTIMEZONE
BEGIN:VEVENT
DTSTART;TZID=UTC:20251002T103000
DTEND;TZID=UTC:20251002T113000
DTSTAMP:20260426T000648
CREATED:20250904T164832Z
LAST-MODIFIED:20250904T164832Z
UID:10016932-1759401000-1759404600@funinfarmington.com
SUMMARY:Baby Storytime (0-12 Months) at Library (Farmington)
DESCRIPTION:Event Details\n\nLibrary Events are always free to the public and you do not need a library card to attend! \nThe Farmington Community Library has two locations.  This event will be held in the meeting room at the FCL Farmington location 23500 Liberty St.\, Farmington\, MI 48335. \nNo registration is required. \nJoin FCL for our fall storytime series Sept. – Nov.; fun stories\, songs\, rhymes\, movement and activities followed by playtime. Storytime and activities are designed for kids who are 0 to 12 months with an adult. Siblings welcome.
URL:https://funinfarmington.com/event/baby-storytime-0-12-months-at-library-farmington/2025-10-02/
LOCATION:Farmington Community Library – Farmington Location\, 23500 Liberty St.\, Farmington\, Michigan\, 48335
CATEGORIES:Kids & Families
END:VEVENT
BEGIN:VEVENT
DTSTART;TZID=UTC:20251002T103000
DTEND;TZID=UTC:20251002T113000
DTSTAMP:20260426T000648
CREATED:20250904T170150Z
LAST-MODIFIED:20250904T170150Z
UID:10017034-1759401000-1759404600@funinfarmington.com
SUMMARY:Terrific Twos Storytime at Library (FH)
DESCRIPTION:Library events are always free to the public and you do not need a library card to attend!  \nThe Farmington Community Library has two locations. This event will be held in the Auditorium at the FCL Farmington Hills location at 32737 W. 12 Mile Rd.\, Farmington Hills\, MI\, 48334.  \nNo registration is required. \nMeet us in the Farmington Hills Location’s Auditorium for stories\, music\, movement\, and play! This storytime is designed for two-year-olds and their grown-up\, but siblings are welcome to attend. \n\nDisclaimer(s)\n\n\n\nAccompanying Adults\n\nThis program is designed for children and accompanying adults. Please plan to attend and be engaged with your child for this program. Drop offs will not be permitted.
URL:https://funinfarmington.com/event/terrific-twos-storytime-at-library-fh/2025-10-02/
LOCATION:Farmington Community Library – Farmington Hills Location\, 32737 W. 12 Mile Rd.\, Farmington Hills\, Michigan\, 48334
CATEGORIES:Kids & Families
END:VEVENT
BEGIN:VEVENT
DTSTART;TZID=UTC:20251002T180000
DTEND;TZID=UTC:20251002T180000
DTSTAMP:20260426T000648
CREATED:20250929T002747Z
LAST-MODIFIED:20250929T002747Z
UID:10017737-1759428000-1759428000@funinfarmington.com
SUMMARY:Grand Raven Festival Opening Night
DESCRIPTION:The Grand Raven Festival begins on Thursday October 2nd and it’s time to strut your stuff! Don your finest raven attire and enjoy Syndicate beverages as we celebrate Edgar The Raven’s return to Downtown Farmington.\nJoin in The New Orleans style parade through Downtown Farmington with Gabriel Brass Band beginning at 6:00 PM.\nThis is the kick-off party for a whole month of cultural programming inspired by Edgar Allan Poe. Explore Downtown Farmington in October to experience The Grand Raven Festival.• RavenCrow Contest• Victorian Walk each Thursday Night with the Farmington Community Library• Raven inspired public art• Pumpkin Carving Contest• Grand Raven Cocktail Crawl• Grand Raven Story Slam\nFor more details\, visit https://downtownfarmington.org/…/grand_raven_festival.php\nThank you to our Grand Raven sponsor GLP Financial Group!
URL:https://funinfarmington.com/event/grand-raven-festival-opening-night/
LOCATION:Downtown Farmington\, Grand River Ave and Farmington Rd\, Farmington\, Michigan\, 48335
CATEGORIES:Special Event
END:VEVENT
BEGIN:VEVENT
DTSTART;TZID=UTC:20251002T183000
DTEND;TZID=UTC:20251002T193000
DTSTAMP:20260426T000648
CREATED:20250930T212155Z
LAST-MODIFIED:20250930T212155Z
UID:10017738-1759429800-1759433400@funinfarmington.com
SUMMARY:Victorian Book Walk
DESCRIPTION:Library events are always free to the public and you do not need a library card to attend!  \nThe Farmington Community Library has two locations. This event will begin at the Liberty Street entrance of the at the FCL Farmington location at 23500 Liberty St.\, Farmington\, MI 48335.  \nNo registration is required. \nJoin fellow lovers of the macabre every Thursday evening in October as we haunt the streets of Downtown Farmington. We’ll wind our way through town listening to a recitation of The Raven by Edgar Allan Poe. Our walk begins at the Liberty Street entrance of the FCL Farmington location at the stroke of 6:30. Victorian/macabre attire strongly encouraged.  \nDisclaimer(s)\nTo request ADA accommodations\, such as wheelchair access or sign language interpretation\, please complete the Accommodation Request Form at least 10 days before the event.
URL:https://funinfarmington.com/event/victorian-book-walk/2025-10-02/
LOCATION:Farmington Community Library – Farmington Location\, 23500 Liberty St.\, Farmington\, Michigan\, 48335
CATEGORIES:Special Event
END:VEVENT
END:VCALENDAR