BEGIN:VCALENDAR
VERSION:2.0
PRODID:-//Fun in Farmington - ECPv6.15.20//NONSGML v1.0//EN
CALSCALE:GREGORIAN
METHOD:PUBLISH
X-WR-CALNAME:Fun in Farmington
X-ORIGINAL-URL:https://funinfarmington.com
X-WR-CALDESC:Events for Fun in Farmington
REFRESH-INTERVAL;VALUE=DURATION:PT1H
X-Robots-Tag:noindex
X-PUBLISHED-TTL:PT1H
BEGIN:VTIMEZONE
TZID:UTC
BEGIN:STANDARD
TZOFFSETFROM:+0000
TZOFFSETTO:+0000
TZNAME:UTC
DTSTART:20240101T000000
END:STANDARD
END:VTIMEZONE
BEGIN:VEVENT
DTSTART;TZID=UTC:20251011T090000
DTEND;TZID=UTC:20251011T140000
DTSTAMP:20260426T040539
CREATED:20250604T193512Z
LAST-MODIFIED:20250604T193512Z
UID:10016591-1760173200-1760191200@funinfarmington.com
SUMMARY:Farmers Market
DESCRIPTION:We are an award-winning market and a trusted source of healthy\, local and sustainable produce. We offer a vibrant marketplace with music and special programs that create a nourishing community connection. We are open rain or shine from 9 a.m. to 2 p.m. Saturdays May through the first Saturday in November at the Sundquist Pavilion\, 33113 Grand River Avenue\, in downtown Farmington.
URL:https://funinfarmington.com/event/farmers-market/2025-10-11/
LOCATION:Sundquist Pavilion\, 33113 Grand River Ave\, Farmington\, Michigan\, 48336
CATEGORIES:Farmers Market
END:VEVENT
BEGIN:VEVENT
DTSTART;TZID=UTC:20251011T103000
DTEND;TZID=UTC:20251011T113000
DTSTAMP:20260426T040539
CREATED:20250904T181655Z
LAST-MODIFIED:20250904T181655Z
UID:10017083-1760178600-1760182200@funinfarmington.com
SUMMARY:Saturday Storytime (Ages 1-6) at Library (Farmington)
DESCRIPTION:Event Details\n\nLibrary events are always free to the public and you do not need a library card to attend! \nThe Farmington Community Library has two locations.  This event will be held in the Meeting Room at the FCL Farmington location 23500 Liberty St.\, Farmington\, MI 48335. \nNo registration is required. \nJoin FCL for our Saturday Storytime series on the second Saturday of the month\, September through November. There will be fun stories\, songs\, rhymes\, movement and activities followed by playtime. Saturday Storytime and activities are designed for kids who are ages 1-6 with an adult. \n\nDisclaimer(s)\n\n\n\nAccompanying Adults\n\nThis program is designed for children and accompanying adults. Please plan to attend and be engaged with your child for this program. Drop offs will not be permitted.
URL:https://funinfarmington.com/event/saturday-storytime-ages-1-6-at-library-farmington/2025-10-11/
LOCATION:Farmington Community Library – Farmington Location\, 23500 Liberty St.\, Farmington\, Michigan\, 48335
CATEGORIES:Kids & Families
END:VEVENT
BEGIN:VEVENT
DTSTART;TZID=UTC:20251011T113000
DTEND;TZID=UTC:20251011T163000
DTSTAMP:20260426T040539
CREATED:20251002T150927Z
LAST-MODIFIED:20251002T150927Z
UID:10017822-1760182200-1760200200@funinfarmington.com
SUMMARY:Stillness & Safety: A Trauma-Informed Yin & Yoga Nidra Immersion
DESCRIPTION:MORNING SESSION – THE YIN PATH\nTheme: Grounding in the Body: Foundations of Yin Yoga for Nervous System Support\nDuration: 2.5 Hours\n1. Opening Circle & Trauma-Aware Grounding\nWelcome & Workshop Overview\nInvitation to set personal intention or sankalpa\n2. Trauma-Informed Approach to Yin Yoga\nDefining trauma + understanding the nervous system\nPolyvagal Theory basics: Safety\, choice\, and interoception\nLanguage and cueing that empower student agency\n3. Functional Anatomy & Yin Yoga Philosophy\nDifference between tension and compression\nThe role of fascia & meridians\nStillness as somatic resource\, not a demand\nFunctional vs. aesthetic alignment in diverse bodies\n4. Practice: Yin for Safety & Release\nA slow sequence focused on the Kidney/Urinary Bladder meridians (fear\, grounding)\nProps\, invitational language\, and optional exits emphasized\n5. Reflection & Integration\nJournaling prompt: “When do I feel safe to soften?”\nPartner or small group share (optional)\nDiscussion: What might change in how I teach Yin?\nAFTERNOON SESSION – THE NIDRA GATEWAY\nTheme: Deep Rest as a Portal for Healing and Wholeness\nDuration: 2.5 Hours\n1. Arrival + Nervous System\nBreath awareness\, orienting practice\nSpace to share insights from Day One\n2. Trauma-Informed Foundations of Yoga Nidra\nNidra through the lens of trauma-sensitive practice\nThe koshas as maps for awareness\, not correction\nCreating a felt sense of control: Opt-in cues\, pacing\, and environment\n3. Components of a Nidra Script\nSafe language and voice tone\nImportance of optionality in Sankalpa\nBuilding the arc: Structure and transitions\n4. Practice: Guided Trauma-Informed Nidra\n30-minute Yoga Nidra practice (focus on grounding and body sovereignty)\nRestorative or gentle movement to close\n5. Practice Teaching + Integration\nBreakout groups to practice 5-minute segment of script or Yin pose cueing\nPeer feedback (emphasis on safety\, tone\, optionality)\n6. Closing Circle & Next Steps
URL:https://funinfarmington.com/event/stillness-safety-a-trauma-informed-yin-yoga-nidra-immersion/
LOCATION:Bodhi Yoga\, 33047 Grand River Ave\, Farmington\, Michigan\, 48336
CATEGORIES:Yoga
END:VEVENT
BEGIN:VEVENT
DTSTART;TZID=UTC:20251011T150000
DTEND;TZID=UTC:20251011T163000
DTSTAMP:20260426T040539
CREATED:20251009T152939Z
LAST-MODIFIED:20251009T152939Z
UID:10017833-1760194800-1760200200@funinfarmington.com
SUMMARY:Tales from the Cryptids at FH Nature Center
DESCRIPTION:Discover what’s lurking in the woods of Heritage Park…Bigfoot\, Loch Ness Monster\, or Heritage Park’s own Earl the Swamp Creature! Together we will explore cryptozoology\, the exciting science of animals that may or may not exist. Then we’ll head out on a fun adventure to look for possible evidence of the local swamp thing.\nPre-registration is required for both adults and children. Children must be accompanied by an adult. Dress for the weather and exploring outdoors.\nRegister here: https://tinyurl.com/talescrytpids\nActivity Code: PN1217Age: 5 and upCost: $5 per person
URL:https://funinfarmington.com/event/tales-from-the-cryptids-at-fh-nature-center/
LOCATION:Farmington Hills Nature Center\, 24915 Farmington Rd\, Farmington Hills\, MI\, 48336
CATEGORIES:Kids & Families
END:VEVENT
BEGIN:VEVENT
DTSTART;TZID=UTC:20251011T170000
DTEND;TZID=UTC:20251011T200000
DTSTAMP:20260426T040539
CREATED:20250917T040846Z
LAST-MODIFIED:20250917T040846Z
UID:10017652-1760202000-1760212800@funinfarmington.com
SUMMARY:Trunk or Treat at Mala Child & Family Institute
DESCRIPTION:This is a free sensory-friendly event for local families and children to enjoy a safe\, festive evening.
URL:https://funinfarmington.com/event/trunk-or-treat-at-mala-child-family-institute/
LOCATION:Mala Child & Family Institute\, 37899 W 12 Mile Rd\, Farmington Hills\, Michigan\, 48331
CATEGORIES:Holiday,Kids & Families
END:VEVENT
END:VCALENDAR