BEGIN:VCALENDAR
VERSION:2.0
PRODID:-//Fun in Farmington - ECPv6.15.20//NONSGML v1.0//EN
CALSCALE:GREGORIAN
METHOD:PUBLISH
X-ORIGINAL-URL:https://funinfarmington.com
X-WR-CALDESC:Events for Fun in Farmington
REFRESH-INTERVAL;VALUE=DURATION:PT1H
X-Robots-Tag:noindex
X-PUBLISHED-TTL:PT1H
BEGIN:VTIMEZONE
TZID:UTC
BEGIN:STANDARD
TZOFFSETFROM:+0000
TZOFFSETTO:+0000
TZNAME:UTC
DTSTART:20240101T000000
END:STANDARD
END:VTIMEZONE
BEGIN:VEVENT
DTSTART;TZID=UTC:20251012T110000
DTEND;TZID=UTC:20251012T140000
DTSTAMP:20260426T020039
CREATED:20251002T151014Z
LAST-MODIFIED:20251002T151014Z
UID:10017814-1760266800-1760277600@funinfarmington.com
SUMMARY:Drag Queen Bingo at The Hawk
DESCRIPTION:October 12th\n11:00am-2:00pm\nTickets- $25 in advance\, $30 at the door\nBoylesque Drag from Ypsilanti\, MI returns for another afternoon of bingo and performances at The Hawk! Participate in bingo and have a chance to win awesome prizes! There will be food provided along with a cash bar\, coffee and light refreshments.\nCostumes are strongly encouraged!\n*Beer and wine will be available for patrons 21 years and above.
URL:https://funinfarmington.com/event/drag-queen-bingo-at-the-hawk/
LOCATION:The Hawk Community Center\, 29995 W 12 Mile Rd\, Farmington Hills\, Michigan\, 48334
CATEGORIES:Shows
END:VEVENT
BEGIN:VEVENT
DTSTART;TZID=UTC:20251012T130000
DTEND;TZID=UTC:20251012T140000
DTSTAMP:20260426T020039
CREATED:20251002T151118Z
LAST-MODIFIED:20251002T151118Z
UID:10017805-1760274000-1760277600@funinfarmington.com
SUMMARY:Fall Color Walk at Heritage
DESCRIPTION:Experience the magic of the season! Take a guided hike under a canopy of color through Heritage Park. Discover why and how leaves change color in the fall\, and search for animals preparing for winter.\nPlease dress for the weather. Pre-registration is required. Children must be accompanied by an adult. Fee applies to adults and children.\nRegister here: https://tinyurl.com/heritagecolorwalk\nActivity Code: PN1236-02\nAge: 5+\nCost: $3 per person
URL:https://funinfarmington.com/event/fall-color-walk-at-heritage/
LOCATION:Heritage Park\, 24915 Farmington Rd\, Farmington Hills\, MI\, 48336\, United States
CATEGORIES:NAture
END:VEVENT
BEGIN:VEVENT
DTSTART;TZID=UTC:20251012T180000
DTEND;TZID=UTC:20251012T210000
DTSTAMP:20260426T020039
CREATED:20250619T210723Z
LAST-MODIFIED:20250619T210723Z
UID:10016787-1760292000-1760302800@funinfarmington.com
SUMMARY:Pub Quiz at FBC
DESCRIPTION:Pub Quiz Trivia every Sunday night at Farmington Brewing Company.
URL:https://funinfarmington.com/event/pub-quiz-at-fbc/2025-10-12/
LOCATION:Farmington Brewing Company\, 33336 Grand River Ave\, Farmington\, Michigan\, 48336
CATEGORIES:Trivia
END:VEVENT
END:VCALENDAR