BEGIN:VCALENDAR
VERSION:2.0
PRODID:-//Fun in Farmington - ECPv6.15.20//NONSGML v1.0//EN
CALSCALE:GREGORIAN
METHOD:PUBLISH
X-WR-CALNAME:Fun in Farmington
X-ORIGINAL-URL:https://funinfarmington.com
X-WR-CALDESC:Events for Fun in Farmington
REFRESH-INTERVAL;VALUE=DURATION:PT1H
X-Robots-Tag:noindex
X-PUBLISHED-TTL:PT1H
BEGIN:VTIMEZONE
TZID:UTC
BEGIN:STANDARD
TZOFFSETFROM:+0000
TZOFFSETTO:+0000
TZNAME:UTC
DTSTART:20240101T000000
END:STANDARD
END:VTIMEZONE
BEGIN:VEVENT
DTSTART;TZID=UTC:20251023T100000
DTEND;TZID=UTC:20251023T100000
DTSTAMP:20260426T002518
CREATED:20251012T181944Z
LAST-MODIFIED:20251012T181944Z
UID:10017838-1761213600-1761213600@funinfarmington.com
SUMMARY:Park Play Date Meet and Greet at Shiawassee
DESCRIPTION:Join the Farmington Area Mothers’ Club at the playground at Shiawassee Park for a play date. Let the kids get some energy out before lunch\, and get some mom socialization in! Come ask questions about our organization and consider becoming a member.
URL:https://funinfarmington.com/event/park-play-date-meet-and-greet-at-shiawassee/
LOCATION:Shiawassee Park\, 32515 Shiawassee Rd\, Farmington\, Michigan\, 48336
CATEGORIES:Kids & Families,Moms
END:VEVENT
BEGIN:VEVENT
DTSTART;TZID=UTC:20251023T103000
DTEND;TZID=UTC:20251023T113000
DTSTAMP:20260426T002518
CREATED:20250904T164832Z
LAST-MODIFIED:20250904T164832Z
UID:10016935-1761215400-1761219000@funinfarmington.com
SUMMARY:Baby Storytime (0-12 Months) at Library (Farmington)
DESCRIPTION:Event Details\n\nLibrary Events are always free to the public and you do not need a library card to attend! \nThe Farmington Community Library has two locations.  This event will be held in the meeting room at the FCL Farmington location 23500 Liberty St.\, Farmington\, MI 48335. \nNo registration is required. \nJoin FCL for our fall storytime series Sept. – Nov.; fun stories\, songs\, rhymes\, movement and activities followed by playtime. Storytime and activities are designed for kids who are 0 to 12 months with an adult. Siblings welcome.
URL:https://funinfarmington.com/event/baby-storytime-0-12-months-at-library-farmington/2025-10-23/
LOCATION:Farmington Community Library – Farmington Location\, 23500 Liberty St.\, Farmington\, Michigan\, 48335
CATEGORIES:Kids & Families
END:VEVENT
BEGIN:VEVENT
DTSTART;TZID=UTC:20251023T103000
DTEND;TZID=UTC:20251023T113000
DTSTAMP:20260426T002518
CREATED:20250904T170150Z
LAST-MODIFIED:20250904T170150Z
UID:10017037-1761215400-1761219000@funinfarmington.com
SUMMARY:Terrific Twos Storytime at Library (FH)
DESCRIPTION:Library events are always free to the public and you do not need a library card to attend!  \nThe Farmington Community Library has two locations. This event will be held in the Auditorium at the FCL Farmington Hills location at 32737 W. 12 Mile Rd.\, Farmington Hills\, MI\, 48334.  \nNo registration is required. \nMeet us in the Farmington Hills Location’s Auditorium for stories\, music\, movement\, and play! This storytime is designed for two-year-olds and their grown-up\, but siblings are welcome to attend. \n\nDisclaimer(s)\n\n\n\nAccompanying Adults\n\nThis program is designed for children and accompanying adults. Please plan to attend and be engaged with your child for this program. Drop offs will not be permitted.
URL:https://funinfarmington.com/event/terrific-twos-storytime-at-library-fh/2025-10-23/
LOCATION:Farmington Community Library – Farmington Hills Location\, 32737 W. 12 Mile Rd.\, Farmington Hills\, Michigan\, 48334
CATEGORIES:Kids & Families
END:VEVENT
BEGIN:VEVENT
DTSTART;TZID=UTC:20251023T160000
DTEND;TZID=UTC:20251023T180000
DTSTAMP:20260426T002518
CREATED:20251012T172028Z
LAST-MODIFIED:20251012T172028Z
UID:10017831-1761235200-1761242400@funinfarmington.com
SUMMARY:Howl-O-Ween Pet Party!
DESCRIPTION:🎃 **Welcome to the Howl-O-Ween Pet Party!** 🐾 \nLadies\, gentlemen\, and furry friends… welcome to the *spookiest*\, *silliest*\, and most *paws-itively adorable* event of the season — our annual **Pet Halloween Party**! \nTonight\, we’re trading tricks for treats and costumes for cuddles as we celebrate Halloween with our four-legged companions in style. Whether you’ve brought a ghostly golden retriever\, a vampire cat\, or a lizard in a wizard hat\, every pet is here to strut their stuff and show off their spooky spirit! \nGet ready for: \n👻 A pet costume parade (with prizes!)\n🐶 Tail-wagging games and activities\n🐾 Spooky photo ops\n🎁 Treat bags for pets and humans alike\n💀 And lots of bone-chilling fun! \nSo grab your leashes\, your cameras\, and your sense of humor — because this is one party where the pets run the show! \nLet the howling begin! 🐕‍🦺🧛‍♂️🦴
URL:https://funinfarmington.com/event/howl-o-ween-pet-party/
LOCATION:Tolonen Family Pet\, 23320 Farmington Rd\, Farmington\, Michigan\, 48336
CATEGORIES:Holiday,Pets
ATTACH;FMTTYPE=image/jpeg:https://funinfarmington.com/wp-content/uploads/2025/10/B0F0389C-A794-4E9C-8A46-E89CE0630D19.jpeg
ORGANIZER;CN="Tolonen Family Pet":MAILTO:Info@tolonenfamilypet.com
END:VEVENT
BEGIN:VEVENT
DTSTART;TZID=UTC:20251023T170000
DTEND;TZID=UTC:20251023T200000
DTSTAMP:20260426T002518
CREATED:20251020T020820Z
LAST-MODIFIED:20251020T020820Z
UID:10017859-1761238800-1761249600@funinfarmington.com
SUMMARY:Trunk or Treat at Fox Buick GMC
DESCRIPTION:Trunk or Treat at Fox Buick GMC\n\nBring the whole family for a night of Halloween fun!Thursday\, October 23rd5:00 PM – 8:00 PMFox Buick GMC\nJoin us for:Safe & fun trick-or-treatingDecorated trunks full of candyFamily-friendly activities\nCostumes are encouraged—come ready for treats\, smiles\, and spooky fun!
URL:https://funinfarmington.com/event/trunk-or-treat-at-fox-buick-gmc/
LOCATION:Fox Buick GMC\, 38000 Grand River Ave\, Farmington\, Michigan\, 48335
CATEGORIES:Holiday,Kids & Families
END:VEVENT
BEGIN:VEVENT
DTSTART;TZID=UTC:20251023T183000
DTEND;TZID=UTC:20251023T193000
DTSTAMP:20260426T002518
CREATED:20250930T212155Z
LAST-MODIFIED:20250930T212155Z
UID:10017741-1761244200-1761247800@funinfarmington.com
SUMMARY:Victorian Book Walk
DESCRIPTION:Library events are always free to the public and you do not need a library card to attend!  \nThe Farmington Community Library has two locations. This event will begin at the Liberty Street entrance of the at the FCL Farmington location at 23500 Liberty St.\, Farmington\, MI 48335.  \nNo registration is required. \nJoin fellow lovers of the macabre every Thursday evening in October as we haunt the streets of Downtown Farmington. We’ll wind our way through town listening to a recitation of The Raven by Edgar Allan Poe. Our walk begins at the Liberty Street entrance of the FCL Farmington location at the stroke of 6:30. Victorian/macabre attire strongly encouraged.  \nDisclaimer(s)\nTo request ADA accommodations\, such as wheelchair access or sign language interpretation\, please complete the Accommodation Request Form at least 10 days before the event.
URL:https://funinfarmington.com/event/victorian-book-walk/2025-10-23/
LOCATION:Farmington Community Library – Farmington Location\, 23500 Liberty St.\, Farmington\, Michigan\, 48335
CATEGORIES:Special Event
END:VEVENT
BEGIN:VEVENT
DTSTART;TZID=UTC:20251023T184500
DTEND;TZID=UTC:20251023T204500
DTSTAMP:20260426T002518
CREATED:20251020T015841Z
LAST-MODIFIED:20251020T015841Z
UID:10017853-1761245100-1761252300@funinfarmington.com
SUMMARY:Friends Fall Book Sale at Library (FH Location)
DESCRIPTION:The Farmington Community Library has two locations. The Friends Book Sale will be held at the FCL Farmington Hills location at 32737 W. 12 Mile Rd.\, Farmington Hills\, MI\, 48334.\nAll proceeds go to support the Library.\nSale Details– Cash and card accepted. Minimum card payment: $5.\nThursday\, October 23\, 6:45-8:45 p.m.– Friends Members Pre-sale– Friends of the Library members are invited to attend this members-only pre-sale! Membership can be purchased at the door or online at farmlib.org/friends\nFriday\, October 24\, 10:00 A.M. – 5:45 P.M.– Standard Sale Prices\nSaturday\, October 25\, 10:00 A.M. – 2:00 P.M.– Buy 2\, get 1 free of equal or lesser price– Teacher’s sale (please show an ID\, includes homeschooling parents)\n$5 Bag Sale Sunday\, October 26\, through Saturday\, November 1 during Library Hours
URL:https://funinfarmington.com/event/friends-fall-book-sale-at-library-fh-location/2025-10-23/
LOCATION:Farmington Community Library – Farmington Hills Location\, 32737 W. 12 Mile Rd.\, Farmington Hills\, Michigan\, 48334
CATEGORIES:Shopping
END:VEVENT
END:VCALENDAR