BEGIN:VCALENDAR
VERSION:2.0
PRODID:-//Fun in Farmington - ECPv6.15.20//NONSGML v1.0//EN
CALSCALE:GREGORIAN
METHOD:PUBLISH
X-ORIGINAL-URL:https://funinfarmington.com
X-WR-CALDESC:Events for Fun in Farmington
REFRESH-INTERVAL;VALUE=DURATION:PT1H
X-Robots-Tag:noindex
X-PUBLISHED-TTL:PT1H
BEGIN:VTIMEZONE
TZID:UTC
BEGIN:STANDARD
TZOFFSETFROM:+0000
TZOFFSETTO:+0000
TZNAME:UTC
DTSTART:20240101T000000
END:STANDARD
END:VTIMEZONE
BEGIN:VEVENT
DTSTART;TZID=UTC:20251024T100000
DTEND;TZID=UTC:20251024T174500
DTSTAMP:20260426T040529
CREATED:20251020T015841Z
LAST-MODIFIED:20251020T015841Z
UID:10017854-1761300000-1761327900@funinfarmington.com
SUMMARY:Friends Fall Book Sale at Library (FH Location)
DESCRIPTION:The Farmington Community Library has two locations. The Friends Book Sale will be held at the FCL Farmington Hills location at 32737 W. 12 Mile Rd.\, Farmington Hills\, MI\, 48334.\nAll proceeds go to support the Library.\nSale Details– Cash and card accepted. Minimum card payment: $5.\nThursday\, October 23\, 6:45-8:45 p.m.– Friends Members Pre-sale– Friends of the Library members are invited to attend this members-only pre-sale! Membership can be purchased at the door or online at farmlib.org/friends\nFriday\, October 24\, 10:00 A.M. – 5:45 P.M.– Standard Sale Prices\nSaturday\, October 25\, 10:00 A.M. – 2:00 P.M.– Buy 2\, get 1 free of equal or lesser price– Teacher’s sale (please show an ID\, includes homeschooling parents)\n$5 Bag Sale Sunday\, October 26\, through Saturday\, November 1 during Library Hours
URL:https://funinfarmington.com/event/friends-fall-book-sale-at-library-fh-location/2025-10-24/
LOCATION:Farmington Community Library – Farmington Hills Location\, 32737 W. 12 Mile Rd.\, Farmington Hills\, Michigan\, 48334
CATEGORIES:Shopping
END:VEVENT
BEGIN:VEVENT
DTSTART;TZID=UTC:20251024T153000
DTEND;TZID=UTC:20251024T173000
DTSTAMP:20260426T040529
CREATED:20251002T150932Z
LAST-MODIFIED:20251002T150932Z
UID:10017821-1761319800-1761327000@funinfarmington.com
SUMMARY:Wine Tasting at Dolcetto
DESCRIPTION:Let’s be honest\, our wines are a little… different.\nSwing by the shop anytime between 3:30 and 5:30 for a casual tasting of three unique wines and a little insight into what makes them so special.\nBonus: Enjoy 10% off all featured bottles during the event!
URL:https://funinfarmington.com/event/wine-tasting-at-dolcetto-2/
LOCATION:Dolcetto\, Cheese\, & Specialty Goods\, 33041 Grand River Ave\, Farmington\, MI\, 48336
CATEGORIES:Food
END:VEVENT
BEGIN:VEVENT
DTSTART;TZID=UTC:20251024T163000
DTEND;TZID=UTC:20251024T173000
DTSTAMP:20260426T040529
CREATED:20250904T182024Z
LAST-MODIFIED:20250904T182259Z
UID:10017086-1761323400-1761327000@funinfarmington.com
SUMMARY:Adaptive Storytime at Library (FH) - REGISTRATION REQUIRED
DESCRIPTION:Event Details\n\nLibrary events are always free to the public and you do not need a library card to attend! \nThe Farmington Community Library has two locations. This event will be held in-person in the Children’s Program Room at the FCL Farmington Hills location at 32737 W. 12 Mile Rd.\, Farmington Hills\, MI 48334. \nCall (248) 848-4315 to register or visit the Children’s Information Desk. \nThis storytime is for families with children who have disabilities or receive therapies or extra support. We will use visual supports\, sensory-friendly stories\, and simple movement activities made for children with disabilities. Siblings are welcome. After storytime\, there will be time for play and for parents to meet and talk with each other. \nYou can find a social story about what to expect at storytime here: https://farmlib.org/media/gqsffdvd/adaptive-storytime-social–story.pdf \n\nDisclaimer(s)\n\n\n\nAccompanying Adults\n\nThis program is designed for children and accompanying adults. Please plan to attend and be engaged with your child for this program. Drop offs will not be permitted. \n\n\n\n\n\nADA Requests\n\nTo request a reasonable accommodation under the ADA\, please complete this form at least 10 days before the event.
URL:https://funinfarmington.com/event/adaptive-storytime-at-library-fh/2025-10-24/
LOCATION:Farmington Community Library – Farmington Hills Location\, 32737 W. 12 Mile Rd.\, Farmington Hills\, Michigan\, 48334
CATEGORIES:Kids & Families
END:VEVENT
BEGIN:VEVENT
DTSTART;TZID=UTC:20251024T173000
DTEND;TZID=UTC:20251024T193000
DTSTAMP:20260426T040529
CREATED:20250925T192656Z
LAST-MODIFIED:20250925T192656Z
UID:10017669-1761327000-1761334200@funinfarmington.com
SUMMARY:Hayride Central
DESCRIPTION:Enjoy family hayrides through the trails of Heritage Park! Rides leave every 1/2 hour from 5:30-7:30pm: LAST RIDE LEAVES AT 7pm. After the ride\, purchase a cup of cider and s’more kit to roast around a cozy campfire for $1 (not included in hayride fee). You can add-on your s’more and cider kit online at check-out\, includes a roasting stick. Don’t forget to explore the Nature Center\, open until 7pm on Hayride nights.\nHayrides leave from the Nature Center parking lot. Check-in with Nature Center Staff near the campfire upon arrival.\nHayride are held RAIN OR SHINE. Dress accordingly. If SEVERE weather occurs\, the ride will be cancelled and participants will be notified the day-of with an option to transfer\, if available. Please register in advance\, hayrides fill quickly\, and space is limited. No charge for kids under age 2.\nGroups can reserve weekday or weekend private rides in advance by calling (248)473-1870.\nRegister here: https://tinyurl.com/hayridecentral24\nActivity Code: PN1215Age: AllCost: $5 per person
URL:https://funinfarmington.com/event/hayride-central/2025-10-24/
LOCATION:Heritage Park\, 24915 Farmington Rd\, Farmington Hills\, MI\, 48336\, United States
CATEGORIES:Kids & Families
END:VEVENT
BEGIN:VEVENT
DTSTART;TZID=UTC:20251024T180000
DTEND;TZID=UTC:20251024T200000
DTSTAMP:20260426T040529
CREATED:20251002T151102Z
LAST-MODIFIED:20251002T151102Z
UID:10017812-1761328800-1761336000@funinfarmington.com
SUMMARY:Halloween at the Farmington Y - REGISTRATION REQUIRED
DESCRIPTION:Join us for a spooktacular evening of Family fun\, including festive snacks\, science experiments in the Monster Laboratory\, Bounce House fun\, Ghoulish Karaoke\, and so much more!\nHalloween at the Y is free and open to the public. Registration is required and available online at bit.ly/HAYFarm25\nInterested in volunteering or becoming a vendor? Contact Youth and Family Director\, Lauri at lauri.kisner@ymcadetroit.org
URL:https://funinfarmington.com/event/halloween-at-the-farmington-y-registration-required/
LOCATION:Farmington Family YMCA\, 28100 Farmington Rd\,\, Farmington Hills\, Michigan\, 48334
CATEGORIES:Holiday
END:VEVENT
BEGIN:VEVENT
DTSTART;TZID=UTC:20251024T183000
DTEND;TZID=UTC:20251024T200000
DTSTAMP:20260426T040529
CREATED:20251002T150910Z
LAST-MODIFIED:20251002T150910Z
UID:10017825-1761330600-1761336000@funinfarmington.com
SUMMARY:Yin Yoga + Acupuncture
DESCRIPTION:Join Alana and Dr. Ruth Licensed Acupuncturist for a 90 minute immersion\, blending Traditional Chinese Medicine and the practice of Yin Yoga.\nInspired by our deep connection to the universe\, this workshop is designed to nourish the body from the inside out.\nWe will combine yoga postures with acupuncture needles to nourish our connective tissue and build Qi\, through the integration of the meridians.\nBe prepared to feel rejuvenated\, relaxed\, and deeply nourished after this workshop.\nCANCELLATION/REFUND POLICY\nSpecial classes are non-refundable and non-transferable. By enrolling\, you are taking ownership of that spot. This guarantees your space in class and prevents someone else from being able to register into that spot.
URL:https://funinfarmington.com/event/yin-yoga-acupuncture/
LOCATION:Bodhi Yoga\, 33047 Grand River Ave\, Farmington\, Michigan\, 48336
CATEGORIES:Wellness,Yoga
END:VEVENT
BEGIN:VEVENT
DTSTART;TZID=UTC:20251024T190000
DTEND;TZID=UTC:20251024T193000
DTSTAMP:20260426T040529
CREATED:20251014T141933Z
LAST-MODIFIED:20251014T141933Z
UID:10017847-1761332400-1761334200@funinfarmington.com
SUMMARY:Seussical Kids at The Hawk
DESCRIPTION:Horton the Elephant\, the Cat in the Hat and all of your favorite Dr. Seuss characters spring to life onstage in Seussical KIDS! \nTransporting audiences from the Jungle of Nool to the Circus McGurkus\, the Cat in the Hat\, our narrator\, tells the story of Horton\, an elephant who discovers a speck of dust containing tiny people called the Whos\, including Jojo\, a Who child\, who gets in trouble for thinking too many “thinks.” Horton’s challenge is twofold — not only must he protect the Whos from a world of naysayers and dangers\, but he must also guard an abandoned egg that’s been left in his care by the irresponsible Mayzie La Bird. Although Horton faces ridicule\, danger\, kidnapping and a trial\, the intrepid Gertrude McFuzz never loses faith in him. Ultimately\, the powers of friendship\, loyalty\, family and community are challenged and emerge triumphant! \nSeussical Kids! is presented in special arrangement with Music Theatrre International (MTI). All authorized performance materials are also supplied by MTI. www.MTIShows.com
URL:https://funinfarmington.com/event/seussical-kids-at-the-hawk/2025-10-24/
LOCATION:The Hawk Community Center\, 29995 W 12 Mile Rd\, Farmington Hills\, Michigan\, 48334
CATEGORIES:Kids & Families,Theater
END:VEVENT
BEGIN:VEVENT
DTSTART;TZID=UTC:20251024T200000
DTEND;TZID=UTC:20251024T210000
DTSTAMP:20260426T040529
CREATED:20251002T151113Z
LAST-MODIFIED:20251002T151113Z
UID:10017806-1761336000-1761339600@funinfarmington.com
SUMMARY:Full Moon Night Hike
DESCRIPTION:Experience an entirely new world: Heritage Park after dark! Enjoy a guided sensory hike through the trails in search of nocturnal animals\, features of the night sky and the mysterious sounds of the woods. Don’t miss the nighttime fun!\nDress for the weather. Arrive early on Sept 19 & Oct 24 for a fall hayride and campfire for only $5 more (5:30-7pm). S’mores and Cider also available for purchase during Hayride.\nRegister here: https://tinyurl.com/fhncfallnighthikes25\nActivity code: PN1219\nAge: 5+\nCost: $3 per person
URL:https://funinfarmington.com/event/full-moon-night-hike/
LOCATION:Michigan
CATEGORIES:NAture
END:VEVENT
END:VCALENDAR