BEGIN:VCALENDAR
VERSION:2.0
PRODID:-//Fun in Farmington - ECPv6.15.20//NONSGML v1.0//EN
CALSCALE:GREGORIAN
METHOD:PUBLISH
X-WR-CALNAME:Fun in Farmington
X-ORIGINAL-URL:https://funinfarmington.com
X-WR-CALDESC:Events for Fun in Farmington
REFRESH-INTERVAL;VALUE=DURATION:PT1H
X-Robots-Tag:noindex
X-PUBLISHED-TTL:PT1H
BEGIN:VTIMEZONE
TZID:UTC
BEGIN:STANDARD
TZOFFSETFROM:+0000
TZOFFSETTO:+0000
TZNAME:UTC
DTSTART:20240101T000000
END:STANDARD
END:VTIMEZONE
BEGIN:VEVENT
DTSTART;TZID=UTC:20251025T090000
DTEND;TZID=UTC:20251025T140000
DTSTAMP:20260426T002516
CREATED:20250604T193512Z
LAST-MODIFIED:20250604T193512Z
UID:10016593-1761382800-1761400800@funinfarmington.com
SUMMARY:Farmers Market
DESCRIPTION:We are an award-winning market and a trusted source of healthy\, local and sustainable produce. We offer a vibrant marketplace with music and special programs that create a nourishing community connection. We are open rain or shine from 9 a.m. to 2 p.m. Saturdays May through the first Saturday in November at the Sundquist Pavilion\, 33113 Grand River Avenue\, in downtown Farmington.
URL:https://funinfarmington.com/event/farmers-market/2025-10-25/
LOCATION:Sundquist Pavilion\, 33113 Grand River Ave\, Farmington\, Michigan\, 48336
CATEGORIES:Farmers Market
END:VEVENT
BEGIN:VEVENT
DTSTART;TZID=UTC:20251025T090000
DTEND;TZID=UTC:20251025T140000
DTSTAMP:20260426T002516
CREATED:20250930T212143Z
LAST-MODIFIED:20250930T212143Z
UID:10017796-1761382800-1761400800@funinfarmington.com
SUMMARY:The Haunted Farmer's Market
DESCRIPTION:Come all ye ghouls\, goblins & ghosts for a Hauntingly good time at The Haunted Farmers Market! Shop for the best of Michigan grown fall fresh produce and artisan delights. Dress up and dress up the kids for trick-or-treating at our farm stands\, pantry and food vendors and artisan booths.
URL:https://funinfarmington.com/event/the-haunted-farmers-market/
LOCATION:Michigan
CATEGORIES:Farmers Market
END:VEVENT
BEGIN:VEVENT
DTSTART;TZID=UTC:20251025T100000
DTEND;TZID=UTC:20251025T140000
DTSTAMP:20260426T002516
CREATED:20251020T015841Z
LAST-MODIFIED:20251020T015841Z
UID:10017855-1761386400-1761400800@funinfarmington.com
SUMMARY:Friends Fall Book Sale at Library (FH Location)
DESCRIPTION:The Farmington Community Library has two locations. The Friends Book Sale will be held at the FCL Farmington Hills location at 32737 W. 12 Mile Rd.\, Farmington Hills\, MI\, 48334.\nAll proceeds go to support the Library.\nSale Details– Cash and card accepted. Minimum card payment: $5.\nThursday\, October 23\, 6:45-8:45 p.m.– Friends Members Pre-sale– Friends of the Library members are invited to attend this members-only pre-sale! Membership can be purchased at the door or online at farmlib.org/friends\nFriday\, October 24\, 10:00 A.M. – 5:45 P.M.– Standard Sale Prices\nSaturday\, October 25\, 10:00 A.M. – 2:00 P.M.– Buy 2\, get 1 free of equal or lesser price– Teacher’s sale (please show an ID\, includes homeschooling parents)\n$5 Bag Sale Sunday\, October 26\, through Saturday\, November 1 during Library Hours
URL:https://funinfarmington.com/event/friends-fall-book-sale-at-library-fh-location/2025-10-25/
LOCATION:Farmington Community Library – Farmington Hills Location\, 32737 W. 12 Mile Rd.\, Farmington Hills\, Michigan\, 48334
CATEGORIES:Shopping
END:VEVENT
BEGIN:VEVENT
DTSTART;TZID=UTC:20251025T110000
DTEND;TZID=UTC:20251025T120000
DTSTAMP:20260426T002516
CREATED:20250904T164015Z
LAST-MODIFIED:20250904T164015Z
UID:10016914-1761390000-1761393600@funinfarmington.com
SUMMARY:Saturday STREAM (Grades K-5) at Library (Farmington)
DESCRIPTION:Library Events are always free to the public and you do not need a library card to attend! \nThe Farmington Community Library has two locations. This event will be held in the Meeting Room at the FCL Farmington location at 23500 Liberty St.\, Farmington\, MI 48335. \nNo registration is required. \nKids in grades K-5 can come to the library and experiment with Science\, Technology\, Reading\, Engineering\, Art\, and Math concepts. We will have a selection of toys available for open-ended play and discovery. Thank you to Bosch Community Fund for generous grants that make this program possible.
URL:https://funinfarmington.com/event/saturday-stream-grades-k-5-at-library-farmington/2025-10-25/
LOCATION:Farmington Community Library – Farmington Location\, 23500 Liberty St.\, Farmington\, Michigan\, 48335
CATEGORIES:Kids & Families
END:VEVENT
BEGIN:VEVENT
DTSTART;TZID=UTC:20251025T120000
DTEND;TZID=UTC:20251025T140000
DTSTAMP:20260426T002516
CREATED:20250930T212136Z
LAST-MODIFIED:20250930T212136Z
UID:10017797-1761393600-1761400800@funinfarmington.com
SUMMARY:Downtown Farmington Trick or Treating
DESCRIPTION:Trick-or-Treat at Downtown Farmington Businesses will take place between 12 p.m. – 2 p.m.
URL:https://funinfarmington.com/event/downtown-farmington-trick-or-treating/
LOCATION:Michigan
CATEGORIES:Holiday
END:VEVENT
BEGIN:VEVENT
DTSTART;TZID=UTC:20251025T120000
DTEND;TZID=UTC:20251025T150000
DTSTAMP:20260426T002516
CREATED:20251012T175457Z
LAST-MODIFIED:20251012T175457Z
UID:10017836-1761393600-1761404400@funinfarmington.com
SUMMARY:Bus or Treat 2025
DESCRIPTION:Stop by in costume\, visit your favorite bus drivers and get some Halloween treats!
URL:https://funinfarmington.com/event/bus-or-treat-2025/
LOCATION:FPS Bus Yard\, 24001 Raphael\, Farmington\, Michigan\, 48336
CATEGORIES:Holiday,Kids & Families
ATTACH;FMTTYPE=image/jpeg:https://funinfarmington.com/wp-content/uploads/2025/10/558378571_10114110160776715_8893925247355078328_n.jpg
END:VEVENT
BEGIN:VEVENT
DTSTART;TZID=UTC:20251025T140000
DTEND;TZID=UTC:20251025T170000
DTSTAMP:20260426T002516
CREATED:20251020T020048Z
LAST-MODIFIED:20251020T020048Z
UID:10017856-1761400800-1761411600@funinfarmington.com
SUMMARY:Trunk or Treat at Corewell Health FH Hospital
DESCRIPTION:We’re hosting Trunk or Treat at Corewell Health Farmington Hills Hospital. Bring your family and friends and join us for fun decorations\, silly costumes\, spooky music and sweet treats. Hosted by the Farmington Hills Caring for the Caregiver Committee.\nLocation:Corewell Health Farmington Hills HospitalCancer Care Center27900 Grand River Ave.Farmington Hills\, MI\, 48336\nParking: Team members and signage will guide Trunk or Treaters to event parking in the Cancer Center parking lot
URL:https://funinfarmington.com/event/trunk-or-treat-at-corewell-health-fh-hospital/
LOCATION:Corewell Health Farmington Hills Hospital\, 27900 Grand River Ave\, Farmington Hills\, Michigan\, 48336
CATEGORIES:Holiday,Kids & Families
END:VEVENT
BEGIN:VEVENT
DTSTART;TZID=UTC:20251025T150000
DTEND;TZID=UTC:20251025T153000
DTSTAMP:20260426T002516
CREATED:20251014T141933Z
LAST-MODIFIED:20251014T141933Z
UID:10017848-1761404400-1761406200@funinfarmington.com
SUMMARY:Seussical Kids at The Hawk
DESCRIPTION:Horton the Elephant\, the Cat in the Hat and all of your favorite Dr. Seuss characters spring to life onstage in Seussical KIDS! \nTransporting audiences from the Jungle of Nool to the Circus McGurkus\, the Cat in the Hat\, our narrator\, tells the story of Horton\, an elephant who discovers a speck of dust containing tiny people called the Whos\, including Jojo\, a Who child\, who gets in trouble for thinking too many “thinks.” Horton’s challenge is twofold — not only must he protect the Whos from a world of naysayers and dangers\, but he must also guard an abandoned egg that’s been left in his care by the irresponsible Mayzie La Bird. Although Horton faces ridicule\, danger\, kidnapping and a trial\, the intrepid Gertrude McFuzz never loses faith in him. Ultimately\, the powers of friendship\, loyalty\, family and community are challenged and emerge triumphant! \nSeussical Kids! is presented in special arrangement with Music Theatrre International (MTI). All authorized performance materials are also supplied by MTI. www.MTIShows.com
URL:https://funinfarmington.com/event/seussical-kids-at-the-hawk/2025-10-25/
LOCATION:The Hawk Community Center\, 29995 W 12 Mile Rd\, Farmington Hills\, Michigan\, 48334
CATEGORIES:Kids & Families,Theater
END:VEVENT
BEGIN:VEVENT
DTSTART;TZID=UTC:20251025T160000
DTEND;TZID=UTC:20251025T160000
DTSTAMP:20260426T002516
CREATED:20251012T183325Z
LAST-MODIFIED:20251012T183325Z
UID:10017843-1761408000-1761408000@funinfarmington.com
SUMMARY:School of Rock Adult and House Bands at 1Up Arcade
DESCRIPTION:Level up your night! The School of Rock House and Adult Bands are hitting the stage at 1 Up Arcade—live music\, retro games\, and unbeatable vibes. Don’t miss it!\n\n\nFarmington\, Michigan
URL:https://funinfarmington.com/event/school-of-rock-adult-and-house-bands-at-1up-arcade/
LOCATION:1Up Arcade Bar\, 33316 Grand River Ave\, Farmington\, Michigan\, 48336
CATEGORIES:Music
END:VEVENT
BEGIN:VEVENT
DTSTART;TZID=UTC:20251025T180000
DTEND;TZID=UTC:20251025T180000
DTSTAMP:20260426T002516
CREATED:20250930T212115Z
LAST-MODIFIED:20250930T212122Z
UID:10017799-1761415200-1761415200@funinfarmington.com
SUMMARY:Thrill the World Farmington
DESCRIPTION:Thrill The World is a global dance event where people around the world perform Michael Jackson’s iconic dance for Thriller.  If you don’t know the dance\, come out to Riley Park and learn it with Sarah Davies on select Monday and Thursday nights. If you can’t make the workshops then you can find instructions here. \nThen on October 25th\, at 6:00 pm we will gather at Riley Park and perform the dance with other groups around the world.  Whether you’re a seasoned dancer or have two left (undead) feet\, everyone is welcome! Zombie attire strongly encouraged.  If you have questions email sarahmariedavies@gmail.com.
URL:https://funinfarmington.com/event/thrilll-the-world-farmington/
LOCATION:Downtown Farmington\, Grand River Ave and Farmington Rd\, Farmington\, Michigan\, 48335
CATEGORIES:Dance,Special Event
ATTACH;FMTTYPE=image/jpeg:https://funinfarmington.com/wp-content/uploads/2025/09/TtW-Poster-scaled.jpg
END:VEVENT
BEGIN:VEVENT
DTSTART;TZID=UTC:20251025T180000
DTEND;TZID=UTC:20251025T180000
DTSTAMP:20260426T002516
CREATED:20251002T150946Z
LAST-MODIFIED:20251002T150946Z
UID:10017819-1761415200-1761415200@funinfarmington.com
SUMMARY:Thrill the World Farmington
DESCRIPTION:Join the undead for one epic\, synchronized dance!\nThrill the World is a global dance event where people around the world perform Michael Jackson’s iconic “Thriller” at the exact same time. Dressed as zombies\, ghouls\, and creatures of the night\, participants of all ages come together to celebrate music\, movement\, and community — with a spooky twist!\n🎶 Whether you’re a seasoned dancer or have two left (undead) feet\, everyone is welcome! We’ll provide free dance workshops leading up to the big performance\, so you can learn the moves and thrill with the best of them.\nWorkshops: September 25\, Sept 29\, October 6\, October 9\, October 13\, October 16\, and October 20th\nTime: 6:30-7:30\nPlace: Riley Park\nIf you can’t make it feel free to follow the choreography at https://thrilltheworld.com/choreography\n🗓️ Date of Performance: October 25\, 6:00 pm\n📍 Location: Downtown Farmington\n🧟‍♀️ Zombie Attire Encouraged!\n🎥 Be part of a worldwide event and maybe even break a world record!\nLet’s rise from the grave and dance like everyone’s watching.\nIt’s scary fun — and totally unforgettable!
URL:https://funinfarmington.com/event/thrill-the-world-farmington/
LOCATION:Riley Park\, 33113 Grand River Ave\, Farmington\, Michigan\, 48335
CATEGORIES:Dance,Special Event
END:VEVENT
BEGIN:VEVENT
DTSTART;TZID=UTC:20251025T180000
DTEND;TZID=UTC:20251025T235900
DTSTAMP:20260426T002516
CREATED:20250930T212129Z
LAST-MODIFIED:20250930T212129Z
UID:10017798-1761415200-1761436740@funinfarmington.com
SUMMARY:Hollywood Haunt Bar Crawl
DESCRIPTION:Get ready to take on the spookiest\, most glamorous night of the year—Hollywood Haunt!\nDress as your favorite movie star\, character\, or get creative with your costume and join us for\na night of bar-hopping\, shopping\, and fun in Downtown Farmington!
URL:https://funinfarmington.com/event/hollywood-haunt-bar-crawl/
LOCATION:Downtown Farmington\, Grand River Ave and Farmington Rd\, Farmington\, Michigan\, 48335
CATEGORIES:Holiday
END:VEVENT
BEGIN:VEVENT
DTSTART;TZID=UTC:20251025T184500
DTEND;TZID=UTC:20251025T184500
DTSTAMP:20260426T002516
CREATED:20250930T212109Z
LAST-MODIFIED:20250930T212109Z
UID:10017800-1761417900-1761417900@funinfarmington.com
SUMMARY:Paranormal Investigation at GLP Financial - REGISTRATION REQUIRED
DESCRIPTION:Library events are always free to the public and you do not need a library card to attend!  \nThis event will take place at GLP Financial Group at 33335 Grand River Ave\, Farmington\, MI 48336. The building is within walking distance of the FCL Farmington location (23500 Liberty St.). \nRegistration is required. \nJoin us for some spooky fun as we conduct a paranormal investigation of the library or GLP Financial Group building after-hours with Motor City Ghost Hunters! We will investigate in groups using various paranormal tools.  \nThe GLP Financial Group building was once known as the Farmington State Savings Bank (which opened in 1922). Per the Oakland Press\, a bank robbery occurred there in 1924\, where robbers stole approximately $20\,000 in cash & real-estate bonds and they were never caught! (Source: Zinkosky\, P.A. (2021). https://www.theoaklandpress.com/2021/12/20/investment-firm-plans-its-future-in-historic-bank-building/?share=dopvtossoeapbh0tppud \nThank you to GLP Financial Group for allowing this program at their facility. \nDisclaimer(s)\nTo request ADA accommodations\, such as wheelchair access or sign language interpretation\, please complete the Accommodation Request Form at least 10 days before the event. \nThis event is intended for adults 18+ \nPlease note: this is an after-hours event. For everyone’s safety\, please arrive at the scheduled time.
URL:https://funinfarmington.com/event/paranormal-investigation-at-glp-financial-registration-required/
LOCATION:GLP Financial\, 33335 Grand River Ave\, Farmington\, Michigan\, 48336
CATEGORIES:Holiday
END:VEVENT
BEGIN:VEVENT
DTSTART;TZID=UTC:20251025T190000
DTEND;TZID=UTC:20251025T190000
DTSTAMP:20260426T002516
CREATED:20251020T020243Z
LAST-MODIFIED:20251020T020243Z
UID:10017857-1761418800-1761418800@funinfarmington.com
SUMMARY:Mulligan's Halloween Party
DESCRIPTION:The ghosts are out\, the lights are low\, and the bar’s ready to glow! \nMulligan’s Halloween Party is coming — and it’s going to be a MONSTER night! Best Costume • Wicked Drink Specials • DJ & Dancing • Late-Night FoodTag your crew and get ready to haunt the night away!
URL:https://funinfarmington.com/event/mulligans-halloween-party/
LOCATION:Mulligan’s Pub & Grub\, 27406 Eight Mile\, Farmington Hills\, Michigan\, 48336
CATEGORIES:Holiday
END:VEVENT
BEGIN:VEVENT
DTSTART;TZID=UTC:20251025T200000
DTEND;TZID=UTC:20251025T200000
DTSTAMP:20260426T002516
CREATED:20251012T183141Z
LAST-MODIFIED:20251012T183141Z
UID:10017842-1761422400-1761422400@funinfarmington.com
SUMMARY:Monster Mash Halloween Party at Basement Burger Bar
DESCRIPTION:Monster Mash is back at Basement Burger Bar in Farmington! \nWe’re throwing a costume party with spooky drink specials like Witch’s Brew\, Vampire Blood\, and Type A Positive.
URL:https://funinfarmington.com/event/monster-mash-halloween-party-at-basement-burger-bar/
LOCATION:Basement Burger Bar\, 33316 Grand River Ave\, Farmington\, MI\, 48336\, United States
CATEGORIES:Holiday
END:VEVENT
END:VCALENDAR