BEGIN:VCALENDAR
VERSION:2.0
PRODID:-//Fun in Farmington - ECPv6.15.20//NONSGML v1.0//EN
CALSCALE:GREGORIAN
METHOD:PUBLISH
X-ORIGINAL-URL:https://funinfarmington.com
X-WR-CALDESC:Events for Fun in Farmington
REFRESH-INTERVAL;VALUE=DURATION:PT1H
X-Robots-Tag:noindex
X-PUBLISHED-TTL:PT1H
BEGIN:VTIMEZONE
TZID:UTC
BEGIN:STANDARD
TZOFFSETFROM:+0000
TZOFFSETTO:+0000
TZNAME:UTC
DTSTART:20240101T000000
END:STANDARD
END:VTIMEZONE
BEGIN:VEVENT
DTSTART;TZID=UTC:20251031T140000
DTEND;TZID=UTC:20251031T150000
DTSTAMP:20260425T171733
CREATED:20250904T183311Z
LAST-MODIFIED:20250904T183311Z
UID:10017090-1761919200-1761922800@funinfarmington.com
SUMMARY:Halloween Parade for Families (All Ages) at Library (FH)
DESCRIPTION:Event Details\n\nLibrary events are always free to the public and you do not need a library card to attend!  \nThe Farmington Community Library has two locations. This event will be held in the Auditorium at the FCL Farmington Hills location at 32737 W. 12 Mile Rd.\, Farmington Hills\, MI\, 48334.  \nNo registration is required. \nFamilies with kids—come dressed in your costumes and join us for a story and songs\, followed by a costume parade around the Library! Candy will be available while supplies last. \n\nDisclaimer(s)\n\n\n\nAccompanying Adults\n\nThis program is designed for children and accompanying adults. Please plan to attend and be engaged with your child for this program. Drop offs will not be permitted.
URL:https://funinfarmington.com/event/halloween-parade-for-families-all-ages-at-library-fh/
LOCATION:Farmington Community Library – Farmington Hills Location\, 32737 W. 12 Mile Rd.\, Farmington Hills\, Michigan\, 48334
CATEGORIES:Holiday,Kids & Families
END:VEVENT
BEGIN:VEVENT
DTSTART;TZID=UTC:20251031T173000
DTEND;TZID=UTC:20251031T193000
DTSTAMP:20260425T171733
CREATED:20250925T192656Z
LAST-MODIFIED:20250925T192656Z
UID:10017670-1761931800-1761939000@funinfarmington.com
SUMMARY:Hayride Central
DESCRIPTION:Enjoy family hayrides through the trails of Heritage Park! Rides leave every 1/2 hour from 5:30-7:30pm: LAST RIDE LEAVES AT 7pm. After the ride\, purchase a cup of cider and s’more kit to roast around a cozy campfire for $1 (not included in hayride fee). You can add-on your s’more and cider kit online at check-out\, includes a roasting stick. Don’t forget to explore the Nature Center\, open until 7pm on Hayride nights.\nHayrides leave from the Nature Center parking lot. Check-in with Nature Center Staff near the campfire upon arrival.\nHayride are held RAIN OR SHINE. Dress accordingly. If SEVERE weather occurs\, the ride will be cancelled and participants will be notified the day-of with an option to transfer\, if available. Please register in advance\, hayrides fill quickly\, and space is limited. No charge for kids under age 2.\nGroups can reserve weekday or weekend private rides in advance by calling (248)473-1870.\nRegister here: https://tinyurl.com/hayridecentral24\nActivity Code: PN1215Age: AllCost: $5 per person
URL:https://funinfarmington.com/event/hayride-central/2025-10-31/
LOCATION:Heritage Park\, 24915 Farmington Rd\, Farmington Hills\, MI\, 48336\, United States
CATEGORIES:Kids & Families
END:VEVENT
BEGIN:VEVENT
DTSTART;TZID=UTC:20251031T200000
DTEND;TZID=UTC:20251031T235900
DTSTAMP:20260425T171733
CREATED:20251012T182853Z
LAST-MODIFIED:20251012T182913Z
UID:10017841-1761940800-1761955140@funinfarmington.com
SUMMARY:Boos & Booze at Grand Tavern
DESCRIPTION:Halloween Party\nCostume Competition\nGames/Giveaways\nCreepy Cocktails
URL:https://funinfarmington.com/event/boos-booze-at-grand-tavern/
LOCATION:Grand Tavern\, 35450 Grand River Ave\, Farmington\, Michigan\, 48335
CATEGORIES:Holiday
END:VEVENT
END:VCALENDAR