BEGIN:VCALENDAR
VERSION:2.0
PRODID:-//Fun in Farmington - ECPv6.15.20//NONSGML v1.0//EN
CALSCALE:GREGORIAN
METHOD:PUBLISH
X-ORIGINAL-URL:https://funinfarmington.com
X-WR-CALDESC:Events for Fun in Farmington
REFRESH-INTERVAL;VALUE=DURATION:PT1H
X-Robots-Tag:noindex
X-PUBLISHED-TTL:PT1H
BEGIN:VTIMEZONE
TZID:UTC
BEGIN:STANDARD
TZOFFSETFROM:+0000
TZOFFSETTO:+0000
TZNAME:UTC
DTSTART:20240101T000000
END:STANDARD
END:VTIMEZONE
BEGIN:VEVENT
DTSTART;TZID=UTC:20251121T100000
DTEND;TZID=UTC:20251121T100000
DTSTAMP:20260426T003022
CREATED:20251120T165115Z
LAST-MODIFIED:20251120T165115Z
UID:10018351-1763719200-1763719200@funinfarmington.com
SUMMARY:Pink Friday at Apricot Lane
DESCRIPTION:Join us this Friday\, November 21st\, as we celebrate Pink Friday at Apricot Lane Farmington \nPink Friday is all about uplifting small businesses and bringing our community together\, and we’ve curated a full experience for you to enjoy throughout the day.\nHere’s what you can look forward to:• Sweets & Sips while you browse• Eyebrow Shaping with Aimee\, special Pink Friday price from 10am to 1pm• Mystery Box with your purchase• Beautiful new arrivals to explore in store\nWe invite you to stop by\, spend the day with us\, and discover what makes shopping small in Downtown Farmington so special!\nYour support means everything\, we can’t wait to see you!
URL:https://funinfarmington.com/event/pink-friday-at-apricot-lane/
LOCATION:Apricot Lane\, 33250 Grand River Ave\, Farmington\, Michigan\, 48336
CATEGORIES:Shopping
END:VEVENT
BEGIN:VEVENT
DTSTART;TZID=UTC:20251121T160000
DTEND;TZID=UTC:20251121T170000
DTSTAMP:20260426T003022
CREATED:20250904T160834Z
LAST-MODIFIED:20250904T160834Z
UID:10016907-1763740800-1763744400@funinfarmington.com
SUMMARY:Coding Lab for Kids! (Grades 3-5) at Library (Farmington)
DESCRIPTION:Library events are always free to the public!  \nThe Farmington Community Library has two locations. This event will be held in the Meeting Room at the FCL Farmington location at 23500 Liberty St.\, Farmington\, MI 48335.  \nRegistration is not required.  \nEvery 3rd Friday from September to December\, you can get together with friends in an open lab session and jump into the fun world of coding. \nLearn how to code with FCL’s Fiero Code program! \nEvery 3rd Friday from September to December\, get together with friends in an open lab session and jump into the fun world of coding. Learn at your own pace or work together on different projects\, like designing a website\, programming a dancing robot\, or designing video games! \nIf you don’t have a Fiero Code account yet\, we can help you set one up. You’ll need an email address. If you have a Farmington Community Library card\, please have your card number and PIN with you. If you don’t have an FCL card\, no problem—staff can still help you get started. \nParticipants can either bring their own laptops or use one of the library’s laptops. Laptops are limited\, so we encourage participants to share with a friend. \nFunding is provided by the Bosch Community Fund.
URL:https://funinfarmington.com/event/coding-lab-for-kids-grades-3-5-at-library-farmington/2025-11-21/
LOCATION:Farmington Community Library – Farmington Location\, 23500 Liberty St.\, Farmington\, Michigan\, 48335
CATEGORIES:Kids & Families
END:VEVENT
BEGIN:VEVENT
DTSTART;TZID=UTC:20251121T160000
DTEND;TZID=UTC:20251121T170000
DTSTAMP:20260426T003022
CREATED:20251120T174615Z
LAST-MODIFIED:20251120T174615Z
UID:10018356-1763740800-1763744400@funinfarmington.com
SUMMARY:FCL Coding Lab for Kids! (Grades 3-5) at Library (Farmington Location)
DESCRIPTION:Library events are always free to the public!  \nThe Farmington Community Library has two locations. This event will be held in the Meeting Room at the FCL Farmington location at 23500 Liberty St.\, Farmington\, MI 48335.  \nRegistration is not required.  \nEvery 3rd Friday from September to December\, you can get together with friends in an open lab session and jump into the fun world of coding. \nLearn how to code with FCL’s Fiero Code program! \nEvery 3rd Friday from September to December\, get together with friends in an open lab session and jump into the fun world of coding. Learn at your own pace or work together on different projects\, like designing a website\, programming a dancing robot\, or designing video games! \nIf you don’t have a Fiero Code account yet\, we can help you set one up. You’ll need an email address. If you have a Farmington Community Library card\, please have your card number and PIN with you. If you don’t have an FCL card\, no problem—staff can still help you get started. \nParticipants can either bring their own laptops or use one of the library’s laptops. Laptops are limited\, so we encourage participants to share with a friend. \nFunding is provided by the Bosch Community Fund.
URL:https://funinfarmington.com/event/fcl-coding-lab-for-kids-grades-3-5-at-library-farmington-location/2025-11-21/
LOCATION:Farmington Community Library – Farmington Location\, 23500 Liberty St.\, Farmington\, Michigan\, 48335
CATEGORIES:Kids & Families
END:VEVENT
BEGIN:VEVENT
DTSTART;TZID=UTC:20251121T170000
DTEND;TZID=UTC:20251121T190000
DTSTAMP:20260426T003022
CREATED:20250603T161908Z
LAST-MODIFIED:20250603T162132Z
UID:10016549-1763744400-1763751600@funinfarmington.com
SUMMARY:Silent Book Club at Road Less Traveled Books
DESCRIPTION:Welcome to Introvert Happy Hour! \n\n\nJoin us at one of our favorite local indie bookshops\, Road Less Traveled Books. Whether you’re a regular or new to the group\, this is the perfect opportunity to enjoy some quiet reading time\, connect with fellow introverts\, and explore an incredible selection of books. Who knows? You might find your next favorite read to add to your #TBR stack! \n\n\nSchedule:5–6 PM: Silent reading time6–7 PM: Introvert-friendly social hour \n\nBring your current read (and maybe a little spending money\, just in case!) and settle in for an evening of cozy vibes\, community\, and good books.\nWe can’t wait to see you there!
URL:https://funinfarmington.com/event/silent-book-club-at-road-less-traveled-books/2025-11-21/
LOCATION:Road Less Traveled Books\, 33300 Thomas St\, Farmington\, Michigan\, 48336
CATEGORIES:Book Club,Shopping
END:VEVENT
BEGIN:VEVENT
DTSTART;TZID=UTC:20251121T170000
DTEND;TZID=UTC:20251121T200000
DTSTAMP:20260426T003022
CREATED:20251120T164916Z
LAST-MODIFIED:20251120T164916Z
UID:10018350-1763744400-1763755200@funinfarmington.com
SUMMARY:Opening Reception for "Portraiture\, Real & Imagined Real" Exhibition at KickstART
DESCRIPTION:Join us to celebrate the opening of the new exhibition\, Portraiture\, Real & Imagined Real\, featuring art by Richard Halprin\, Gary Mayer\, and Mary Brooks.\nView the art\, and enjoy refreshments and good conversation.\nThis exhibition is made possible by the support of Artpack Services Inc. and GLP Financial Group.
URL:https://funinfarmington.com/event/opening-reception-for-portraiture-real-imagined-real-exhibition-at-kickstart/
LOCATION:KickstART Gallery\, 23616 Farmington Rd\,\, Farmington\, Michigan\, 48335
CATEGORIES:Art
END:VEVENT
BEGIN:VEVENT
DTSTART;TZID=UTC:20251121T180000
DTEND;TZID=UTC:20251121T210000
DTSTAMP:20260426T003022
CREATED:20251113T150941Z
LAST-MODIFIED:20251113T150941Z
UID:10018074-1763748000-1763758800@funinfarmington.com
SUMMARY:Embers + Energy: Honoring the Unseen Work
DESCRIPTION:So much of what we do goes unseen\, especially in the holiday season. The care\, the tending\, the holding. \nEmbers + Energy is a night to honor it all.\nA new moon gathering of rest\, warmth\, and renewal where we’ll pause to acknowledge the quiet work that keeps life flowing. \n🔥 Sauna by @sisumobilesauna\n🌙 Energy Reset by @tia.starshine\n📅 Friday\, Nov 21 | Farmington Hills
URL:https://funinfarmington.com/event/embers-energy-honoring-the-unseen-work/
LOCATION:Private Residence\, 33414 Oakland St\, Farmington\, Michigan\, 48335
ORGANIZER;CN="Starshine Lightwork":MAILTO:Starshinelightwork@gmail.com
END:VEVENT
BEGIN:VEVENT
DTSTART;TZID=UTC:20251121T190000
DTEND;TZID=UTC:20251121T190000
DTSTAMP:20260426T003022
CREATED:20251120T165648Z
LAST-MODIFIED:20251120T165648Z
UID:10018354-1763751600-1763751600@funinfarmington.com
SUMMARY:Jim Bizer in Concert at The Hawk
DESCRIPTION:Jim Bizer \nFriday\, November 21st\, 2025\, – 7:00pm \nBlack Box Theatre \nA lifelong musician\, Jim has been performing live since the age of fourteen. His songs have won national songwriting awards. Raised in Detroit-metro\, Jim spent his high school years in the City of Farmington Hills attending North Farmington High School. The Cultural Arts Division is excited to welcome Jim to the Black Box Theatre this fall to kick off our Acoustic Concert Series.
URL:https://funinfarmington.com/event/jim-bizer-in-concert-at-the-hawk/
LOCATION:The Hawk Community Center\, 29995 W 12 Mile Rd\, Farmington Hills\, Michigan\, 48334
CATEGORIES:Concert
END:VEVENT
END:VCALENDAR