BEGIN:VCALENDAR
VERSION:2.0
PRODID:-//Fun in Farmington - ECPv6.15.20//NONSGML v1.0//EN
CALSCALE:GREGORIAN
METHOD:PUBLISH
X-WR-CALNAME:Fun in Farmington
X-ORIGINAL-URL:https://funinfarmington.com
X-WR-CALDESC:Events for Fun in Farmington
REFRESH-INTERVAL;VALUE=DURATION:PT1H
X-Robots-Tag:noindex
X-PUBLISHED-TTL:PT1H
BEGIN:VTIMEZONE
TZID:UTC
BEGIN:STANDARD
TZOFFSETFROM:+0000
TZOFFSETTO:+0000
TZNAME:UTC
DTSTART:20240101T000000
END:STANDARD
END:VTIMEZONE
BEGIN:VEVENT
DTSTART;TZID=UTC:20251202T173000
DTEND;TZID=UTC:20251202T200000
DTSTAMP:20260422T161754
CREATED:20251201T151752Z
LAST-MODIFIED:20251201T151752Z
UID:10018370-1764696600-1764705600@funinfarmington.com
SUMMARY:Casual Euchre at Peterlins
DESCRIPTION:Support the Restaurant: Enjoy dinner at Euchre and earn an extra 10 points! If you can\, kindly support Darby Connections with a donation here [ https://darbyconnections.com/public_products ].\nEntry & Prizes: No entry fee required. Weekly highest scorers get a prize and there’s a grand prize for the monthly champion.\nFlexible Timing: Arrive any time you prefer. Most guests come early for dinner in peace\, while others join later. Leave at your own convenience.\nNew to Euchre? No problem! Watch these “How to Play Euchre” videos [ https://darbyconnections.com/categories/21 ]. Install the Trickster Cards app [ https://www.trickstercards.com/ ] on your phone and set up an account (see our signup instructions here [ https://darbyconnections.com/articles/50 ]). It’s great for practice and for instances when we have an uneven number of players.\nHow to Participate:\nCreate an account on DarbyConnections.com by Texting “Settings” to 248-975-7512 or Calling it.\nGo to the Events [ https://darbyconnections.com/public_events ] and adjust your RSVP.\nInvite your Friends!\nShow up! No need for weekly commitments or playing all evening. Typically\, we play 6-8 games each night.\nGame Rules & Format:\nOur Euchre Rules: See Darby Connections House Euchre Rules [ https://darbyconnections.com/articles/614 ]\nScoring: Everyone deals twice each game. Can have more then 10 points. Four points for Euchres and Reneges on Loners. Your weekly score is the sum of your top five games. Monthly score is based on your top ten games.\nWinning: Daily high-scorers win a prize. Tie-breakers favor the player with the highest hand. Must be present to win.\nGameplay: Change partners after each game. Each player deals twice. Screw the Dealer. No game starts post 8:30 pm.\nAdditional Rules:\nNo table talk regarding the current hand. Talk your heads off about everything else. THIS IS A SOCIAL EVENT! Keep games brisk.\nDon’t be a jerk!\nHave fun!\nImportant Notes:\nRegister to help us manage seating and scoring.\nLogged-in users can view scores on the event page.\nWe communicate via text for seat assignments and score updates.\nWe look forward to seeing you and hope you have a great time!
URL:https://funinfarmington.com/event/casual-euchre-at-peterlins/
LOCATION:Peterlin’s Restaurant & Bar\, 22004 Farmington Rd\, Farmington\, Michigan\, 48336
CATEGORIES:Games
END:VEVENT
BEGIN:VEVENT
DTSTART;TZID=UTC:20251202T180000
DTEND;TZID=UTC:20251202T200000
DTSTAMP:20260422T161754
CREATED:20250603T155926Z
LAST-MODIFIED:20250603T155926Z
UID:10016526-1764698400-1764705600@funinfarmington.com
SUMMARY:Silent Book Club at Blue Hat
DESCRIPTION:Welcome to Introvert Happy Hour! \n\n\nWe’re heading back to where it all began—Blue Hat Coffee\, a beloved favorite and the cozy birthplace of our Silent Book Club. Whether you’re new or one of our original members\, this is the perfect chance to settle in with your current read and enjoy the relaxed\, welcoming vibe that started it all. \n\nSchedule:6–7 PM: Quiet reading time7–8 PM: Introvert-friendly social hour \n\nBring your book\, grab a warm drink\, and join us for an evening of quiet connection and community. Let’s celebrate the joy of reading together in this special spot.\nWe can’t wait to see you!
URL:https://funinfarmington.com/event/silent-book-club-at-blue-hat/2025-12-02/
LOCATION:Blue Hat Coffee\, 23715 Farmington Rd.\, Farmington\, Michigan\, 48336
CATEGORIES:Book Club
END:VEVENT
BEGIN:VEVENT
DTSTART;TZID=UTC:20251202T183000
DTEND;TZID=UTC:20251202T200000
DTSTAMP:20260422T161754
CREATED:20251120T163026Z
LAST-MODIFIED:20251120T163026Z
UID:10018348-1764700200-1764705600@funinfarmington.com
SUMMARY:33rd Annual Holiday Lights Ceremony at FH City Hall
DESCRIPTION:The City of Farmington Hills is ready to welcome the holiday season with the community at the 33rd Annual Holiday Lights Ceremony on Tuesday\, Dec. 2. During the event\, the City will light the trees at City Hall\, as well as a 20-foot candle at the corner of Eleven Mile and Orchard Lake Roads to symbolize the City’s commitment to peace and unity. \nThe Farmington High School Vocal Harmonics will perform seasonal songs\, and Santa will arrive with the help of the Farmington Hills Fire Department. Following the ceremony\, community members can enjoy free cookies and hot cocoa\, while visiting with Santa inside Fire Station #5 on the campus of City Hall.
URL:https://funinfarmington.com/event/33rd-annual-holiday-lights-ceremony-at-fh-city-hall/
LOCATION:Farmington Hills City Hall\, 31555 W 11 Mile Rd\, Farmington Hills\, Michigan\, 48336
CATEGORIES:Holiday,Special Event
END:VEVENT
BEGIN:VEVENT
DTSTART;TZID=UTC:20251202T190000
DTEND;TZID=UTC:20251202T203000
DTSTAMP:20260422T161754
CREATED:20251201T151526Z
LAST-MODIFIED:20251201T151526Z
UID:10018369-1764702000-1764707400@funinfarmington.com
SUMMARY:Sisters in Rhythm Drum Circle with Asia Sikkila
DESCRIPTION:Sisters in Rhythm Drum Circle with Asia Sikkila\nTickets: $25.00\nSisters in Rhythm Drum Circle is a gathering for women to explore the power of rhythm and connect through the heartbeat of the drum. Whether you’re a seasoned drummer or just curious to explore\, this is a space to connect\, express\, and celebrate!”\nBy playing the drums\, we honor our most instinctual language of rhythm and let the drum guide us into deeper connection with ourselves and each other. The rhythms bring us back to the primordial self… she who remembers.\nWe will explore rhythms inspired by the heartbeat\, and from cultures around the world. West African djembes and dun duns\, frame drums\, congas\, shakers\, and bells will be available.\n* Bring your own instrument if you have one\, or use one of ours. And most importantly\, bring an open heart and a willingness to let the rhythm move you.\n* Held on the first and third Tuesday of each month from 7:00 to 8:30 PM\, this circle offers a supportive and uplifting environment to share in the energy of sisterhood and the magic of collective rhythm.\nFor more information on Asia Sikkila visit here website here: Asia.Sikkila.com
URL:https://funinfarmington.com/event/sisters-in-rhythm-drum-circle-with-asia-sikkila/
LOCATION:CenterPeace\, 33750 Freedom Road\, Farmington\, MI\, 48335
CATEGORIES:Wellness
END:VEVENT
END:VCALENDAR