BEGIN:VCALENDAR
VERSION:2.0
PRODID:-//Fun in Farmington - ECPv6.15.20//NONSGML v1.0//EN
CALSCALE:GREGORIAN
METHOD:PUBLISH
X-ORIGINAL-URL:https://funinfarmington.com
X-WR-CALDESC:Events for Fun in Farmington
REFRESH-INTERVAL;VALUE=DURATION:PT1H
X-Robots-Tag:noindex
X-PUBLISHED-TTL:PT1H
BEGIN:VTIMEZONE
TZID:UTC
BEGIN:STANDARD
TZOFFSETFROM:+0000
TZOFFSETTO:+0000
TZNAME:UTC
DTSTART:20240101T000000
END:STANDARD
END:VTIMEZONE
BEGIN:VEVENT
DTSTART;TZID=UTC:20251204T114500
DTEND;TZID=UTC:20251204T124500
DTSTAMP:20260420T052621
CREATED:20251201T152659Z
LAST-MODIFIED:20251201T152659Z
UID:10018377-1764848700-1764852300@funinfarmington.com
SUMMARY:Advent Lunchbreak Yoga at Nardin Park Church
DESCRIPTION:If just thinking about this Christmas season makes you feel anxious: let yourself sink into these seven special practices of peace.\nStarting December 1\, we’ll be hosting a special Advent series at our Farmington Hills locations\, with each class offering:\nGentle Yoga\nScriptural Meditation\nRelaxing Christmas Hymns\nBreath Prayer & Aromatherapy\nIf you’re currently a Fall Season Pass-holder\, this series is already included in your package! If you’re new and would like to attend\, each class will be $15; or just $75 for the entire month of December (two classes free).\nStart thinking of who you’d like to invite\, and let’s look forward to a beautiful\, relaxing and meaningful Advent together!\nClass is offered simultaneously on Zoom\, and by Zoom replay video.
URL:https://funinfarmington.com/event/advent-lunchbreak-yoga-at-nardin-park-church/2025-12-04/
LOCATION:Nardin Park Church\, 29887 W 11 Mile Rd\, Farmington Hills\, Michigan\, 48336
CATEGORIES:Spiritual,Yoga
END:VEVENT
BEGIN:VEVENT
DTSTART;TZID=UTC:20251204T170000
DTEND;TZID=UTC:20251204T170000
DTSTAMP:20260420T052621
CREATED:20251201T151946Z
LAST-MODIFIED:20251201T151946Z
UID:10018371-1764867600-1764867600@funinfarmington.com
SUMMARY:Holiday Sip & Shop
DESCRIPTION:Get into the holiday spirit at the Mercy Mothers’ Club Sip & Shop! This festive evening is the perfect opportunity to browse unique gifts\, support local vendors\, and enjoy time with the Mercy community. The event is open to the public.\nVendor OpportunitiesIf you or a vendor you know may be interested in participating in our event\, please sign up here: https://mhsmi.org/…/mmc-sip-and-shop-vendor-registration
URL:https://funinfarmington.com/event/holiday-sip-shop/
LOCATION:Mercy High School\, 29300 W 11 Mile Rd\, Farmington Hills\, Michigan\, 48336
CATEGORIES:Shopping
END:VEVENT
END:VCALENDAR