BEGIN:VCALENDAR
VERSION:2.0
PRODID:-//Fun in Farmington - ECPv6.15.20//NONSGML v1.0//EN
CALSCALE:GREGORIAN
METHOD:PUBLISH
X-WR-CALNAME:Fun in Farmington
X-ORIGINAL-URL:https://funinfarmington.com
X-WR-CALDESC:Events for Fun in Farmington
REFRESH-INTERVAL;VALUE=DURATION:PT1H
X-Robots-Tag:noindex
X-PUBLISHED-TTL:PT1H
BEGIN:VTIMEZONE
TZID:UTC
BEGIN:STANDARD
TZOFFSETFROM:+0000
TZOFFSETTO:+0000
TZNAME:UTC
DTSTART:20240101T000000
END:STANDARD
END:VTIMEZONE
BEGIN:VEVENT
DTSTART;TZID=UTC:20251205T110000
DTEND;TZID=UTC:20251205T120000
DTSTAMP:20260419T193747
CREATED:20251204T170038Z
LAST-MODIFIED:20251204T170038Z
UID:10018387-1764932400-1764936000@funinfarmington.com
SUMMARY:Play Date at Nature Center
DESCRIPTION:Join The Farmington Area Mothers’ Club for a morning play date at the Farmington Hills Heritage Park Nature Center! Please let us know via Facebook Event if you are coming so we know to look for you!
URL:https://funinfarmington.com/event/play-date-at-nature-center/
LOCATION:Farmington Hills Nature Center\, 24915 Farmington Rd\, Farmington Hills\, MI\, 48336
CATEGORIES:Moms
END:VEVENT
BEGIN:VEVENT
DTSTART;TZID=UTC:20251205T173000
DTEND;TZID=UTC:20251205T200000
DTSTAMP:20260419T193747
CREATED:20251204T170810Z
LAST-MODIFIED:20251204T170821Z
UID:10018388-1764955800-1764964800@funinfarmington.com
SUMMARY:Jingle & Mingle Family Night at Farmer Johns
DESCRIPTION:– JOIN US FOR A SPECIAL SHOPPING EXPERIENCE FOR THE WHOLE FAMILY –\nFriday\, 5TH of December\, Starts at 5:30pm\nEvent Exclusive Sales • Live Music • Local Artisan Vendors • Complimentary Food\, Refreshments & More!\n$10 Entry fee at the door\nEvery ticket sale will be benefitting st. Jude Children’s Research Hospital
URL:https://funinfarmington.com/event/jingle-mingle-family-night-at-farmer-johns/
LOCATION:Farmers John’s Home & Garden\, 26950 Haggerty Rd\, Farmington Hills\, Michigan\, 48331
CATEGORIES:Holiday,Kids & Families,Shopping
END:VEVENT
BEGIN:VEVENT
DTSTART;TZID=UTC:20251205T180000
DTEND;TZID=UTC:20251205T200000
DTSTAMP:20260419T193747
CREATED:20251204T165715Z
LAST-MODIFIED:20251204T165715Z
UID:10018385-1764957600-1764964800@funinfarmington.com
SUMMARY:December First Friday at Skep Space
DESCRIPTION:Happy December\, Busy Bees! It’s time to follow all the buzzz to First Friday at Skep Space! This Friday\, we will nosh and mingle and appreciate and invest in art and artists! Our December featured artists are Mistique Ott and Stacey Malasky. Our featured writer is Debra Ann Pawlak. Lovingly sting your buds and fam with your enthusiasm and let’s First Friday!
URL:https://funinfarmington.com/event/december-first-friday-at-skep-space/
LOCATION:Skep Space\, 33018 Grand River Ave\, Farmington Hills\, Michigan\, 48336
CATEGORIES:Art
END:VEVENT
BEGIN:VEVENT
DTSTART;TZID=UTC:20251205T180000
DTEND;TZID=UTC:20251205T200000
DTSTAMP:20260419T193747
CREATED:20251204T173658Z
LAST-MODIFIED:20251204T173658Z
UID:10018392-1764957600-1764964800@funinfarmington.com
SUMMARY:Sip and Sew Holiday Purse Making Party at TI-STAF
DESCRIPTION:It’s back on popular demandThe next SIP SNS SEW PARTYDecember 5th from 6pm to 8pm\nYou will be making a holiday purseAll supplies are provided.No sewing experience is needed.Spots are limitedSign up todaywww.ti-staf.com
URL:https://funinfarmington.com/event/sip-and-sew-holiday-purse-making-party-at-ti-staf/
LOCATION:TI-STAF\, 23399 Commerce Drive\, Suite B-7\, Farmington Hills\, Michigan\, 48335
CATEGORIES:Crafting
END:VEVENT
BEGIN:VEVENT
DTSTART;TZID=UTC:20251205T180000
DTEND;TZID=UTC:20251205T210000
DTSTAMP:20260419T193747
CREATED:20250904T184308Z
LAST-MODIFIED:20250904T184308Z
UID:10017096-1764957600-1764968400@funinfarmington.com
SUMMARY:Kids' Night (Ages 6-11) at The Hawk - REGISTRATION REQUIRED
DESCRIPTION:TGIF! Why hire a sitter? Parents can plan a special night out while kids get to enjoy a night in at the Hawk Community Center. Hawk Recreation Staff will plan and oversee activities for a fun-filled night\, including pizza party\, swimming\, giant inflatables and other fun activities. You do not need to be a passholder to participate. Emergency form must be filled out at check-in.\n*Participants will have supervised access to the pool and should BRING A SWIMSUIT AND TOWEL if they wish to participate in pool activities. Participants will also have supervised access to bouncers and should WEAR SOCKS if they wish to participate in bouncer activities.
URL:https://funinfarmington.com/event/kids-night-ages-6-11-at-the-hawk-registration-required/2025-12-05/
LOCATION:The Hawk Community Center\, 29995 W 12 Mile Rd\, Farmington Hills\, Michigan\, 48334
CATEGORIES:Kids & Families
END:VEVENT
BEGIN:VEVENT
DTSTART;TZID=UTC:20251205T190000
DTEND;TZID=UTC:20251205T190000
DTSTAMP:20260419T193747
CREATED:20251204T174024Z
LAST-MODIFIED:20251204T174024Z
UID:10018393-1764961200-1764961200@funinfarmington.com
SUMMARY:Scrooge! at The Hawk
DESCRIPTION:December 5-7\nTickets- $15 in advance\, $20 at the door\nFull-Length Musical\, Dramatic Comedy\nIn this timeless musical adaptation of Charles Dickens’ A Christmas Carol\, miserly Ebenezer Scrooge undergoes a profound experience of redemption over the course of a Christmas Eve night\, after being visited by the ghost of his former partner Jacob Marley and the ghosts of Christmas past\, present and future. Presented by the Farmington Hills Youth Theatre Broadway Stars program in conjunction with In The Mitten Productions.
URL:https://funinfarmington.com/event/scrooge-at-the-hawk/2025-12-05/
LOCATION:The Hawk Community Center\, 29995 W 12 Mile Rd\, Farmington Hills\, Michigan\, 48334
CATEGORIES:Holiday,Theater
END:VEVENT
BEGIN:VEVENT
DTSTART;TZID=UTC:20251205T200000
DTEND;TZID=UTC:20251205T213000
DTSTAMP:20260419T193747
CREATED:20251204T175049Z
LAST-MODIFIED:20251204T175049Z
UID:10018397-1764964800-1764970200@funinfarmington.com
SUMMARY:The Farmington Players Present: A Very Farmington Christmas
DESCRIPTION:A professional woman running in the fast lane of the big city corporate world journeys back to her small town on a mission for her boss. When she runs into a handsome acquaintance from high school\, she’s forced to evaluate her life and priorities. Hot cocoa\, light parades\, and romance collide. Hilarity ensues. A Very Farmington Christmas is a holiday movie parody that will make your season complete!\nRuntime: Approximately 1hr 30min with no intermission.Rated 13+
URL:https://funinfarmington.com/event/the-farmington-players-present-a-very-farmington-christmas/2025-12-05/
LOCATION:The Farmington Players Barn Theater\, 32332 West 12 Mile Road\, Farmington Hills\, Michigan\, 48334
CATEGORIES:Holiday,Theater
END:VEVENT
END:VCALENDAR