BEGIN:VCALENDAR
VERSION:2.0
PRODID:-//Fun in Farmington - ECPv6.15.20//NONSGML v1.0//EN
CALSCALE:GREGORIAN
METHOD:PUBLISH
X-WR-CALNAME:Fun in Farmington
X-ORIGINAL-URL:https://funinfarmington.com
X-WR-CALDESC:Events for Fun in Farmington
REFRESH-INTERVAL;VALUE=DURATION:PT1H
X-Robots-Tag:noindex
X-PUBLISHED-TTL:PT1H
BEGIN:VTIMEZONE
TZID:UTC
BEGIN:STANDARD
TZOFFSETFROM:+0000
TZOFFSETTO:+0000
TZNAME:UTC
DTSTART:20240101T000000
END:STANDARD
END:VTIMEZONE
BEGIN:VEVENT
DTSTART;TZID=UTC:20251211T114500
DTEND;TZID=UTC:20251211T124500
DTSTAMP:20260425T101855
CREATED:20251201T152659Z
LAST-MODIFIED:20251201T152659Z
UID:10018378-1765453500-1765457100@funinfarmington.com
SUMMARY:Advent Lunchbreak Yoga at Nardin Park Church
DESCRIPTION:If just thinking about this Christmas season makes you feel anxious: let yourself sink into these seven special practices of peace.\nStarting December 1\, we’ll be hosting a special Advent series at our Farmington Hills locations\, with each class offering:\nGentle Yoga\nScriptural Meditation\nRelaxing Christmas Hymns\nBreath Prayer & Aromatherapy\nIf you’re currently a Fall Season Pass-holder\, this series is already included in your package! If you’re new and would like to attend\, each class will be $15; or just $75 for the entire month of December (two classes free).\nStart thinking of who you’d like to invite\, and let’s look forward to a beautiful\, relaxing and meaningful Advent together!\nClass is offered simultaneously on Zoom\, and by Zoom replay video.
URL:https://funinfarmington.com/event/advent-lunchbreak-yoga-at-nardin-park-church/2025-12-11/
LOCATION:Nardin Park Church\, 29887 W 11 Mile Rd\, Farmington Hills\, Michigan\, 48336
CATEGORIES:Spiritual,Yoga
END:VEVENT
BEGIN:VEVENT
DTSTART;TZID=UTC:20251211T170000
DTEND;TZID=UTC:20251211T193000
DTSTAMP:20260425T101855
CREATED:20251208T154106Z
LAST-MODIFIED:20251208T154106Z
UID:10018410-1765472400-1765481400@funinfarmington.com
SUMMARY:Oh Deer\, Santa's Here!
DESCRIPTION:Santa is making a special stop at Heritage Park! Families will get a chance to visit and get photos with Santa at our holiday display in the historic Red Barn in Heritage Park. Be sure to bring your smart phone or camera so we can capture the moment for you. Families can participate in activity stations\, crafts\, and games that celebrate white-tailed deer and the winter season. Warm up at the cozy campfire with hot coca. \n\nS’mores kits can be purchased for $1 each. Dress for winter weather. The event will be held rain\, snow\, or shine. Each family will have limited time with Santa.\nRegister yourself and bring up to 5 people of your choice (adults & children). If you have more than 6 in your group\, please register for more than 1 spot. Pre-registration required. \n\nRegister here: https://tinyurl.com/fhncsantashere\nActivity Code: PN4000Age: ALLCost: $15 resident/ $20 non-resident
URL:https://funinfarmington.com/event/oh-deer-santas-here/2025-12-11/
LOCATION:Farmington Hills Nature Center\, 24915 Farmington Rd\, Farmington Hills\, MI\, 48336
CATEGORIES:Holiday,Kids & Families
END:VEVENT
BEGIN:VEVENT
DTSTART;TZID=UTC:20251211T173000
DTEND;TZID=UTC:20251211T173000
DTSTAMP:20260425T101855
CREATED:20251208T154338Z
LAST-MODIFIED:20251208T154338Z
UID:10018411-1765474200-1765474200@funinfarmington.com
SUMMARY:Light Up the Night
DESCRIPTION:~ Bring the whole family to enjoy the magic of our Christmas tree forest and holiday wonderland after dark in this exclusive\, one night only event! ~
URL:https://funinfarmington.com/event/light-up-the-night/
LOCATION:Farmers John’s Home & Garden\, 26950 Haggerty Rd\, Farmington Hills\, Michigan\, 48331
CATEGORIES:Holiday,Kids & Families
END:VEVENT
END:VCALENDAR