BEGIN:VCALENDAR
VERSION:2.0
PRODID:-//Fun in Farmington - ECPv6.15.20//NONSGML v1.0//EN
CALSCALE:GREGORIAN
METHOD:PUBLISH
X-WR-CALNAME:Fun in Farmington
X-ORIGINAL-URL:https://funinfarmington.com
X-WR-CALDESC:Events for Fun in Farmington
REFRESH-INTERVAL;VALUE=DURATION:PT1H
X-Robots-Tag:noindex
X-PUBLISHED-TTL:PT1H
BEGIN:VTIMEZONE
TZID:UTC
BEGIN:STANDARD
TZOFFSETFROM:+0000
TZOFFSETTO:+0000
TZNAME:UTC
DTSTART:20240101T000000
END:STANDARD
END:VTIMEZONE
BEGIN:VEVENT
DTSTART;TZID=UTC:20251214T110000
DTEND;TZID=UTC:20251214T130000
DTSTAMP:20260423T132800
CREATED:20251211T163634Z
LAST-MODIFIED:20251211T163634Z
UID:10018422-1765710000-1765717200@funinfarmington.com
SUMMARY:Santa is Coming to Town at Farmer John's
DESCRIPTION:Santa’s Coming to Town! Well\, Farmer John’s more specifically! Come see magic and get your photo with Santa Claus!
URL:https://funinfarmington.com/event/santa-is-coming-to-town-at-farmer-johns-2/
LOCATION:Farmers John’s Home & Garden\, 26950 Haggerty Rd\, Farmington Hills\, Michigan\, 48331
CATEGORIES:Holiday,Kids & Families
END:VEVENT
BEGIN:VEVENT
DTSTART;TZID=UTC:20251214T130000
DTEND;TZID=UTC:20251214T130000
DTSTAMP:20260423T132800
CREATED:20251211T163953Z
LAST-MODIFIED:20251211T163953Z
UID:10018423-1765717200-1765717200@funinfarmington.com
SUMMARY:Bethlehem Marketplace at Nardin Park Church
DESCRIPTION:Come and visit the Bethlehem Marketplace at Nardin Park UMC!Located outside\, there will be a living nativity with lambs\, baby goats\, a donkey\, a small horse\, AND an alpaca! When you are done visiting the animals\, venture into the Church\, where you will find yourself in the middle of downtown Bethlehem. Stop by the Bethlehem Café for a snack\, roll bread dough at the Bethlehem bakery\, stop by the Hebrew school to learn how to write in Hebrew\, create jewelry at Bethlehem Jewels\, and so much more! Friends and family are encouraged to attend with you.
URL:https://funinfarmington.com/event/bethlehem-marketplace-at-nardin-park-church/
LOCATION:Nardin Park Church\, 29887 W 11 Mile Rd\, Farmington Hills\, Michigan\, 48336
CATEGORIES:Holiday,Kids & Families,Religious
END:VEVENT
BEGIN:VEVENT
DTSTART;TZID=UTC:20251214T130000
DTEND;TZID=UTC:20251214T143000
DTSTAMP:20260423T132800
CREATED:20251209T162429Z
LAST-MODIFIED:20251209T162429Z
UID:10018416-1765717200-1765722600@funinfarmington.com
SUMMARY:Meet Santa at Lone Light Spirits
DESCRIPTION:Join us for a family-friendly event with Santa! Festive cocktails for adults\, hot chocolate and eggnog available for kids! Plus we are offering an exclusive discount to join our Spirit of ’33 Club!
URL:https://funinfarmington.com/event/meet-santa-at-lone-light-spirits/
LOCATION:Lone Light Spirits\, 23622 Farmington Rd\, Farmington\, Michigan\, 48336
CATEGORIES:Holiday,Kids & Families
END:VEVENT
BEGIN:VEVENT
DTSTART;TZID=UTC:20251214T140000
DTEND;TZID=UTC:20251214T153000
DTSTAMP:20260423T132800
CREATED:20251204T175049Z
LAST-MODIFIED:20251204T175049Z
UID:10018403-1765720800-1765726200@funinfarmington.com
SUMMARY:The Farmington Players Present: A Very Farmington Christmas
DESCRIPTION:A professional woman running in the fast lane of the big city corporate world journeys back to her small town on a mission for her boss. When she runs into a handsome acquaintance from high school\, she’s forced to evaluate her life and priorities. Hot cocoa\, light parades\, and romance collide. Hilarity ensues. A Very Farmington Christmas is a holiday movie parody that will make your season complete!\nRuntime: Approximately 1hr 30min with no intermission.Rated 13+
URL:https://funinfarmington.com/event/the-farmington-players-present-a-very-farmington-christmas/2025-12-14/
LOCATION:The Farmington Players Barn Theater\, 32332 West 12 Mile Road\, Farmington Hills\, Michigan\, 48334
CATEGORIES:Holiday,Theater
END:VEVENT
BEGIN:VEVENT
DTSTART;TZID=UTC:20251214T150000
DTEND;TZID=UTC:20251214T163000
DTSTAMP:20260423T132800
CREATED:20251211T162949Z
LAST-MODIFIED:20251211T162949Z
UID:10018418-1765724400-1765729800@funinfarmington.com
SUMMARY:A Holiday at North Farmington High School
DESCRIPTION:The FCB Music Organization presents its annual holiday concert featuring a live reading by WRCJ’s Cecelia Sharpe of “The Night Before Christmas” by Clement C\, Moore. Enjoy the narration of this Christmas classic accompanied by the acclaimed Farmington Concert Band for a captivating afternoon of music that promises to inspire\, delight\, and leave a lasting impression for the whole family. A free copy of “The Night Before Christmas” illustrated book will be given to the first 100 families at the concert. Also featured is an alto saxophone solo by FCB’s own Yoshitomo Aino.\nAdmission is $10 for everyone 12 years and older. Children under 12 are free. Purchase tickets at fcbmusic.org . Limited tickets at the door — cash only.
URL:https://funinfarmington.com/event/a-holiday-at-north-farmington-high-school/
LOCATION:North Farmington High School\, 32900 W 13 Mile Rd\, Farmington Hills\, Michigan\, 48334
CATEGORIES:Holiday,Music
END:VEVENT
BEGIN:VEVENT
DTSTART;TZID=UTC:20251214T160000
DTEND;TZID=UTC:20251214T160000
DTSTAMP:20260423T132800
CREATED:20251211T163453Z
LAST-MODIFIED:20251211T163453Z
UID:10018421-1765728000-1765728000@funinfarmington.com
SUMMARY:Once Upon a December Eve at The Hawk
DESCRIPTION:Once Upon a December Eve\nDecember 14th\, 2025- 4:00pm\nThe Mainstage Theatre\nJoin us as a beloved metro Detroit holiday tradition comes to the Hawk! Come celebrate the holiday season by enjoying an evening of beautiful music that includes holiday favorites\, traditional and contemporary carols\, classical gems and stunning jazz arrangements. The featured artists include Alice McAllister Tillman\, Dewayne McAllister\, Peter McAllister and Maestro Willie McAllister\, Jr. Individually their excellence is well known\, but when brought together for Once Upon a December Eve\, they create a magic that is not often witnessed!\nAlice McAllister Tillman\, Soprano\, is a versatile artist whose experiences have taken her to concert halls and recital stages throughout North America. She is known for her ability to perform a diverse range of literature spanning many genres. She has been presented in solo recitals that include Art Song\, Operatic Arias\, Spirituals\, Musical Theater and Jazz. She is frequently engaged in Oratorio and Symphonic presentations. Alice is a long-standing member of the Award-Winning Brazeal Dennard Chorale and accepted the role of Artistic Director in September of 2015. In her debut season as Artistic Director\, Ms. McAllister Tillman had the honor of conducting The Brazeal Dennard Chorale and the Detroit Symphony Orchestra in a performance of Roland Carter’s Lift Every Voice and Sing. She holds a Master of Music in Vocal Performance\, a Bachelor of Music in Vocal Performance and a State of Michigan Teacher Certification from The University of Michigan School of Music\, Theater & Dance. Ms. McAllister Tillman is the creator and featured solo artist of Once Upon a December Eve. Alice McAllister Tillman is a featured recording artist on The Second Anthology of Art Songs by Black American Composers\, The New Negro Spiritual\, Remembering II Significant Spirituals\, Reflections and Once Upon a December Eve.\n*Beer and wine will be available for patrons 21 years and above.\n$45 in advance$50 at the door
URL:https://funinfarmington.com/event/once-upon-a-december-eve-at-the-hawk/
LOCATION:The Hawk Community Center\, 29995 W 12 Mile Rd\, Farmington Hills\, Michigan\, 48334
CATEGORIES:Concert,Holiday,Music
END:VEVENT
BEGIN:VEVENT
DTSTART;TZID=UTC:20251214T180000
DTEND;TZID=UTC:20251214T210000
DTSTAMP:20260423T132800
CREATED:20250619T210723Z
LAST-MODIFIED:20250619T210723Z
UID:10016796-1765735200-1765746000@funinfarmington.com
SUMMARY:Pub Quiz at FBC
DESCRIPTION:Pub Quiz Trivia every Sunday night at Farmington Brewing Company.
URL:https://funinfarmington.com/event/pub-quiz-at-fbc/2025-12-14/
LOCATION:Farmington Brewing Company\, 33336 Grand River Ave\, Farmington\, Michigan\, 48336
CATEGORIES:Trivia
END:VEVENT
END:VCALENDAR