BEGIN:VCALENDAR
VERSION:2.0
PRODID:-//Fun in Farmington - ECPv6.15.20//NONSGML v1.0//EN
CALSCALE:GREGORIAN
METHOD:PUBLISH
X-ORIGINAL-URL:https://funinfarmington.com
X-WR-CALDESC:Events for Fun in Farmington
REFRESH-INTERVAL;VALUE=DURATION:PT1H
X-Robots-Tag:noindex
X-PUBLISHED-TTL:PT1H
BEGIN:VTIMEZONE
TZID:UTC
BEGIN:STANDARD
TZOFFSETFROM:+0000
TZOFFSETTO:+0000
TZNAME:UTC
DTSTART:20240101T000000
END:STANDARD
END:VTIMEZONE
BEGIN:VEVENT
DTSTART;TZID=UTC:20251218T114500
DTEND;TZID=UTC:20251218T124500
DTSTAMP:20260420T004007
CREATED:20251201T152659Z
LAST-MODIFIED:20251201T152659Z
UID:10018379-1766058300-1766061900@funinfarmington.com
SUMMARY:Advent Lunchbreak Yoga at Nardin Park Church
DESCRIPTION:If just thinking about this Christmas season makes you feel anxious: let yourself sink into these seven special practices of peace.\nStarting December 1\, we’ll be hosting a special Advent series at our Farmington Hills locations\, with each class offering:\nGentle Yoga\nScriptural Meditation\nRelaxing Christmas Hymns\nBreath Prayer & Aromatherapy\nIf you’re currently a Fall Season Pass-holder\, this series is already included in your package! If you’re new and would like to attend\, each class will be $15; or just $75 for the entire month of December (two classes free).\nStart thinking of who you’d like to invite\, and let’s look forward to a beautiful\, relaxing and meaningful Advent together!\nClass is offered simultaneously on Zoom\, and by Zoom replay video.
URL:https://funinfarmington.com/event/advent-lunchbreak-yoga-at-nardin-park-church/2025-12-18/
LOCATION:Nardin Park Church\, 29887 W 11 Mile Rd\, Farmington Hills\, Michigan\, 48336
CATEGORIES:Spiritual,Yoga
END:VEVENT
BEGIN:VEVENT
DTSTART;TZID=UTC:20251218T180000
DTEND;TZID=UTC:20251218T200000
DTSTAMP:20260420T004007
CREATED:20250603T160523Z
LAST-MODIFIED:20250616T190135Z
UID:10016769-1766080800-1766088000@funinfarmington.com
SUMMARY:Silent Book Club at Blue Hat
DESCRIPTION:Welcome to Introvert Happy Hour! \n\n\nWe’re heading back to where it all began—Blue Hat Coffee\, a beloved favorite and the cozy birthplace of our Silent Book Club. Whether you’re new or one of our original members\, this is the perfect chance to settle in with your current read and enjoy the relaxed\, welcoming vibe that started it all. \n\n\nSchedule:6–7 PM: Quiet reading time7–8 PM: Introvert-friendly social hour \n\nBring your book\, grab a warm drink\, and join us for an evening of quiet connection and community. Let’s celebrate the joy of reading together in this special spot.\nWe can’t wait to see you
URL:https://funinfarmington.com/event/silent-book-club-at-blue-hat-2/2025-12-18/
LOCATION:Blue Hat Coffee\, 23715 Farmington Rd.\, Farmington\, Michigan\, 48336
CATEGORIES:Book Club
END:VEVENT
BEGIN:VEVENT
DTSTART;TZID=UTC:20251218T193000
DTEND;TZID=UTC:20251218T210000
DTSTAMP:20260420T004007
CREATED:20251215T143007Z
LAST-MODIFIED:20251215T143007Z
UID:10018431-1766086200-1766091600@funinfarmington.com
SUMMARY:Somatic Yoga and Sound for the Soul at CenterPeace
DESCRIPTION:Somatic Yoga and Sound for the Soul with Giovanna and Angelina\nTickets: $45.00\nStep into a world of self-discovery and healing with our immersive workshop that blends the gentle practice of Somatic Yoga with the transformative power of sound immersion. Participants will be led on a journey to awaken\, activate and align each chakra. This unique experience is created to help you explore the depths of your consciousness\, release emotional blockages\, and harmonize your energy.\nWhat to expect:Begin your journey with slow\, mindful movements designed to enhance your body awareness and facilitate deep relaxation. Chakra balancing yoga stimulates and harmonizes the seven energy centers in the body\, promoting physical\, emotional and spiritual well being. The effects are magnified through the use of crystal and Tibetan bowls selected to enhance the energy flow of each chakra.\nGently relax into an extended Savasana immersed in symphony of healing sounds\, using a variety of instruments which stimulate and calm. Experience the power of sound to alter your brainwaves and bring you into alpha and theta states\, allowing for deeper meditation and connection with your body\, unleashing the potential for profound healing\, clarity\, and balance.\nThis workshop is open to all experience levels and is especially beneficial to those seeking holistic approaches to wellness and self exploration.\nWhat to bring;Wear comfortable clothesBring a yoga mat\, pillow and cozy blanket (the facility also has these items if you wish)An open heart and mind\nWe look forward to sharing this enriching experience with you as you explore your energy\, lift your spirit\, and realign with your true self\nFacilitator(s) Bio:\nGiovanna Certo is a passionate yoga instructor with over 20 years of personal practice and 2 years of teaching experience. Drawing from her extensive experience in movement and fitness\, Gio integrates her knowledge to help people release blockages\, enhancing movement and flexibility while fostering emotional and physical well being. Gio is committed to providing a supportive environment where individuals can discover their own path to balance and inner peace\, with sessions designed to invigorate the body\, and soothe the soul.\nAngelina Kretz has always been drawn to the power of sound through music performance and dance. Her deep connection to sound lead her to discover its profound impact on the mind\, body\, and soul as a means of personal transformation and healing. It was a respite from her role in the automotive industry\, as\, none other than\, an Energy Systems Engineer.Angelina is certified in the foundations of sound healing and is currently studying to become a licensed one-on-one sound practitioner through the Sound Healing Academy. Additionally\, she holds a Level II Reiki practitioner certification\, further enhancing her ability to facilitate healing and balance in others. She wishes to share her light with those open to receive\, serving each individual’s highest good. Whether through the healing vibrations of sound or the gentle energy of Reiki\, her mission is to guide others toward living authentically in peace and harmony.
URL:https://funinfarmington.com/event/somatic-yoga-and-sound-for-the-soul-at-centerpeace/
LOCATION:CenterPeace\, 33750 Freedom Road\, Farmington\, MI\, 48335
CATEGORIES:Wellness,Yoga
END:VEVENT
BEGIN:VEVENT
DTSTART;TZID=UTC:20251218T200000
DTEND;TZID=UTC:20251218T213000
DTSTAMP:20260420T004007
CREATED:20251204T175049Z
LAST-MODIFIED:20251204T175049Z
UID:10018404-1766088000-1766093400@funinfarmington.com
SUMMARY:The Farmington Players Present: A Very Farmington Christmas
DESCRIPTION:A professional woman running in the fast lane of the big city corporate world journeys back to her small town on a mission for her boss. When she runs into a handsome acquaintance from high school\, she’s forced to evaluate her life and priorities. Hot cocoa\, light parades\, and romance collide. Hilarity ensues. A Very Farmington Christmas is a holiday movie parody that will make your season complete!\nRuntime: Approximately 1hr 30min with no intermission.Rated 13+
URL:https://funinfarmington.com/event/the-farmington-players-present-a-very-farmington-christmas/2025-12-18/
LOCATION:The Farmington Players Barn Theater\, 32332 West 12 Mile Road\, Farmington Hills\, Michigan\, 48334
CATEGORIES:Holiday,Theater
END:VEVENT
END:VCALENDAR