BEGIN:VCALENDAR
VERSION:2.0
PRODID:-//Fun in Farmington - ECPv6.15.20//NONSGML v1.0//EN
CALSCALE:GREGORIAN
METHOD:PUBLISH
X-WR-CALNAME:Fun in Farmington
X-ORIGINAL-URL:https://funinfarmington.com
X-WR-CALDESC:Events for Fun in Farmington
REFRESH-INTERVAL;VALUE=DURATION:PT1H
X-Robots-Tag:noindex
X-PUBLISHED-TTL:PT1H
BEGIN:VTIMEZONE
TZID:UTC
BEGIN:STANDARD
TZOFFSETFROM:+0000
TZOFFSETTO:+0000
TZNAME:UTC
DTSTART:20240101T000000
END:STANDARD
END:VTIMEZONE
BEGIN:VEVENT
DTSTART;TZID=UTC:20251220T110000
DTEND;TZID=UTC:20251220T140000
DTSTAMP:20260421T123823
CREATED:20251218T155337Z
LAST-MODIFIED:20251218T155337Z
UID:10018442-1766228400-1766239200@funinfarmington.com
SUMMARY:Santa at The Riviera
DESCRIPTION:Join us at The Riviera Powered by Emagine from 11 AM-2 PM December 20 to get your photo taken and share your wish list with Santa!
URL:https://funinfarmington.com/event/santa-at-the-riviera/
LOCATION:The Riviera Cinema\, 30170 Grand River Ave\, Farmington Hills\, Michigan\, 48336
CATEGORIES:Holiday,Kids & Families
END:VEVENT
BEGIN:VEVENT
DTSTART;TZID=UTC:20251220T120000
DTEND;TZID=UTC:20251220T150000
DTSTAMP:20260421T123823
CREATED:20251218T154722Z
LAST-MODIFIED:20251218T154722Z
UID:10018438-1766232000-1766242800@funinfarmington.com
SUMMARY:Tree Ornament Workshop at Fired and Fused
DESCRIPTION:Flameworking Tree WorkshopAges: 14+$75 – Tree Ornament or FigurineInstructor: Jason Clark\nYou will be introduced to the fascinating world of flameworking with a demonstration of the flame work process using borosilicate glass by our talented instructor.\nYou will then be walked through the process to make your own tree with rods of glass and a torch. Items are approximately 1″-2″ in size and can be a figurine or pendant..\nPieces will be placed in an annealing kiln and ready for pick-up the following day.\nNo experience necessary. All tools and material will be provided. Closed toe shoes recommended.\nSpace is limited to 5 students per session.
URL:https://funinfarmington.com/event/tree-ornament-workshop-at-fired-and-fused/
LOCATION:Fired and Fused\, 32326 Grand River Ave\, Farmington\, Michigan\, 48336
CATEGORIES:Crafting,Holiday
END:VEVENT
BEGIN:VEVENT
DTSTART;TZID=UTC:20251220T124500
DTEND;TZID=UTC:20251220T150000
DTSTAMP:20260421T123823
CREATED:20251218T153531Z
LAST-MODIFIED:20251218T153531Z
UID:10018434-1766234700-1766242800@funinfarmington.com
SUMMARY:Sleds and Doorhangers Paint Party at Sidecar
DESCRIPTION: Holiday Sled  Paint Party! Get ready for a super fun\, creative\, and cozy paint night! Join us for a Paint Party on Sleds\, where you’ll turn a wooden sled into your very own winter masterpiece. Multiple designs will be available\, and our instructor will guide you step-by-step the whole way!No experience? No problem! Just bring your imagination and we’ll supply everything else — paint\, brushes\, sleds\, and good vibes. Grab a friend\, sip some brew\, and spend the evening making something you’ll love to display all winter long.It’s creative\, it’s festive\, and it’s way more fun than your average paint night.Let’s sled into the season with style! LIMITED # of 18in sleds available- we also have 14in doorhangers available should the sleds sell out. Please not these are SOLID sleds not the slotted ones.\nPlease arrive 15 minutes early.
URL:https://funinfarmington.com/event/sleds-and-doorhangers-paint-party-at-sidecar/
LOCATION:Sidecar Slider Bar\, 32720 Grand River Ave\, Farmington\, Michigan\, 48336
CATEGORIES:Crafting,Holiday
END:VEVENT
BEGIN:VEVENT
DTSTART;TZID=UTC:20251220T153000
DTEND;TZID=UTC:20251220T183000
DTSTAMP:20260421T123823
CREATED:20251218T154321Z
LAST-MODIFIED:20251218T154321Z
UID:10018435-1766244600-1766255400@funinfarmington.com
SUMMARY:Candy Cane Ornament Workshop at Fired and Fused
DESCRIPTION:Flameworking Candy Cane Ornament/Pendant WorkshopAges: 14+$75 – Candy Cane Pendant or OrnamentInstructor: Jason Clark\nYou will be introduced to the fascinating world of flameworking with a demonstration of the flame work process using borosilicate glass by our talented instructor.\nYou will then be walked through the process to make your own candy cane with rods of glass and a torch. Items are approximately 1″-2″ in size and can be a figurine or pendant..\nPieces will be placed in an annealing kiln and ready for pick-up the following day.\nNo experience necessary. All tools and material will be provided. Closed toe shoes recommended.\nSpace is limited to 5 students per session.
URL:https://funinfarmington.com/event/candy-cane-ornament-workshop-at-fired-and-fused/
LOCATION:Fired and Fused\, 32326 Grand River Ave\, Farmington\, Michigan\, 48336
CATEGORIES:Crafting,Holiday
END:VEVENT
BEGIN:VEVENT
DTSTART;TZID=UTC:20251220T160000
DTEND;TZID=UTC:20251220T180000
DTSTAMP:20260421T123823
CREATED:20251218T155014Z
LAST-MODIFIED:20251218T155014Z
UID:10018440-1766246400-1766253600@funinfarmington.com
SUMMARY:Christmas Through Your Eyes Concert at Orchard United
DESCRIPTION:Join us at The Farmington Chorus’s holiday concert\, Christmas Through Your Eyes! Concerts are on Friday\, December 19th at 8 p.m. and Saturday\, December 20th at 4 p.m.\nGeneral admission seating! Tickets purchased in advance are $15 each. Tickets ordered online will be held at will call at the venue. Tickets will be available at the door for $20 each.\nHope to see you there!
URL:https://funinfarmington.com/event/christmas-through-your-eyes-concert-at-orchard-united/2025-12-20/
LOCATION:Orchard United Methodist Church\, 30450 Farmington Rd.\, Farmington Hills\, Michigan\, 48334
CATEGORIES:Concert,Holiday
END:VEVENT
BEGIN:VEVENT
DTSTART;TZID=UTC:20251220T200000
DTEND;TZID=UTC:20251220T213000
DTSTAMP:20260421T123823
CREATED:20251204T175049Z
LAST-MODIFIED:20251204T175049Z
UID:10018406-1766260800-1766266200@funinfarmington.com
SUMMARY:The Farmington Players Present: A Very Farmington Christmas
DESCRIPTION:A professional woman running in the fast lane of the big city corporate world journeys back to her small town on a mission for her boss. When she runs into a handsome acquaintance from high school\, she’s forced to evaluate her life and priorities. Hot cocoa\, light parades\, and romance collide. Hilarity ensues. A Very Farmington Christmas is a holiday movie parody that will make your season complete!\nRuntime: Approximately 1hr 30min with no intermission.Rated 13+
URL:https://funinfarmington.com/event/the-farmington-players-present-a-very-farmington-christmas/2025-12-20/
LOCATION:The Farmington Players Barn Theater\, 32332 West 12 Mile Road\, Farmington Hills\, Michigan\, 48334
CATEGORIES:Holiday,Theater
END:VEVENT
BEGIN:VEVENT
DTSTART;TZID=UTC:20251220T210000
DTEND;TZID=UTC:20251220T210000
DTSTAMP:20260421T123823
CREATED:20251218T155145Z
LAST-MODIFIED:20251218T155145Z
UID:10018441-1766264400-1766264400@funinfarmington.com
SUMMARY:Ugly Sweater Party at Scores
DESCRIPTION:𝐀𝐍𝐍𝐔𝐀𝐋 𝐔𝐆𝐋𝐘 𝐒𝐖𝐄𝐀𝐓𝐄𝐑 𝐏𝐀𝐑𝐓𝐘 @ 𝐒𝐜𝐨𝐫𝐞𝐬𝐃𝐫𝐞𝐬𝐬 𝐭𝐨 𝐈𝐦𝐩𝐫𝐞𝐬𝐬… 𝐢𝐧 𝐘𝐨𝐮𝐫 𝐇𝐨𝐥𝐢𝐝𝐚𝐲 𝐖𝐨𝐫𝐬𝐭!\n𝑭𝑬𝑨𝑻𝑼𝑹𝑰𝑵𝑮: 𝑼𝒈𝒍𝒚 𝑺𝒘𝒆𝒂𝒕𝒆𝒓 𝑪𝒐𝒏𝒕𝒆𝒔𝒕 (𝑾𝒊𝒏 𝒖𝒑 𝒕𝒐 $200!) 𝑳𝒊𝒗𝒆 𝑫𝑱 𝑵𝒊𝒈𝒉𝒕 𝑶𝒑𝒆𝒏 𝑫𝒂𝒏𝒄𝒆 𝑭𝒍𝒐𝒐𝒓𝑫𝑨𝑻𝑬: 𝑺𝒂𝒕𝒖𝒓𝒅𝒂𝒚\, 𝑫𝒆𝒄𝒆𝒎𝒃𝒆𝒓 20𝒕𝒉𝑻𝑰𝑴𝑬: 9𝑝𝑚 𝑡𝑜 2𝑝𝑚\n𝑮𝒆𝒕 𝒓𝒆𝒂𝒅𝒚 𝒇𝒐𝒓 𝒕𝒉𝒆 𝒎𝒐𝒔𝒕 𝒇𝒖𝒏(𝒏𝒚) 𝒏𝒊𝒈𝒉𝒕 𝒐𝒇 𝒕𝒉𝒆 𝒔𝒆𝒂𝒔𝒐𝒏! 𝑷𝒓𝒊𝒛𝒆𝒔 𝒇𝒐𝒓 𝒕𝒉𝒆 𝒖𝒈𝒍𝒊𝒆𝒔𝒕 𝒔𝒘𝒆𝒂𝒕𝒆𝒓𝒔. 𝑴𝒖𝒔𝒊𝒄 𝒂𝒏𝒅 𝒅𝒂𝒏𝒄𝒊𝒏𝒈 𝒂𝒍𝒍 𝒏𝒊𝒈𝒉𝒕.𝑺𝒉𝒂𝒓𝒆 𝒕𝒉𝒊𝒔 𝒆𝒗𝒆𝒏𝒕 𝒂𝒏𝒅 𝒃𝒓𝒊𝒏𝒈 𝒚𝒐𝒖𝒓 𝒇𝒓𝒊𝒆𝒏𝒅𝒔!
URL:https://funinfarmington.com/event/ugly-sweater-party-at-scores/
LOCATION:Scores Sports Bar & Grill\, 24365 Halsted Rd\, Farmington Hills\, Michigan\, 48335
CATEGORIES:Holiday
END:VEVENT
END:VCALENDAR