BEGIN:VCALENDAR
VERSION:2.0
PRODID:-//Fun in Farmington - ECPv6.15.20//NONSGML v1.0//EN
CALSCALE:GREGORIAN
METHOD:PUBLISH
X-ORIGINAL-URL:https://funinfarmington.com
X-WR-CALDESC:Events for Fun in Farmington
REFRESH-INTERVAL;VALUE=DURATION:PT1H
X-Robots-Tag:noindex
X-PUBLISHED-TTL:PT1H
BEGIN:VTIMEZONE
TZID:UTC
BEGIN:STANDARD
TZOFFSETFROM:+0000
TZOFFSETTO:+0000
TZNAME:UTC
DTSTART:20240101T000000
END:STANDARD
END:VTIMEZONE
BEGIN:VEVENT
DTSTART;TZID=UTC:20251222T110000
DTEND;TZID=UTC:20251222T123000
DTSTAMP:20260420T052804
CREATED:20251103T135826Z
LAST-MODIFIED:20251103T135826Z
UID:10018057-1766401200-1766406600@funinfarmington.com
SUMMARY:Soulful Gentle Yin Yoga
DESCRIPTION:Soulful yin yoga is a non yoga studio type classs.\nI am a teacher that enjoys connecting with our bodies. This yoga class is to tune in to our body\, see how it responds to the breath and movement and really use the breath to feel expansion in the body.\nThis class is suitable for people who are not overly flexible\, sometimes need a chair instead of a mat\, like to feel good in their body but not push it to the max\, and spend time getting to your body every week as a devotion not a chore.\nThis class is not about maximizing the pose or pushing past your limits.\nSoulful Yin Yoga is not always just yoga sometimes we do tai chi\, use the wall for restorative poses or tennis balls for our body.\nJoin us if you feel called to come back home to yourself every week.\n$15/class\nAlicia Clark is the instructor for Soulful Yin Yoga. She has been living the yoga life since 2010 and began teaching in 2018. She has tried all different styles of yoga. Alicia blends her style to keep people supple and flexible and connected back to their body and breath.\n11:15-12:15pm Mondays at CenterPeace\n33750 Freedom Rd Farmington\, MI 48335
URL:https://funinfarmington.com/event/soulful-gentle-yin-yoga/2025-12-22/
LOCATION:CenterPeace\, 33750 Freedom Road\, Farmington\, MI\, 48335
CATEGORIES:Fitness,Spiritual
ATTACH;FMTTYPE=image/png:https://funinfarmington.com/wp-content/uploads/2025/11/Soulful-Yin-Yoga-4.png
ORGANIZER;CN="Alicia Clark":MAILTO:sacredlotusexperience@yahoo.com
END:VEVENT
BEGIN:VEVENT
DTSTART;TZID=UTC:20251222T180000
DTEND;TZID=UTC:20251222T190000
DTSTAMP:20260420T052804
CREATED:20251201T152431Z
LAST-MODIFIED:20251201T152431Z
UID:10018375-1766426400-1766430000@funinfarmington.com
SUMMARY:Advent Candlelight Yoga at First Presbyterian
DESCRIPTION:If just thinking about this Christmas season makes you feel anxious: let yourself sink into these seven special practices of peace.\n\nStarting December 1\, we’ll be hosting a special Advent series at our Farmington Hills locations\, with each class offering:\nGentle Yoga\nScriptural Meditation\nRelaxing Christmas Hymns\nBreath Prayer & Aromatherapy\nIf you’re currently a Fall Season Pass-holder\, this series is already included in your package! If you’re new and would like to attend\, each class will be $15; or just $75 for the entire month of December (two classes free).\nStart thinking of who you’d like to invite\, and let’s look forward to a beautiful\, relaxing and meaningful Advent together!\nClass is offered simultaneously on Zoom\, and by Zoom replay video.\nLive location is inside Knox Fellowship Hall
URL:https://funinfarmington.com/event/advent-candlelight-yoga-at-first-presbyterian/2025-12-22/
LOCATION:First Presbyterian Church of Farmington\, 26165 Farmington Rd\, Farmington Hills\, Michigan\, 48334
CATEGORIES:Spiritual,Yoga
END:VEVENT
BEGIN:VEVENT
DTSTART;TZID=UTC:20251222T183000
DTEND;TZID=UTC:20251222T203000
DTSTAMP:20260420T052804
CREATED:20250908T125825Z
LAST-MODIFIED:20250908T125825Z
UID:10017137-1766428200-1766435400@funinfarmington.com
SUMMARY:Trivia Night at Shots Bar and Grill
DESCRIPTION:𝑻𝑹𝑰𝑽𝑰𝑨 𝑵𝑰𝑮𝑯𝑻 tonight at Shots Bar & Grille in Farmington Hills!Game starts at 6:30pm!
URL:https://funinfarmington.com/event/trivia-night-at-shots-bar-and-grill/2025-12-22/
LOCATION:Shots Bar and Grille\, 30859 W 10 Mile Rd\, Farmington Hills\, Michigan\, 48336
CATEGORIES:Trivia
END:VEVENT
END:VCALENDAR