BEGIN:VCALENDAR
VERSION:2.0
PRODID:-//Fun in Farmington - ECPv6.15.20//NONSGML v1.0//EN
CALSCALE:GREGORIAN
METHOD:PUBLISH
X-ORIGINAL-URL:https://funinfarmington.com
X-WR-CALDESC:Events for Fun in Farmington
REFRESH-INTERVAL;VALUE=DURATION:PT1H
X-Robots-Tag:noindex
X-PUBLISHED-TTL:PT1H
BEGIN:VTIMEZONE
TZID:UTC
BEGIN:STANDARD
TZOFFSETFROM:+0000
TZOFFSETTO:+0000
TZNAME:UTC
DTSTART:20240101T000000
END:STANDARD
END:VTIMEZONE
BEGIN:VEVENT
DTSTART;TZID=UTC:20251226T180000
DTEND;TZID=UTC:20251226T190000
DTSTAMP:20260420T052819
CREATED:20251113T153701Z
LAST-MODIFIED:20251113T153701Z
UID:10018078-1766772000-1766775600@funinfarmington.com
SUMMARY:Open Mic Comedy at Apothecary
DESCRIPTION:Join us every second and fourth Friday of the month for some local laughs! Each week will feature nine comics and a host\, different from the previous week! Interested in performing? Signups go live at the first of the month. Any remaining openings can be taken at the show.Seating begins at 5:30pm and we recommend that you don’t bring children.
URL:https://funinfarmington.com/event/open-mic-comedy-at-apothecary/2025-12-26/
LOCATION:Apothecary Espresso and Coffee\, 23366 Farmington Rd\, Farmington\, 48336
CATEGORIES:Comedy
END:VEVENT
BEGIN:VEVENT
DTSTART;TZID=UTC:20251226T190000
DTEND;TZID=UTC:20251226T210000
DTSTAMP:20260420T052819
CREATED:20250828T232522Z
LAST-MODIFIED:20250828T232522Z
UID:10016892-1766775600-1766782800@funinfarmington.com
SUMMARY:Crafters in Community
DESCRIPTION:Open to all! Last Friday of every month at 7-9pm.\nBring any unfinished craft project you have to work on and join others in community and conversation in this open forum space. All craft styles and all people are welcome to join. Light snacks available\, but feel free to bring something to share as well.\nQuestions? Reach out to Liz Knight @ elizabeth.knight@uufarmington.org.
URL:https://funinfarmington.com/event/crafters-in-community/2025-12-26/
LOCATION:Universalist Unitarian Church of Farmington\, 25301 Halsted Rd\, Farmington Hills\, Michigan\, 48335
CATEGORIES:Crafting
END:VEVENT
END:VCALENDAR