BEGIN:VCALENDAR
VERSION:2.0
PRODID:-//Fun in Farmington - ECPv6.15.20//NONSGML v1.0//EN
CALSCALE:GREGORIAN
METHOD:PUBLISH
X-ORIGINAL-URL:https://funinfarmington.com
X-WR-CALDESC:Events for Fun in Farmington
REFRESH-INTERVAL;VALUE=DURATION:PT1H
X-Robots-Tag:noindex
X-PUBLISHED-TTL:PT1H
BEGIN:VTIMEZONE
TZID:UTC
BEGIN:STANDARD
TZOFFSETFROM:+0000
TZOFFSETTO:+0000
TZNAME:UTC
DTSTART:20250101T000000
END:STANDARD
END:VTIMEZONE
BEGIN:VEVENT
DTSTART;TZID=UTC:20260104T113000
DTEND;TZID=UTC:20260104T123000
DTSTAMP:20260420T124507
CREATED:20260101T173834Z
LAST-MODIFIED:20260101T173834Z
UID:10018445-1767526200-1767529800@funinfarmington.com
SUMMARY:Small Dog Play at Paws N Play
DESCRIPTION:This dog play is for dogs who are 25lbs or less. Let your dog have some fun! Dog play classes are 1 hour long in a safe indoor environment where your dog can play with other dogs. Owners remain w/ dogs during the class\, learn about dog body language and assist with supervising the dogs playing.\nIf you are new to Dog Play\, there are some extra questions to complete. You may be contacted prior to the class for more info.\nDO NOT PAY ONLINE. PAY $10 CASH DAY OF CLASS.So there is more for the rescue \nREGISTER HERE: https://app.acuityscheduling.com/schedule/d6924d16/?appointmentTypeIds[]=54473819
URL:https://funinfarmington.com/event/small-dog-play-at-paws-n-play/
LOCATION:Paws N Play\, 28196 Alycekay St\, Farmington Hills\, Michigan\, 48334
CATEGORIES:Pets
END:VEVENT
BEGIN:VEVENT
DTSTART;TZID=UTC:20260104T120000
DTEND;TZID=UTC:20260104T190000
DTSTAMP:20260420T124507
CREATED:20260101T174820Z
LAST-MODIFIED:20260101T174820Z
UID:10018449-1767528000-1767553200@funinfarmington.com
SUMMARY:Cat Adoptions at Avocato Catfe
DESCRIPTION:Stop by Avocato Catfe & Adoption Center to enjoy a coffee with our adoptable cats\, and you might just find a new friend to bring home!\nAdmission is just $15 for adults; $12 for Seniors and $10 for children under 12! Reserve your spot at www.avocato.org!\nApply online for adoption pre-approval at www.paawarren.org if you’re looking to adopt\, or just come in for some cuddle time with our kitties if you’re looking for a fun way to beat the cold! You’ll be glad you did!\nOpen Sat/Sun 11-7; Mon 1-4; and Tues – Fri 12 – 7! All ages welcome!
URL:https://funinfarmington.com/event/cat-adoptions-at-avocato-catfe/2026-01-04/
LOCATION:Avocato Catfe & Adoption Center\, 38437 Grand River Ave\, Farmington Hills\, Michigan\, 48335
CATEGORIES:Pets
END:VEVENT
BEGIN:VEVENT
DTSTART;TZID=UTC:20260104T144500
DTEND;TZID=UTC:20260104T144500
DTSTAMP:20260420T124507
CREATED:20260101T175217Z
LAST-MODIFIED:20260101T175259Z
UID:10018451-1767537900-1767537900@funinfarmington.com
SUMMARY:Meditation with Gong Soundbath at Shanti Yoga
DESCRIPTION:WHITE WINTER SOUNDSCAPE WITH GONG\n\n\n\n\nJan 4\, 2026 \n\n\n\n\nShanti Yoga & Meditation32511 Northwestern Hwy\, Farmington Hills\, Michigan\, USA\, 48334
URL:https://funinfarmington.com/event/meditation-with-gong-soundbath-at-shanti-yoga/
LOCATION:Shanti Yoga and Meditation\, 32511 Northwestern Hwy\, Farmington Hills\, Michigan\, 48334
CATEGORIES:Wellness,Yoga
END:VEVENT
BEGIN:VEVENT
DTSTART;TZID=UTC:20260104T180000
DTEND;TZID=UTC:20260104T210000
DTSTAMP:20260420T124507
CREATED:20250619T210723Z
LAST-MODIFIED:20250619T210723Z
UID:10016799-1767549600-1767560400@funinfarmington.com
SUMMARY:Pub Quiz at FBC
DESCRIPTION:Pub Quiz Trivia every Sunday night at Farmington Brewing Company.
URL:https://funinfarmington.com/event/pub-quiz-at-fbc/2026-01-04/
LOCATION:Farmington Brewing Company\, 33336 Grand River Ave\, Farmington\, Michigan\, 48336
CATEGORIES:Trivia
END:VEVENT
END:VCALENDAR