BEGIN:VCALENDAR
VERSION:2.0
PRODID:-//Fun in Farmington - ECPv6.15.20//NONSGML v1.0//EN
CALSCALE:GREGORIAN
METHOD:PUBLISH
X-ORIGINAL-URL:https://funinfarmington.com
X-WR-CALDESC:Events for Fun in Farmington
REFRESH-INTERVAL;VALUE=DURATION:PT1H
X-Robots-Tag:noindex
X-PUBLISHED-TTL:PT1H
BEGIN:VTIMEZONE
TZID:UTC
BEGIN:STANDARD
TZOFFSETFROM:+0000
TZOFFSETTO:+0000
TZNAME:UTC
DTSTART:20250101T000000
END:STANDARD
END:VTIMEZONE
BEGIN:VEVENT
DTSTART;TZID=UTC:20260202T103000
DTEND;TZID=UTC:20260202T113000
DTSTAMP:20260420T111159
CREATED:20260105T042204Z
LAST-MODIFIED:20260105T043205Z
UID:10018487-1770028200-1770031800@funinfarmington.com
SUMMARY:Little Me Storytime (13-23 Months) at Library (Farmington)
DESCRIPTION:
URL:https://funinfarmington.com/event/little-me-storytime-13-23-months-at-library-farmington-2/2026-02-02/
LOCATION:Farmington Community Library – Farmington Location\, 23500 Liberty St.\, Farmington\, Michigan\, 48335
CATEGORIES:Kids & Families
END:VEVENT
BEGIN:VEVENT
DTSTART;TZID=UTC:20260202T103000
DTEND;TZID=UTC:20260202T113000
DTSTAMP:20260420T111159
CREATED:20260105T042343Z
LAST-MODIFIED:20260105T043255Z
UID:10018504-1770028200-1770031800@funinfarmington.com
SUMMARY:Preschool Storytime (Ages 3-5) at Library (FH)
DESCRIPTION:Library events are always free to the public and you do not need a library card to attend! \nThe Farmington Community Library has two locations.  This event will be held in the Auditorium at the FCL Farmington Hills location at 32737 W. 12 Mile Rd.\, Farmington Hill\, MI  48334. \nNo Registration Required \nAt storytime\, we show you how to help your child’s brain grow by talking\, singing\, reading\, writing\, and playing\, and we help you connect with other parents. Children and their caregivers will enjoy stories\, music\, and movement together\, followed by playtime with art and/or sensory experiences. The Preschool Storytime and playtime activities are designed for kids who are 3-5 years old with an adult. Siblings welcome.
URL:https://funinfarmington.com/event/preschool-storytime-ages-3-5-at-library-fh/2026-02-02/
LOCATION:Farmington Community Library – Farmington Hills Location\, 32737 W. 12 Mile Rd.\, Farmington Hills\, Michigan\, 48334
CATEGORIES:Kids & Families
END:VEVENT
BEGIN:VEVENT
DTSTART;TZID=UTC:20260202T180000
DTEND;TZID=UTC:20260202T190000
DTSTAMP:20260420T111159
CREATED:20260105T041714Z
LAST-MODIFIED:20260105T041714Z
UID:10018474-1770055200-1770058800@funinfarmington.com
SUMMARY:Candlelit Yoga at First Presbyterian
DESCRIPTION:Refocus your week during this beautiful candlelit slow-flow hour. Get centered with the day’s devotion and enjoy the connection of mind\, body and spirit to your Creator. This therapeutic style of yoga takes joints through all range of motion\, leaving you feeling mentally\, physically and spiritually prepared to take on anything the week might throw at you. Come and try your first class here for free!
URL:https://funinfarmington.com/event/candlelit-yoga-at-first-presbyterian/2026-02-02/
LOCATION:First Presbyterian Church of Farmington\, 26165 Farmington Rd\, Farmington Hills\, Michigan\, 48334
CATEGORIES:Yoga
END:VEVENT
BEGIN:VEVENT
DTSTART;TZID=UTC:20260202T180000
DTEND;TZID=UTC:20260202T190000
DTSTAMP:20260420T111159
CREATED:20260118T211207Z
LAST-MODIFIED:20260118T211207Z
UID:10019234-1770055200-1770058800@funinfarmington.com
SUMMARY:Canine Dental Health Workshop
DESCRIPTION:In honor of Pet Dental Health Month \nJoin us for an informative and engaging Canine Dental Health sit-down presentation designed to help pet parents better understand their dog’s oral health—and how to care for it at home. \n🐶 What You’ll Learn:\n✔️ Why dental health is essential to your dog’s overall wellness\n✔️ Common dental issues and warning signs to watch for\n✔️ How to properly care for your dog’s teeth at home\n✔️ Which dental products actually make a difference \n🪥 One-Night-Only Specials:\nTo celebrate Pet Dental Health Month\, enjoy exclusive\, one-time-only discounts on select dental chews\, toothpaste\, brushes\, and oral care products—available during the event only.
URL:https://funinfarmington.com/event/canine-dental-health-workshop/
LOCATION:Tolonen Family Pet\, 23320 Farmington Rd\, Farmington\, Michigan\, 48336
CATEGORIES:Pets
ATTACH;FMTTYPE=image/png:https://funinfarmington.com/wp-content/uploads/2026/01/Dental-Work-shop.png
ORGANIZER;CN="Tolonen Family Pet":MAILTO:Info@tolonenfamilypet.com
END:VEVENT
BEGIN:VEVENT
DTSTART;TZID=UTC:20260202T183000
DTEND;TZID=UTC:20260202T193000
DTSTAMP:20260420T111159
CREATED:20260105T042643Z
LAST-MODIFIED:20260105T043339Z
UID:10018521-1770057000-1770060600@funinfarmington.com
SUMMARY:Evening Storytime (Ages 1-6) at Library (FH)
DESCRIPTION:Library events are always free to the public and you do not need a library card to attend!  \nThe Farmington Community Library has two locations. This event will be held in the Auditorium at the FCL Farmington Hills location at 32737 W. 12 Mile Rd.\, Farmington Hills\, MI 48334 \nNo Registration Required \nAt storytime\, we show you how to help your child’s brain grow by talking\, singing\, reading\, writing\, and playing\, and we help you connect with other parents. Children and their caregivers will enjoy stories\, music\, and movement together\, followed by playtime with art and/or sensory experiences. The Evening storytime and playtime activities are designed for kids who are 1-6 years old with an adult. Siblings welcome. \n\nDisclaimer(s)\n\n\n\n\nThis program is designed for children and accompanying adults. Please plan to attend and be engaged with your child for this program. Drop offs will not be permitted. \n\n\n\n\n\n\nTo request ADA accommodations\, such as wheelchair access or sign language interpretation\, please complete the Accommodation Request Form at least 10 days before the event.
URL:https://funinfarmington.com/event/evening-storytime-ages-1-6-at-library-fh-2/2026-02-02/
LOCATION:Farmington Community Library – Farmington Hills Location\, 32737 W. 12 Mile Rd.\, Farmington Hills\, Michigan\, 48334
CATEGORIES:Kids & Families
END:VEVENT
BEGIN:VEVENT
DTSTART;TZID=UTC:20260202T183000
DTEND;TZID=UTC:20260202T203000
DTSTAMP:20260420T111159
CREATED:20250908T125825Z
LAST-MODIFIED:20250908T125825Z
UID:10017143-1770057000-1770064200@funinfarmington.com
SUMMARY:Trivia Night at Shots Bar and Grill
DESCRIPTION:𝑻𝑹𝑰𝑽𝑰𝑨 𝑵𝑰𝑮𝑯𝑻 tonight at Shots Bar & Grille in Farmington Hills!Game starts at 6:30pm!
URL:https://funinfarmington.com/event/trivia-night-at-shots-bar-and-grill/2026-02-02/
LOCATION:Shots Bar and Grille\, 30859 W 10 Mile Rd\, Farmington Hills\, Michigan\, 48336
CATEGORIES:Trivia
END:VEVENT
BEGIN:VEVENT
DTSTART;TZID=UTC:20260202T183000
DTEND;TZID=UTC:20260202T203000
DTSTAMP:20260420T111159
CREATED:20260111T232151Z
LAST-MODIFIED:20260111T232151Z
UID:10019134-1770057000-1770064200@funinfarmington.com
SUMMARY:Alphabet Soup for Grades 6-12 at Library (Farmington)
DESCRIPTION:No registration is required. \nAlphabet Soup is an LGBTQ+ group for tweens and teens! We’re focused on creating a safe and creative space for young people at the library! Each month we’ll highlight some LGBTQ+ books and materials\, talk about current events\, have lots of fun\, and maybe even make some new friends in the process! This is a safe space for YOU! – All are welcome!
URL:https://funinfarmington.com/event/alphabet-soup-for-grades-6-12-at-library-farmington/
LOCATION:Farmington Community Library – Farmington Location\, 23500 Liberty St.\, Farmington\, Michigan\, 48335
CATEGORIES:Community,LGBTQ+,Reading,Teens
END:VEVENT
END:VCALENDAR