BEGIN:VCALENDAR
VERSION:2.0
PRODID:-//Fun in Farmington - ECPv6.15.20//NONSGML v1.0//EN
CALSCALE:GREGORIAN
METHOD:PUBLISH
X-WR-CALNAME:Fun in Farmington
X-ORIGINAL-URL:https://funinfarmington.com
X-WR-CALDESC:Events for Fun in Farmington
REFRESH-INTERVAL;VALUE=DURATION:PT1H
X-Robots-Tag:noindex
X-PUBLISHED-TTL:PT1H
BEGIN:VTIMEZONE
TZID:UTC
BEGIN:STANDARD
TZOFFSETFROM:+0000
TZOFFSETTO:+0000
TZNAME:UTC
DTSTART:20250101T000000
END:STANDARD
END:VTIMEZONE
BEGIN:VEVENT
DTSTART;TZID=UTC:20260303T100000
DTEND;TZID=UTC:20260303T210000
DTSTAMP:20260420T093240
CREATED:20260222T212801Z
LAST-MODIFIED:20260222T212801Z
UID:10019600-1772532000-1772571600@funinfarmington.com
SUMMARY:Toe Nail Tuesday at Tolonen Family Pet Shop
DESCRIPTION:Walk-in nail trims for dogs\, cats and other small animals!
URL:https://funinfarmington.com/event/toe-nail-tuesday-at-tolonen-family-pet-shop/2026-03-03/
LOCATION:Tolonen Family Pet\, 23320 Farmington Rd\, Farmington\, Michigan\, 48336
CATEGORIES:Pets
END:VEVENT
BEGIN:VEVENT
DTSTART;TZID=UTC:20260303T103000
DTEND;TZID=UTC:20260303T113000
DTSTAMP:20260420T093240
CREATED:20260105T042838Z
LAST-MODIFIED:20260105T042838Z
UID:10018542-1772533800-1772537400@funinfarmington.com
SUMMARY:Baby Storytime (0-12 Months) at Library (FH)
DESCRIPTION:Library events are always free to the public and you do not need a library card to attend!  \nThe Farmington Community Library has two locations. This event will be held in the Children’s Program Room at the FCL Farmington Hills location at 32737 W. 12 Mile Rd.\, Farmington Hills\, MI 48334.  \nNo Registration Required \nAt storytime\, we show you how to help your child’s brain grow by talking\, singing\, reading\, writing\, and playing\, and we help you connect with other parents. Children and their caregivers will enjoy stories\, music\, and movement together\, followed by playtime. The Baby Storytime and playtime activities are designed for kids who are 0-12 months with an adult. Siblings welcome. \n\nDisclaimer(s)\n\n\n\n\nThis program is designed for children and accompanying adults. Please plan to attend and be engaged with your child for this program. Drop offs will not be permitted. \n\n\n\n\n\n\nTo request ADA accommodations\, such as wheelchair access or sign language interpretation\, please complete the Accommodation Request Form at least 10 days before the event.
URL:https://funinfarmington.com/event/baby-storytime-0-12-months-at-library-fh/2026-03-03/
LOCATION:Farmington Community Library – Farmington Hills Location\, 32737 W. 12 Mile Rd.\, Farmington Hills\, Michigan\, 48334
CATEGORIES:Kids & Families
END:VEVENT
BEGIN:VEVENT
DTSTART;TZID=UTC:20260303T103000
DTEND;TZID=UTC:20260303T113000
DTSTAMP:20260420T093240
CREATED:20260105T043022Z
LAST-MODIFIED:20260105T043022Z
UID:10018559-1772533800-1772537400@funinfarmington.com
SUMMARY:Preschool Storytime (Ages 3-5) at Library (Farmington)
DESCRIPTION:Library Events are always free to the public and you do not need a library card to attend! \nThe Farmington Community Library has two locations. This event will be held in the meeting room at the FCL Farmington location 23500 Liberty St.\, Farmington\, MI 48335. \nNo Registration Required \nAt storytime\, we show you how to help your child’s brain grow by talking\, singing\, reading\, writing\, and playing\, and we help you connect with other parents. Children and their caregivers will enjoy stories\, music\, and movement together\, followed by playtime with art and/or sensory experiences. The Preschool storytime and playtime activities are designed for kids who are 3-5 years old with an adult. Siblings welcome. \n\nDisclaimer(s)\n\n\n\n\nThis program is designed for children and accompanying adults. Please plan to attend and be engaged with your child for this program. Drop offs will not be permitted. \n\n\n\n\n\n\nTo request ADA accommodations\, such as wheelchair access or sign language interpretation\, please complete the Accommodation Request Form at least 10 days before the event.
URL:https://funinfarmington.com/event/preschool-storytime-ages-3-5-at-library-farmington/2026-03-03/
LOCATION:Farmington Community Library – Farmington Location\, 23500 Liberty St.\, Farmington\, Michigan\, 48335
CATEGORIES:Kids & Families
END:VEVENT
BEGIN:VEVENT
DTSTART;TZID=UTC:20260303T153000
DTEND;TZID=UTC:20260303T170000
DTSTAMP:20260420T093240
CREATED:20260222T203945Z
LAST-MODIFIED:20260222T203945Z
UID:10019587-1772551800-1772557200@funinfarmington.com
SUMMARY:Tween Makers Meetup at The Hawk (Ages 10-15)
DESCRIPTION:Each after-school session explores a new project using tools and materials in our fully equipped Makerspace. Whether you’re into tech\, crafts\, or just love to tinker\, there’s something new to discover every time. Come build your skills\, experiment\, and bring your creative ideas to life. All materials provided. No prior experience necessary—just bring your curiosity! \nFebruary 4 – Light Up Valentines\nMarch 3 – Dimensional Minecraft Skins\nApril 8 – Duct Tape Tote Bags\nMay 6 – Custom Stickers
URL:https://funinfarmington.com/event/tween-makers-meetup-at-the-hawk-ages-10-15/2026-03-03/
LOCATION:The Hawk Community Center\, 29995 W 12 Mile Rd\, Farmington Hills\, Michigan\, 48334
CATEGORIES:Art,Crafting,Teens
END:VEVENT
BEGIN:VEVENT
DTSTART;TZID=UTC:20260303T173000
DTEND;TZID=UTC:20260303T203000
DTSTAMP:20260420T093240
CREATED:20260215T214752Z
LAST-MODIFIED:20260215T214752Z
UID:10019560-1772559000-1772569800@funinfarmington.com
SUMMARY:Casual Euchre at Peterlins
DESCRIPTION:This is all about Meeting People via Euchre! For this event\, you do not need to show up at the start time and you can leave whenever. \n\n\n\n\nSupport the Restaurant: Enjoy dinner at Euchre and earn an extra 10 points! \nEntry & Prizes: No entry fee required. Weekly highest scorers get a prize\, and there’s a grand prize for the monthly champion. \nFlexible Timing: Arrive any time you prefer. Most guests come early for dinner in peace\, while others join later. Leave at your own convenience. \nNew to Euchre? No problem! Watch these “How to Play Euchre” videos. Install the Trickster Cards app on your phone and set up an account (see our signup instructions here). It’s great for practice and for instances when we have an uneven number of players. \nHow to Participate: \n\nCreate an account on DarbyConnections.com.\nJust show up! No need for weekly commitments or playing all evening. Typically\, we play 6-8 games each night.\n\nGame Rules & Format: \n\nScoring: Everyone deals twice each game. Can have more then 10 points. Four points for Euchres and Reneges on Loners. Your weekly score is the sum of your top five games. Monthly score is based on your top ten games.\nWinning: Daily high-scorers win a prize. Tie-breakers favor the player with the highest hand. Must be present to win.\nGameplay: Change partners after each game. Each player deals twice. Screw the Dealer. No game starts post 8:30 pm.\nAdditional Rules:\n\n\nNo table talk regarding the current hand. Talk your heads off about everything else. THIS IS A SOCIAL EVENT! Keep games brisk.\nDon’t be a jerk!\nHave fun!\n\n\n\nImportant Notes: \n\nRegister to help us manage seating and scoring.\nLogged-in users can view scores on the event page.\nWe communicate via text for seat assignments and score updates.\n\nWe look forward to seeing you and hope you have a great time!
URL:https://funinfarmington.com/event/casual-euchre-at-peterlins-4/2026-03-03/
LOCATION:Peterlin’s Restaurant & Bar\, 22004 Farmington Rd\, Farmington\, Michigan\, 48336
CATEGORIES:Community,Food,Games
END:VEVENT
BEGIN:VEVENT
DTSTART;TZID=UTC:20260303T180000
DTEND;TZID=UTC:20260303T190000
DTSTAMP:20260420T093240
CREATED:20260301T205252Z
LAST-MODIFIED:20260301T205252Z
UID:10019940-1772560800-1772564400@funinfarmington.com
SUMMARY:One School One Book Kick Off with FPS at the Library (Farmington)
DESCRIPTION:No Registration Required \nPJ Party! Wear your pajamas and listen to a chapter of the One School One Book title that all of the Farmington Public Schools elementary schools are reading together this month.
URL:https://funinfarmington.com/event/one-school-one-book-kick-off-with-fps-at-the-library-farmington/
LOCATION:Farmington Community Library – Farmington Location\, 23500 Liberty St.\, Farmington\, Michigan\, 48335
CATEGORIES:Kids & Families,Reading
END:VEVENT
BEGIN:VEVENT
DTSTART;TZID=UTC:20260303T190000
DTEND;TZID=UTC:20260303T190000
DTSTAMP:20260420T093240
CREATED:20260301T193854Z
LAST-MODIFIED:20260301T193854Z
UID:10019937-1772564400-1772564400@funinfarmington.com
SUMMARY:Walk the Hawk with City Council at The Hawk
DESCRIPTION:Connect with your local leaders while getting some light exercise. Join the Farmington Hills mayor and members of the Farmington Hills City Council for a walk and casual conversation! Share your thoughts\, ask questions or just enjoy a stroll with the people who represent you\, once per month. \nCOLDER MONTHS: held indoors on the 3rd floor of The Hawk
URL:https://funinfarmington.com/event/walk-the-hawk-with-city-council-at-the-hawk/
LOCATION:The Hawk Community Center\, 29995 W 12 Mile Rd\, Farmington Hills\, Michigan\, 48334
CATEGORIES:Community,Fitness,Networking
END:VEVENT
BEGIN:VEVENT
DTSTART;TZID=UTC:20260303T190000
DTEND;TZID=UTC:20260303T194500
DTSTAMP:20260420T093240
CREATED:20260226T123524Z
LAST-MODIFIED:20260226T123524Z
UID:10019884-1772564400-1772567100@funinfarmington.com
SUMMARY:Nature Education Series: Winter Tree ID on ZOOM
DESCRIPTION:Broaden your horizons and enhance your nature knowledge! Explore a new topic each month. We will cover the basics during the FREE\, VIRTUAL Zoom presentation. Pre-registration is required. Zoom link will be sent out in the days prior to meeting.
URL:https://funinfarmington.com/event/nature-education-series-winter-tree-id-on-zoom/
LOCATION:Zoom – Virtual
CATEGORIES:Adults,Educational,NAture
END:VEVENT
BEGIN:VEVENT
DTSTART;TZID=UTC:20260303T190000
DTEND;TZID=UTC:20260303T210000
DTSTAMP:20260420T093240
CREATED:20260108T135740Z
LAST-MODIFIED:20260108T135740Z
UID:10018674-1772564400-1772571600@funinfarmington.com
SUMMARY:Tuesday with Lee
DESCRIPTION:Join Us Every Tuesday to taste 3 wines with Lee Hershey. \nSmall Cheese plate & Cheetos included \n$25/person\nCall to reserve your spot\n248-536-2107 (store)\n248-798-4713 (Yolla)
URL:https://funinfarmington.com/event/tuesday-with-lee/2026-03-03/
LOCATION:Perfect Pairing Market\, 38215 W. 10 Mile Rd.\, Farmington Hills\, Michigan\, 48335
CATEGORIES:Special Event
ATTACH;FMTTYPE=image/png:https://funinfarmington.com/wp-content/uploads/2026/01/Tuesday-with-Lee.png
END:VEVENT
END:VCALENDAR