BEGIN:VCALENDAR
VERSION:2.0
PRODID:-//Fun in Farmington - ECPv6.15.20//NONSGML v1.0//EN
CALSCALE:GREGORIAN
METHOD:PUBLISH
X-ORIGINAL-URL:https://funinfarmington.com
X-WR-CALDESC:Events for Fun in Farmington
REFRESH-INTERVAL;VALUE=DURATION:PT1H
X-Robots-Tag:noindex
X-PUBLISHED-TTL:PT1H
BEGIN:VTIMEZONE
TZID:UTC
BEGIN:STANDARD
TZOFFSETFROM:+0000
TZOFFSETTO:+0000
TZNAME:UTC
DTSTART:20250101T000000
END:STANDARD
END:VTIMEZONE
BEGIN:VEVENT
DTSTART;TZID=UTC:20260323T103000
DTEND;TZID=UTC:20260323T113000
DTSTAMP:20260420T111422
CREATED:20260105T042204Z
LAST-MODIFIED:20260105T043205Z
UID:10018494-1774261800-1774265400@funinfarmington.com
SUMMARY:Little Me Storytime (13-23 Months) at Library (Farmington)
DESCRIPTION:
URL:https://funinfarmington.com/event/little-me-storytime-13-23-months-at-library-farmington-2/2026-03-23/
LOCATION:Farmington Community Library – Farmington Location\, 23500 Liberty St.\, Farmington\, Michigan\, 48335
CATEGORIES:Kids & Families
END:VEVENT
BEGIN:VEVENT
DTSTART;TZID=UTC:20260323T103000
DTEND;TZID=UTC:20260323T113000
DTSTAMP:20260420T111422
CREATED:20260105T042343Z
LAST-MODIFIED:20260105T043255Z
UID:10018511-1774261800-1774265400@funinfarmington.com
SUMMARY:Preschool Storytime (Ages 3-5) at Library (FH)
DESCRIPTION:Library events are always free to the public and you do not need a library card to attend! \nThe Farmington Community Library has two locations.  This event will be held in the Auditorium at the FCL Farmington Hills location at 32737 W. 12 Mile Rd.\, Farmington Hill\, MI  48334. \nNo Registration Required \nAt storytime\, we show you how to help your child’s brain grow by talking\, singing\, reading\, writing\, and playing\, and we help you connect with other parents. Children and their caregivers will enjoy stories\, music\, and movement together\, followed by playtime with art and/or sensory experiences. The Preschool Storytime and playtime activities are designed for kids who are 3-5 years old with an adult. Siblings welcome.
URL:https://funinfarmington.com/event/preschool-storytime-ages-3-5-at-library-fh/2026-03-23/
LOCATION:Farmington Community Library – Farmington Hills Location\, 32737 W. 12 Mile Rd.\, Farmington Hills\, Michigan\, 48334
CATEGORIES:Kids & Families
END:VEVENT
BEGIN:VEVENT
DTSTART;TZID=UTC:20260323T170000
DTEND;TZID=UTC:20260323T200000
DTSTAMP:20260420T111422
CREATED:20260222T214637Z
LAST-MODIFIED:20260222T214637Z
UID:10019677-1774285200-1774296000@funinfarmington.com
SUMMARY:Ladies Night at SIPS Sports Bar
DESCRIPTION:Girls Night at SIPS – drinks\, music and your TVs\, your way!
URL:https://funinfarmington.com/event/ladies-night-at-sips-sports-bar/2026-03-23/
LOCATION:SIPS Sports Bar\, 35223 Grand River Ave\, Farmington\, MI\, United States
CATEGORIES:Food,Women
END:VEVENT
BEGIN:VEVENT
DTSTART;TZID=UTC:20260323T180000
DTEND;TZID=UTC:20260323T190000
DTSTAMP:20260420T111422
CREATED:20260105T041714Z
LAST-MODIFIED:20260105T041714Z
UID:10018481-1774288800-1774292400@funinfarmington.com
SUMMARY:Candlelit Yoga at First Presbyterian
DESCRIPTION:Refocus your week during this beautiful candlelit slow-flow hour. Get centered with the day’s devotion and enjoy the connection of mind\, body and spirit to your Creator. This therapeutic style of yoga takes joints through all range of motion\, leaving you feeling mentally\, physically and spiritually prepared to take on anything the week might throw at you. Come and try your first class here for free!
URL:https://funinfarmington.com/event/candlelit-yoga-at-first-presbyterian/2026-03-23/
LOCATION:First Presbyterian Church of Farmington\, 26165 Farmington Rd\, Farmington Hills\, Michigan\, 48334
CATEGORIES:Yoga
END:VEVENT
BEGIN:VEVENT
DTSTART;TZID=UTC:20260323T180000
DTEND;TZID=UTC:20260323T190000
DTSTAMP:20260420T111422
CREATED:20260305T173203Z
LAST-MODIFIED:20260305T173203Z
UID:10019980-1774288800-1774292400@funinfarmington.com
SUMMARY:Bodhi Yoga: Namaste + Nourish with Olive Thyme & Farmington Brewing Co.
DESCRIPTION:Come join us for a yoga class at Bodhi Yoga\, then walk over to Farmington Brewing Company for a luxurious nutrient-dense\, whole food meal waiting for you showcasing pure & healthy ingredients! Included with the class and dinner are 5 – 4 oz. beer pairings and an additional pint of your choice from the brewery to be used at the dinner or on a future date.
URL:https://funinfarmington.com/event/bodhi-yoga-namaste-nourish-with-olive-thyme-farmington-brewing-co/
LOCATION:Farmington Brewing Company\, 33336 Grand River Ave\, Farmington\, Michigan\, 48336
CATEGORIES:Adults,Food,Yoga
END:VEVENT
BEGIN:VEVENT
DTSTART;TZID=UTC:20260323T183000
DTEND;TZID=UTC:20260323T193000
DTSTAMP:20260420T111422
CREATED:20260105T042643Z
LAST-MODIFIED:20260105T043339Z
UID:10018528-1774290600-1774294200@funinfarmington.com
SUMMARY:Evening Storytime (Ages 1-6) at Library (FH)
DESCRIPTION:Library events are always free to the public and you do not need a library card to attend!  \nThe Farmington Community Library has two locations. This event will be held in the Auditorium at the FCL Farmington Hills location at 32737 W. 12 Mile Rd.\, Farmington Hills\, MI 48334 \nNo Registration Required \nAt storytime\, we show you how to help your child’s brain grow by talking\, singing\, reading\, writing\, and playing\, and we help you connect with other parents. Children and their caregivers will enjoy stories\, music\, and movement together\, followed by playtime with art and/or sensory experiences. The Evening storytime and playtime activities are designed for kids who are 1-6 years old with an adult. Siblings welcome. \n\nDisclaimer(s)\n\n\n\n\nThis program is designed for children and accompanying adults. Please plan to attend and be engaged with your child for this program. Drop offs will not be permitted. \n\n\n\n\n\n\nTo request ADA accommodations\, such as wheelchair access or sign language interpretation\, please complete the Accommodation Request Form at least 10 days before the event.
URL:https://funinfarmington.com/event/evening-storytime-ages-1-6-at-library-fh-2/2026-03-23/
LOCATION:Farmington Community Library – Farmington Hills Location\, 32737 W. 12 Mile Rd.\, Farmington Hills\, Michigan\, 48334
CATEGORIES:Kids & Families
END:VEVENT
BEGIN:VEVENT
DTSTART;TZID=UTC:20260323T183000
DTEND;TZID=UTC:20260323T200000
DTSTAMP:20260420T111422
CREATED:20260111T231244Z
LAST-MODIFIED:20260111T231244Z
UID:10019131-1774290600-1774296000@funinfarmington.com
SUMMARY:Celebrate Reading Month with Author Saadia Faruqui at Library (FH)
DESCRIPTION:Celebrate National Reading Month with an exciting author visit at FCL! Saadia Faruqui\, author of popular children’s and young adult titles\, will join us for a celebration of stories and reading.
URL:https://funinfarmington.com/event/celebrate-reading-month-with-author-saadia-faruqui-at-library-fh/
LOCATION:Michigan
CATEGORIES:Community,Educational,Kids & Families,Reading,Teens
END:VEVENT
BEGIN:VEVENT
DTSTART;TZID=UTC:20260323T183000
DTEND;TZID=UTC:20260323T203000
DTSTAMP:20260420T111422
CREATED:20250908T125825Z
LAST-MODIFIED:20250908T125825Z
UID:10017150-1774290600-1774297800@funinfarmington.com
SUMMARY:Trivia Night at Shots Bar and Grill
DESCRIPTION:𝑻𝑹𝑰𝑽𝑰𝑨 𝑵𝑰𝑮𝑯𝑻 tonight at Shots Bar & Grille in Farmington Hills!Game starts at 6:30pm!
URL:https://funinfarmington.com/event/trivia-night-at-shots-bar-and-grill/2026-03-23/
LOCATION:Shots Bar and Grille\, 30859 W 10 Mile Rd\, Farmington Hills\, Michigan\, 48336
CATEGORIES:Trivia
END:VEVENT
BEGIN:VEVENT
DTSTART;TZID=UTC:20260323T193000
DTEND;TZID=UTC:20260323T200000
DTSTAMP:20260420T111422
CREATED:20260322T195841Z
LAST-MODIFIED:20260322T195841Z
UID:10020035-1774294200-1774296000@funinfarmington.com
SUMMARY:Hooked on Books at Library (FH) (Adults 60+)
DESCRIPTION:Please see event details below for registration requirements.\nRegistration will close on March 23\, 2026 @ 7:00pm.\n\n\n\n\n\nLibrary events are always free to the public and you do not need a library card to attend!  \nThe Farmington Community Library has two locations. This event will be held in Conference Room B at the FCL Farmington Hills location at 32737 W. 12 Mile Rd.\, Farmington Hills\, MI\, 48334.  \nRegistration is preferred but not required. \nEach month the group meets to discuss recent popular fiction titles. \nThis month we will be reading The Seven Husbands of Evelyn Hugo by Taylor Jenkins Reid. \nLimited copies of book discussion titles will be available at the Information Desks at both FCL locations approximately 30 days before the discussion.
URL:https://funinfarmington.com/event/hooked-on-books-at-library-fh-adults-60/
LOCATION:Farmington Community Library – Farmington Hills Location\, 32737 W. 12 Mile Rd.\, Farmington Hills\, Michigan\, 48334
CATEGORIES:Adults,Book Club,Reading
ATTACH;FMTTYPE=image/png:https://funinfarmington.com/wp-content/uploads/2026/03/evelyn.png
END:VEVENT
BEGIN:VEVENT
DTSTART;TZID=UTC:20260323T193000
DTEND;TZID=UTC:20260323T213000
DTSTAMP:20260420T111422
CREATED:20260222T235900Z
LAST-MODIFIED:20260222T235900Z
UID:10019755-1774294200-1774301400@funinfarmington.com
SUMMARY:Trivia Night at Basement Burger Bar
DESCRIPTION:Every Monday at 7:30pm and 8:30pm \nEvery Wednesday at 8:30pm and 9:30pm
URL:https://funinfarmington.com/event/trivia-night-at-basement-burger-bar/2026-03-23/
LOCATION:Basement Burger Bar\, 33316 Grand River Ave\, Farmington\, MI\, 48336\, United States
CATEGORIES:Adults,Games
ATTACH;FMTTYPE=image/png:https://funinfarmington.com/wp-content/uploads/2026/02/trivia.png
END:VEVENT
END:VCALENDAR