BEGIN:VCALENDAR
VERSION:2.0
PRODID:-//Fun in Farmington - ECPv6.15.20//NONSGML v1.0//EN
CALSCALE:GREGORIAN
METHOD:PUBLISH
X-WR-CALNAME:Fun in Farmington
X-ORIGINAL-URL:https://funinfarmington.com
X-WR-CALDESC:Events for Fun in Farmington
REFRESH-INTERVAL;VALUE=DURATION:PT1H
X-Robots-Tag:noindex
X-PUBLISHED-TTL:PT1H
BEGIN:VTIMEZONE
TZID:UTC
BEGIN:STANDARD
TZOFFSETFROM:+0000
TZOFFSETTO:+0000
TZNAME:UTC
DTSTART:20250101T000000
END:STANDARD
END:VTIMEZONE
BEGIN:VEVENT
DTSTART;TZID=UTC:20260422T103000
DTEND;TZID=UTC:20260422T113000
DTSTAMP:20260422T022551
CREATED:20260105T043519Z
LAST-MODIFIED:20260105T043548Z
UID:10018583-1776853800-1776857400@funinfarmington.com
SUMMARY:Little Me Storytime (13-23 Months) at Library (FH)
DESCRIPTION:Library events are always free to the public and you do not need a library card to attend!  \nThe Farmington Community Library has two locations. This event will be held in the Auditorium at the FCL Farmington Hills location at 32737 W. 12 Mile Rd.\, Farmington Hills\, MI\, 48334.  \nNo Registration Required \nAt storytime\, we show you how to help your child’s brain grow by talking\, singing\, reading\, writing\, and playing\, and we help you connect with other parents. Children and their caregivers will enjoy stories\, music\, and movement together\, followed by playtime with art and/or sensory experiences. The Little Me storytime and playtime activities are designed for kids who are 13 to 23 months with an adult. Siblings welcome. \n\nDisclaimer(s)\n\n\n\n\nThis program is designed for children and accompanying adults. Please plan to attend and be engaged with your child for this program. Drop offs will not be permitted. \n\n\n\n\n\n\nTo request ADA accommodations\, such as wheelchair access or sign language interpretation\, please complete the Accommodation Request Form at least 10 days before the event. \n\n\n\n\n\n\nAdaptive tools will be available at this event. You can review the list of adaptive supplies available at Library events here.
URL:https://funinfarmington.com/event/little-me-storytime-13-23-months-at-library-fh-2/2026-04-22/
LOCATION:Farmington Community Library – Farmington Hills Location\, 32737 W. 12 Mile Rd.\, Farmington Hills\, Michigan\, 48334
CATEGORIES:Kids & Families
END:VEVENT
BEGIN:VEVENT
DTSTART;TZID=UTC:20260422T103000
DTEND;TZID=UTC:20260422T113000
DTSTAMP:20260422T022551
CREATED:20260105T043717Z
LAST-MODIFIED:20260105T043717Z
UID:10018600-1776853800-1776857400@funinfarmington.com
SUMMARY:Terrific Twos Storytime (Age 2) at Library (Farmington)
DESCRIPTION:Library Events are always free to the public and you do not need a library card to attend! \nThe Farmington Community Library has two locations. This event will be held in the Meeting Room at the FCL Farmington location at 23500 Liberty St.\, Farmington\, MI 48335. \nNo Registration Required \nAt storytime\, we show you how to help your child’s brain grow by talking\, singing\, reading\, writing\, and playing\, and we help you connect with other parents. Children and their caregivers will enjoy stories\, music\, and movement together\, followed by playtime with art and/or sensory experiences. Terrific Twos storytime and playtime activities are designed for kids who are 2 years-old with an adult. Siblings welcome. \n\nDisclaimer(s)\n\n\n\n\nThis program is designed for children and accompanying adults. Please plan to attend and be engaged with your child for this program. Drop offs will not be permitted. \n\n\n\n\n\n\nTo request ADA accommodations\, such as wheelchair access or sign language interpretation\, please complete the Accommodation Request Form at least 10 days before the event.
URL:https://funinfarmington.com/event/terrific-twos-storytime-age-2-at-library-farmington/2026-04-22/
LOCATION:Farmington Community Library – Farmington Location\, 23500 Liberty St.\, Farmington\, Michigan\, 48335
CATEGORIES:Kids & Families
END:VEVENT
BEGIN:VEVENT
DTSTART;TZID=UTC:20260422T113000
DTEND;TZID=UTC:20260422T133000
DTSTAMP:20260422T022551
CREATED:20260420T000333Z
LAST-MODIFIED:20260420T000348Z
UID:10020928-1776857400-1776864600@funinfarmington.com
SUMMARY:Dine & Discover: Detroit’s Dream Palaces at Costick Center
DESCRIPTION:We’ll examine how the glamorous\, exotic\, opulent Dream Palaces evolved from silent movies shown in humble and sometimes shabby storefronts. You will hear the stories of two Detroit Dream Palaces. One had a Prince Charming and flourished. The other a sad but uniquely Detroit ending.
URL:https://funinfarmington.com/event/dine-discover-detroits-dream-palaces/
LOCATION:Costick Center\, 28600 W Eleven Mile Rd\, Farmington Hills\, Michigan\, 48336
CATEGORIES:Adults,Educational,Food
END:VEVENT
BEGIN:VEVENT
DTSTART;TZID=UTC:20260422T160000
DTEND;TZID=UTC:20260422T190000
DTSTAMP:20260422T022551
CREATED:20260305T172507Z
LAST-MODIFIED:20260305T172507Z
UID:10019979-1776873600-1776884400@funinfarmington.com
SUMMARY:Earth Day Celebration at Heritage Park
DESCRIPTION:The City of Farmington Hills is celebrating Earth Day at the Farmington Hills Nature Center. This family-friendly event aims to promote environmental awareness and sustainability through interactive activities and informational booths. With free admission for all\, it’s a celebration not to be missed with live music\, face painting\, food trucks and more! No registration is required.\nHighlights•Family-Friendly Activities: Enjoy eco-crafts and activities for both kids and adults.•Interactive Booths: Explore earth-friendly topics and get helpful resources to incorporate sustainable living into your daily routines.•Visit the Farmington Hills Nature Center: Learn more about the flora and fauna around you. Then\, take a hike through Heritage Park to spot the wildlife you learned about.
URL:https://funinfarmington.com/event/earth-day-celebration-at-heritage-park/
LOCATION:Heritage Park\, 24915 Farmington Rd\, Farmington Hills\, MI\, 48336\, United States
CATEGORIES:Community,Festival,Kids & Families,NAture,Older Adults,Parents,Seniors,Teens
END:VEVENT
BEGIN:VEVENT
DTSTART;TZID=UTC:20260422T183000
DTEND;TZID=UTC:20260422T193000
DTSTAMP:20260422T022551
CREATED:20260130T145218Z
LAST-MODIFIED:20260130T145218Z
UID:10019465-1776882600-1776886200@funinfarmington.com
SUMMARY:Discovery Storytime (Ages 2-6) at Library (Farmington)
DESCRIPTION:No registration is required. \nAt storytime\, we show you how to help your child’s brain grow by talking\, singing\, reading\, writing\, and playing\, and we help you connect with other parents. Children and their caregivers will enjoy a short storytime followed by exploration for children ages 2-6. As you engage in sensory play and movement together your child will be building literacy skills.
URL:https://funinfarmington.com/event/discovery-storytime-ages-2-6-at-library-farmington-2/2026-04-22/
LOCATION:Farmington Community Library – Farmington Location\, 23500 Liberty St.\, Farmington\, Michigan\, 48335
CATEGORIES:Community,Kids & Families,Reading
END:VEVENT
BEGIN:VEVENT
DTSTART;TZID=UTC:20260422T183000
DTEND;TZID=UTC:20260422T203000
DTSTAMP:20260422T022551
CREATED:20251117T152957Z
LAST-MODIFIED:20251117T152957Z
UID:10018107-1776882600-1776889800@funinfarmington.com
SUMMARY:OpinioNation! at Farmington Brewing Co
DESCRIPTION:OpinioNation at FBC!\nGet ready for some mid-week fun with OpinioNation at FBC! Join us every Wednesday for a low-stress\, high-energy game where your team debates the most popular answers to survey questions. Top two teams win a gift certificate to FBC! Games kick off at 6:30pm and 7:30pm!\nHere’s how it works:\nEach round has four survey questions\, and your team will try to guess the most common answers.Guess the most popular answer? Earn 5 points. The next most common answer? 4 points\, and so on.Bonus rounds and final questions offer big chances to score extra points\, but watch out—wrong answers can cost you!Bring your best guesses\, your A-team\, and enjoy a night full of laughs and friendly competition!
URL:https://funinfarmington.com/event/opinionation-at-farmington-brewing-co/2026-04-22/
LOCATION:Farmington Brewing Company\, 33336 Grand River Ave\, Farmington\, Michigan\, 48336
CATEGORIES:Trivia
END:VEVENT
BEGIN:VEVENT
DTSTART;TZID=UTC:20260422T203000
DTEND;TZID=UTC:20260422T223000
DTSTAMP:20260422T022551
CREATED:20260223T000006Z
LAST-MODIFIED:20260301T192333Z
UID:10019928-1776889800-1776897000@funinfarmington.com
SUMMARY:Trivia Night at Basement Burger Bar
DESCRIPTION:Every Monday at 7:30pm and 8:30pm \nEvery Wednesday at 8:30pm and 9:30pm
URL:https://funinfarmington.com/event/trivia-night-at-basement-burger-bar-2/2026-04-22/
LOCATION:Basement Burger Bar\, 33316 Grand River Ave\, Farmington\, MI\, 48336\, United States
CATEGORIES:Adults,Games
ATTACH;FMTTYPE=image/png:https://funinfarmington.com/wp-content/uploads/2026/02/trivia.png
END:VEVENT
END:VCALENDAR