BEGIN:VCALENDAR
VERSION:2.0
PRODID:-//Fun in Farmington - ECPv6.15.20//NONSGML v1.0//EN
CALSCALE:GREGORIAN
METHOD:PUBLISH
X-WR-CALNAME:Fun in Farmington
X-ORIGINAL-URL:https://funinfarmington.com
X-WR-CALDESC:Events for Fun in Farmington
REFRESH-INTERVAL;VALUE=DURATION:PT1H
X-Robots-Tag:noindex
X-PUBLISHED-TTL:PT1H
BEGIN:VTIMEZONE
TZID:UTC
BEGIN:STANDARD
TZOFFSETFROM:+0000
TZOFFSETTO:+0000
TZNAME:UTC
DTSTART:20250101T000000
END:STANDARD
END:VTIMEZONE
BEGIN:VEVENT
DTSTART;TZID=UTC:20260423T103000
DTEND;TZID=UTC:20260423T113000
DTSTAMP:20260426T001501
CREATED:20260105T043834Z
LAST-MODIFIED:20260105T043834Z
UID:10018617-1776940200-1776943800@funinfarmington.com
SUMMARY:Baby Storytime (0-12 Months) at Library (Farmington)
DESCRIPTION:Library Events are always free to the public and you do not need a library card to attend! \nThe Farmington Community Library has two locations.  This event will be held in the meeting room at the FCL Farmington location 23500 Liberty St.\, Farmington\, MI 48335. \nNo Registration Required \nAt storytime\, we show you how to help your child’s brain grow by talking\, singing\, reading\, writing\, and playing\, and we help you connect with other parents. Children and their caregivers will enjoy stories\, music\, and movement together\, followed by playtime. The Baby Storytime and playtime activities are designed for kids who are 0-12 months with an adult. Siblings welcome. \n\nDisclaimer(s)\n\n\n\n\nThis program is designed for children and accompanying adults. Please plan to attend and be engaged with your child for this program. Drop offs will not be permitted. \n\n\n\n\n\n\nTo request ADA accommodations\, such as wheelchair access or sign language interpretation\, please complete the Accommodation Request Form at least 10 days before the event.
URL:https://funinfarmington.com/event/baby-storytime-0-12-months-at-library-farmington-2/2026-04-23/
LOCATION:Farmington Community Library – Farmington Location\, 23500 Liberty St.\, Farmington\, Michigan\, 48335
CATEGORIES:Kids & Families
END:VEVENT
BEGIN:VEVENT
DTSTART;TZID=UTC:20260423T103000
DTEND;TZID=UTC:20260423T113000
DTSTAMP:20260426T001501
CREATED:20260105T044016Z
LAST-MODIFIED:20260105T044016Z
UID:10018634-1776940200-1776943800@funinfarmington.com
SUMMARY:Terrific Twos Storytime (Age 2) at Library (FH)
DESCRIPTION:Library events are always free to the public and you do not need a library card to attend! \nThe Farmington Community Library has two locations. This event will be held in the Auditorium at the FCL Farmington Hills location at 32737 W. 12 Mile Rd.\, Farmington Hills\, MI 48334. \nNo Registration Required \nAt storytime\, we show you how to help your child’s brain grow by talking\, singing\, reading\, writing\, and playing\, and we help you connect with other parents. Children and their caregivers will enjoy stories\, music\, and movement together\, followed by playtime with art and/or sensory experiences. Terrific Twos storytime and playtime activities are designed for kids who are 2 years-old with an adult. Siblings welcome. \n\nDisclaimer(s)\n\n\n\n\nThis program is designed for children and accompanying adults. Please plan to attend and be engaged with your child for this program. Drop offs will not be permitted. \n\n\n\n\n\n\nTo request ADA accommodations\, such as wheelchair access or sign language interpretation\, please complete the Accommodation Request Form at least 10 days before the event.
URL:https://funinfarmington.com/event/terrific-twos-storytime-age-2-at-library-fh/2026-04-23/
LOCATION:Farmington Community Library – Farmington Hills Location\, 32737 W. 12 Mile Rd.\, Farmington Hills\, Michigan\, 48334
CATEGORIES:Kids & Families
END:VEVENT
BEGIN:VEVENT
DTSTART;TZID=UTC:20260423T160000
DTEND;TZID=UTC:20260423T170000
DTSTAMP:20260426T001501
CREATED:20260105T044234Z
LAST-MODIFIED:20260105T044234Z
UID:10018651-1776960000-1776963600@funinfarmington.com
SUMMARY:Thursday Afternoon Club (Grades 3-5) at Library - REGISTRATION REQUIRED (FH)
DESCRIPTION:Library events are always free to the public and you do not need a library card to attend!  \nThe Farmington Community Library has two locations. This event will be held in the Auditorium at the FCL Farmington Hills location at 32737 W. 12 Mile Rd.\, Farmington Hills\, MI 48334.  \nRegistration is required. \nHang out with other kids while we do a different activity each week! We do hands-on STEM projects\, make healthy snacks\, move our bodies\, and create art. For 3rd-5th graders only. \nNote to parents: You will drop off your child for this event. We ask that you stay in the Library until it’s time to pick them up. \n\nDisclaimer(s)\n\n\n\n\nTo request ADA accommodations\, such as wheelchair access or sign language interpretation\, please complete the Accommodation Request Form at least 10 days before the event.
URL:https://funinfarmington.com/event/thursday-afternoon-club-grades-3-5-at-library-registration-required-fh/2026-04-23/
LOCATION:Farmington Community Library – Farmington Hills Location\, 32737 W. 12 Mile Rd.\, Farmington Hills\, Michigan\, 48334
CATEGORIES:Kids & Families
END:VEVENT
BEGIN:VEVENT
DTSTART;TZID=UTC:20260423T163000
DTEND;TZID=UTC:20260423T183000
DTSTAMP:20260426T001501
CREATED:20260419T163427Z
LAST-MODIFIED:20260419T163427Z
UID:10020847-1776961800-1776969000@funinfarmington.com
SUMMARY:LOC Kids Financial Education Fair (Grades K-8) at Library (FH)
DESCRIPTION:No registration is required. \nDo you want your child to learn how to be financially responsible in the future? Do you want them to learn in an engaging way? LOC Credit Union’s High School Financial Education Ambassadors have put together a financial education “fair” to provide kids with a fun learning experience. They will explore ways to budget\, save\, and spend money by playing a variety of entertaining games and activities. Visit the fair and you might win a prize!
URL:https://funinfarmington.com/event/loc-kids-financial-education-fair-grades-k-8-at-library-fh/
LOCATION:Farmington Community Library – Farmington Hills Location\, 32737 W. 12 Mile Rd.\, Farmington Hills\, Michigan\, 48334
CATEGORIES:Educational,Kids & Families
END:VEVENT
BEGIN:VEVENT
DTSTART;TZID=UTC:20260423T170000
DTEND;TZID=UTC:20260423T210000
DTSTAMP:20260426T001501
CREATED:20260323T142313Z
LAST-MODIFIED:20260323T142313Z
UID:10020305-1776963600-1776978000@funinfarmington.com
SUMMARY:Ladies Night Out in Downtown Farmington
DESCRIPTION:Grab your friends and get ready for an evening of shopping\, sipping\, dining\, and fun throughout downtown. It’s the perfect excuse for a midweek girls’ night out!
URL:https://funinfarmington.com/event/ladies-night-out-in-downtown-farmington-2/
LOCATION:Riley Park\, 33113 Grand River Ave\, Farmington\, Michigan\, 48335
CATEGORIES:Food,Shopping,Special Event,Women
ATTACH;FMTTYPE=image/png:https://funinfarmington.com/wp-content/uploads/2026/03/ladies-night.png
END:VEVENT
BEGIN:VEVENT
DTSTART;TZID=UTC:20260423T170000
DTEND;TZID=UTC:20260423T210000
DTSTAMP:20260426T001501
CREATED:20260414T225237Z
LAST-MODIFIED:20260414T225237Z
UID:10020496-1776963600-1776978000@funinfarmington.com
SUMMARY:Dog & Cat Adoption Event with Happy Paws Haven
DESCRIPTION:We’re teaming up with a rescue organization to help lovable pets find their forever homes. Come meet adoptable dogs and/or cats\, learn about responsible pet ownership\, and support a small business that truly cares about the community and its animals. Our knowledgeable staff and volunteers will be on hand to answer questions and help guide you through the adoption process. Whether you’re ready to adopt or just want to stop by and show some love\, we’d be thrilled to see you there!
URL:https://funinfarmington.com/event/dog-cat-adoption-event-with-happy-paws-haven-3/
LOCATION:Tolonen Family Pet\, 23320 Farmington Rd\, Farmington\, Michigan\, 48336
CATEGORIES:Pets
ORGANIZER;CN="Tolonen Family Pet":MAILTO:Info@tolonenfamilypet.com
END:VEVENT
BEGIN:VEVENT
DTSTART;TZID=UTC:20260423T170000
DTEND;TZID=UTC:20260423T210000
DTSTAMP:20260426T001501
CREATED:20260416T201703Z
LAST-MODIFIED:20260417T181214Z
UID:10020509-1776963600-1776978000@funinfarmington.com
SUMMARY:A Spring Fling Vintage Market at Ground Control
DESCRIPTION:Ground Control Coffee Roasters is hosting Valbona Vintage again\, this time for Ladies Night Out! VV is offering a vintage market with all the spring vibes! Expect new & modern items as well 🙂 Drinks this evening will be buy one\, get one half off.
URL:https://funinfarmington.com/event/a-spring-fling-vintage-market-at-ground-control/
LOCATION:Ground Control Coffee Roasters\, 33319 Grand River Ave\, Farmington\, 48336\, United States
ATTACH;FMTTYPE=image/png:https://funinfarmington.com/wp-content/uploads/2026/04/A-spring-fling-vintage-market.png
ORGANIZER;CN="Valbona vintage":MAILTO:Valbonavintage@gmail.com
END:VEVENT
BEGIN:VEVENT
DTSTART;TZID=UTC:20260423T180000
DTEND;TZID=UTC:20260423T200000
DTSTAMP:20260426T001501
CREATED:20260418T211530Z
LAST-MODIFIED:20260418T211530Z
UID:10020574-1776967200-1776974400@funinfarmington.com
SUMMARY:Weekly Writers Group at SkepSpace
DESCRIPTION:Our Skep Writers Group group will focus on writers’ prompts and journaling to promote creativity. Led by Becky Burns. $5 weekly suggested donation. Contact Becky Burns if interested.
URL:https://funinfarmington.com/event/weekly-writers-group-at-skepspace/2026-04-23/
LOCATION:Skep Space\, 33018 Grand River Ave\, Farmington Hills\, Michigan\, 48336
CATEGORIES:Writing
END:VEVENT
BEGIN:VEVENT
DTSTART;TZID=UTC:20260423T183000
DTEND;TZID=UTC:20260423T200000
DTSTAMP:20260426T001501
CREATED:20260218T184136Z
LAST-MODIFIED:20260218T184136Z
UID:10019571-1776969000-1776974400@funinfarmington.com
SUMMARY:Parent Workshop - Screens and Young Children (Zoom - virtual)
DESCRIPTION:This event is only being offered virtually on Zoom. Registration is required to receive the Zoom meeting link. The Zoom meeting link will be included in the registration confirmation email. \nHow can families of young children navigate media and technology?  How do screens impact early development? Learn practical strategies\, tips\, and resources to support healthy media habits for children ages 5 and under. \nThis workshop will be recorded and made available on the Library’s YouTube channel for Parent Workshop recordings\, where you can also find recordings of past Parent Workshops on a variety of topics. \nThis workshop is in partnership with the Center of Excellence on Social Media and Youth Mental Health.
URL:https://funinfarmington.com/event/parent-workshop-screens-and-young-children-zoom-virtual/
LOCATION:Zoom – Virtual
CATEGORIES:Parents
END:VEVENT
BEGIN:VEVENT
DTSTART;TZID=UTC:20260423T190000
DTEND;TZID=UTC:20260423T190000
DTSTAMP:20260426T001501
CREATED:20260305T165535Z
LAST-MODIFIED:20260322T224735Z
UID:10020048-1776970800-1776970800@funinfarmington.com
SUMMARY:Ladies and 80's at Sidecar Slider Bar
DESCRIPTION:
URL:https://funinfarmington.com/event/ladies-and-80s-at-sidecar-slider-bar-3/2026-04-23/
LOCATION:Sidecar Slider Bar\, 32720 Grand River Ave\, Farmington\, Michigan\, 48336
CATEGORIES:Music,Women
ATTACH;FMTTYPE=image/png:https://funinfarmington.com/wp-content/uploads/2026/03/ladies-80s.png
END:VEVENT
BEGIN:VEVENT
DTSTART;TZID=UTC:20260423T190000
DTEND;TZID=UTC:20260423T220000
DTSTAMP:20260426T001501
CREATED:20260128T152552Z
LAST-MODIFIED:20260128T152552Z
UID:10019412-1776970800-1776981600@funinfarmington.com
SUMMARY:Tournament Thursday - Super Smash Bros. Ultimate
DESCRIPTION:Join us every Thursday for Tournament Thursday! New tournament rules every week with prizes going to top 4. $5 entry\, newcomers play free! Don’t want to play? Drink service runs during the event\, so grab your favorite drink.
URL:https://funinfarmington.com/event/tournament-thursday-super-smash-bros-ultimate/2026-04-23/
LOCATION:Apothecary Espresso and Coffee\, 23366 Farmington Rd\, Farmington\, 48336
CATEGORIES:Games,Tech
ORGANIZER;CN="Drake Ficara":MAILTO:apothecary.events@gmail.com
END:VEVENT
BEGIN:VEVENT
DTSTART;TZID=UTC:20260423T200000
DTEND;TZID=UTC:20260423T230000
DTSTAMP:20260426T001501
CREATED:20260223T000707Z
LAST-MODIFIED:20260223T000707Z
UID:10019774-1776974400-1776985200@funinfarmington.com
SUMMARY:Karaoke Night at 1Up Arcade Bar
DESCRIPTION:Join us for Karaoke night every Thursday from 8-11pm at 1Up Arcade Bar in Farmington. Bring your friends and compete for the title of karaoke champ while enjoying a vibe you won’t forget!
URL:https://funinfarmington.com/event/karaoke-night-at-1up-arcade-bar/2026-04-23/
LOCATION:1Up Arcade Bar\, 33316 Grand River Ave\, Farmington\, Michigan\, 48336
CATEGORIES:Adults,Dance,Karaoke,Music
ATTACH;FMTTYPE=image/png:https://funinfarmington.com/wp-content/uploads/2026/02/1up-arcade-karaoke.png
END:VEVENT
END:VCALENDAR