BEGIN:VCALENDAR
VERSION:2.0
PRODID:-//Fun in Farmington - ECPv6.15.20//NONSGML v1.0//EN
CALSCALE:GREGORIAN
METHOD:PUBLISH
X-WR-CALNAME:Fun in Farmington
X-ORIGINAL-URL:https://funinfarmington.com
X-WR-CALDESC:Events for Fun in Farmington
REFRESH-INTERVAL;VALUE=DURATION:PT1H
X-Robots-Tag:noindex
X-PUBLISHED-TTL:PT1H
BEGIN:VTIMEZONE
TZID:UTC
BEGIN:STANDARD
TZOFFSETFROM:+0000
TZOFFSETTO:+0000
TZNAME:UTC
DTSTART:20250101T000000
END:STANDARD
END:VTIMEZONE
BEGIN:VEVENT
DTSTART;TZID=UTC:20260425T090000
DTEND;TZID=UTC:20260425T130000
DTSTAMP:20260425T021314
CREATED:20260419T230402Z
LAST-MODIFIED:20260419T230402Z
UID:10020913-1777107600-1777122000@funinfarmington.com
SUMMARY:Spring Open House Sale at Detroit Wildflower Nursery
DESCRIPTION:Kick off the new season with us at our 2nd annual Spring Open House Sale re-opening event! You’ll be able to browse our entire inventory\, all set up in the driveway for easy shopping.
URL:https://funinfarmington.com/event/spring-open-house-sale-at-detroit-wildflower-nursery/2026-04-25/
LOCATION:Detroit Wildflower Nursery\, 27220 Bramwell St\, Farmington Hills\, MI\, 48334\, United States
CATEGORIES:NAture,Shopping
END:VEVENT
BEGIN:VEVENT
DTSTART;TZID=UTC:20260425T090000
DTEND;TZID=UTC:20260425T150000
DTSTAMP:20260425T021314
CREATED:20260419T233158Z
LAST-MODIFIED:20260419T233158Z
UID:10020917-1777107600-1777129200@funinfarmington.com
SUMMARY:Flea Market at Finnish Center
DESCRIPTION:Join us for a flea market in the FCA Main Hall on April 25 (Saturday) from 9 a.m. – 3 p.m. Many hidden treasures and bargains!
URL:https://funinfarmington.com/event/flea-market-at-finnish-center/
LOCATION:Finnish Center & Hall\, 35200 W 8 Mile Rd.\, Farmington Hills\, MI\, 48335\, United States
CATEGORIES:Shopping
END:VEVENT
BEGIN:VEVENT
DTSTART;TZID=UTC:20260425T090000
DTEND;TZID=UTC:20260425T190000
DTSTAMP:20260425T021314
CREATED:20260422T164002Z
LAST-MODIFIED:20260422T164002Z
UID:10020932-1777107600-1777143600@funinfarmington.com
SUMMARY:Spring Open House at English Gardens
DESCRIPTION:Ready for spring? So are we! Join us for our First Annual Spring Open House and be among the first to explore what’s new throughout the store — from fresh houseplants and patio furniture to home & garden décor\, garden supplies\, and a beautiful selection of annuals\, perennials\, trees and shrubs. Enjoy samples of our new gourmet foods\, a fun scavenger hunt and free planting activity for the kids*\, and special savings just for Garden Club Members.\n\n*Kids activities will be from 11am-3pm Saturday & Sunday.\n\nRSVP below for event updates and reminders.
URL:https://funinfarmington.com/event/spring-open-house-at-english-gardens/2026-04-25/
LOCATION:English Gardens\, 6370 Orchard Lake Rd MI\, West Bloomfield Township\, Michigan\, 48322
CATEGORIES:Kids & Families,Special Event
END:VEVENT
BEGIN:VEVENT
DTSTART;TZID=UTC:20260425T100000
DTEND;TZID=UTC:20260425T160000
DTSTAMP:20260425T021314
CREATED:20260419T162855Z
LAST-MODIFIED:20260419T162855Z
UID:10020845-1777111200-1777132800@funinfarmington.com
SUMMARY:Spring Craft Fair at First Presbyterian Church of Farmington
DESCRIPTION:Get your pals together and come to the craft fair when the doors open for first pick of the wonderful items created by artists\, crafters and bakers.
URL:https://funinfarmington.com/event/spring-craft-fair-at-first-presbyterian-church-of-farmington/2026-04-25/
LOCATION:First Presbyterian Church of Farmington\, 26165 Farmington Rd\, Farmington Hills\, Michigan\, 48334
CATEGORIES:Crafting,Food,Shopping,Special Event
END:VEVENT
BEGIN:VEVENT
DTSTART;TZID=UTC:20260425T110000
DTEND;TZID=UTC:20260425T120000
DTSTAMP:20260425T021314
CREATED:20260110T192323Z
LAST-MODIFIED:20260110T192323Z
UID:10019098-1777114800-1777118400@funinfarmington.com
SUMMARY:Saturday STREAM (Grades K-5) at Library (Farmington)
DESCRIPTION:No registration is required. \nKids in grades K-5 can come to the Library and experiment with Science\, Technology\, Reading\, Engineering\, Art\, and Math concepts. We will have a selection of toys available for open-ended play and discovery.
URL:https://funinfarmington.com/event/saturday-stream-grades-k-5-at-library-farmington-2/2026-04-25/
LOCATION:Farmington Community Library – Farmington Location\, 23500 Liberty St.\, Farmington\, Michigan\, 48335
CATEGORIES:Art,Community,Educational,Kids & Families
END:VEVENT
BEGIN:VEVENT
DTSTART;TZID=UTC:20260425T110000
DTEND;TZID=UTC:20260425T130000
DTSTAMP:20260425T021314
CREATED:20260312T151425Z
LAST-MODIFIED:20260312T151425Z
UID:10020002-1777114800-1777122000@funinfarmington.com
SUMMARY:FAMILY DAY ~ Cotton Candy Moon at Painting With A Twist
DESCRIPTION:*FAMILY CLASS: While we welcome painters of any age\, this is recommended for ages 7 and up. \n*PRE-REGISTRATION RECOMMENDED: it is recommended that guests register for class prior to arrival to guarantee your reservation and any special seating requests. You will receive an email/text confirmation if properly registered. Payment is due at the time of the reservation to guarantee your seat. You may reserve & make payment online. \n*WHAT TO BRING: You are welcome to bring in light snacks and drinks. NO Alcohol permitted. You must provide your OWN cups\, plates and utensils for food. \n*CLASS TIME: Painting begins PROMPTLY at class time! Please arrive 30 minutes prior to class time to park\, check-in\, unwind & get smocked! If you are late to the class you may not be allowed to paint and your payment will be forfeited. \n*SEATING REQUESTS:\nIf you’re coming with others\, but making reservations separately\, give us your group’s name in the Special Request box. We’ll seat you together. If you make a late reservation we may not be able to seat you with your requested group. No seat changes are guaranteed at class time! \n*PWAT reserves the right to cancel classes for unforeseen circumstances. Registrants will be refunded.
URL:https://funinfarmington.com/event/family-day-cotton-candy-moon-at-painting-with-a-twist/
LOCATION:Painting With a Twist\, 33033 Grand River Ave\, Farmington\, 48335\, United States
CATEGORIES:Art,Kids & Families
ATTACH;FMTTYPE=image/png:https://funinfarmington.com/wp-content/uploads/2026/03/cotton-candy.png
END:VEVENT
BEGIN:VEVENT
DTSTART;TZID=UTC:20260425T110000
DTEND;TZID=UTC:20260425T173000
DTSTAMP:20260425T021314
CREATED:20260110T191326Z
LAST-MODIFIED:20260110T191326Z
UID:10019019-1777114800-1777138200@funinfarmington.com
SUMMARY:Game Day at Library (FH)
DESCRIPTION:Library events are always free to the public and you do not need a library card to attend!  \nThe Farmington Community Library has two locations. This event will be held in the Auditorium at the FCL Farmington Hills location at 32737 W. 12 Mile Rd.\, Farmington Hills\, MI 48334.  \nNo registration required. \nJoin us for a monthly Game Day meet up hosted in collaboration with Oakland County Gamers. They’ll have volunteers on hand to help teach and play games of all types for any age and any level of experience! Explore our current board game collection or bring one to share. \n\nDisclaimer(s)\n\n\n\n\nTo request ADA accommodations\, such as wheelchair access or sign language interpretation\, please complete the Accommodation Request Form at least 10 days before the event.
URL:https://funinfarmington.com/event/game-day-at-library-fh/2026-04-25/
LOCATION:Farmington Community Library – Farmington Hills Location\, 32737 W. 12 Mile Rd.\, Farmington Hills\, Michigan\, 48334
CATEGORIES:Games
END:VEVENT
BEGIN:VEVENT
DTSTART;TZID=UTC:20260425T130000
DTEND;TZID=UTC:20260425T170000
DTSTAMP:20260425T021314
CREATED:20260416T174008Z
LAST-MODIFIED:20260416T174008Z
UID:10020507-1777122000-1777136400@funinfarmington.com
SUMMARY:The Great Farmington Cleanup
DESCRIPTION:Date: Saturday\, April 25th\, 2026 from 1:00 – 5:00pm \nWhere: Sundquist Pavilion in Riley Park – Downtown Farmington\, 33113 Grand River Avenue \nThe Beautification Committee is excited to partner with the Farmington community to help clean up the city.  We are looking forward to seeing everyone\, enjoying the day\, and then ending back at the Riley Park Pavilion for pizza and prizes. \nLocal partners have been extremely generous with their donations.  You can get tickets to the raffle by donating items that will be sent to CARES.  5 items will get you 1 ticket.   \nAccepted items include; non-perishables\, i.e.\, cans or boxed cereal. \nNote for picking up trash:  There might be areas with poison ivy\, so please dress appropriately. \nThe Beautification Committee will be providing trash bags\, gloves\, and precinct maps to identify particular areas for clean-up. \nWe are looking forward to seeing you! \nThe Beautification Committee
URL:https://funinfarmington.com/event/the-great-farmington-cleanup/
LOCATION:Sundquist Pavilion\, 33113 Grand River Ave\, Farmington\, Michigan\, 48336
CATEGORIES:Volunteer
END:VEVENT
END:VCALENDAR