BEGIN:VCALENDAR
VERSION:2.0
PRODID:-//Fun in Farmington - ECPv6.15.20//NONSGML v1.0//EN
CALSCALE:GREGORIAN
METHOD:PUBLISH
X-WR-CALNAME:Fun in Farmington
X-ORIGINAL-URL:https://funinfarmington.com
X-WR-CALDESC:Events for Fun in Farmington
REFRESH-INTERVAL;VALUE=DURATION:PT1H
X-Robots-Tag:noindex
X-PUBLISHED-TTL:PT1H
BEGIN:VTIMEZONE
TZID:UTC
BEGIN:STANDARD
TZOFFSETFROM:+0000
TZOFFSETTO:+0000
TZNAME:UTC
DTSTART:20250101T000000
END:STANDARD
END:VTIMEZONE
BEGIN:VEVENT
DTSTART;TZID=UTC:20260707T100000
DTEND;TZID=UTC:20260707T210000
DTSTAMP:20260419T140425
CREATED:20260222T212801Z
LAST-MODIFIED:20260222T212801Z
UID:10019618-1783418400-1783458000@funinfarmington.com
SUMMARY:Toe Nail Tuesday at Tolonen Family Pet Shop
DESCRIPTION:Walk-in nail trims for dogs\, cats and other small animals!
URL:https://funinfarmington.com/event/toe-nail-tuesday-at-tolonen-family-pet-shop/2026-07-07/
LOCATION:Tolonen Family Pet\, 23320 Farmington Rd\, Farmington\, Michigan\, 48336
CATEGORIES:Pets
END:VEVENT
BEGIN:VEVENT
DTSTART;TZID=UTC:20260707T170000
DTEND;TZID=UTC:20260707T190000
DTSTAMP:20260419T140425
CREATED:20260406T142554Z
LAST-MODIFIED:20260406T142554Z
UID:10020339-1783443600-1783450800@funinfarmington.com
SUMMARY:Open Mic Poetry & Prose
DESCRIPTION:Join us every first Tuesday of the month for Open Mic Poetry & Prose! Share pieces you enjoy or your own works! Short stories\, spoken-word\, and excerpts are welcome too. Writers\, come share with a captive audience and enjoy some coffee while you’re at it!
URL:https://funinfarmington.com/event/open-mic-poetry-prose/2026-07-07/
LOCATION:Apothecary Espresso and Coffee\, 23366 Farmington Rd\, Farmington\, 48336
ORGANIZER;CN="Drake Ficara":MAILTO:apothecary.events@gmail.com
END:VEVENT
BEGIN:VEVENT
DTSTART;TZID=UTC:20260707T190000
DTEND;TZID=UTC:20260707T210000
DTSTAMP:20260419T140425
CREATED:20260108T135740Z
LAST-MODIFIED:20260108T135740Z
UID:10018692-1783450800-1783458000@funinfarmington.com
SUMMARY:Tuesday with Lee
DESCRIPTION:Join Us Every Tuesday to taste 3 wines with Lee Hershey. \nSmall Cheese plate & Cheetos included \n$25/person\nCall to reserve your spot\n248-536-2107 (store)\n248-798-4713 (Yolla)
URL:https://funinfarmington.com/event/tuesday-with-lee/2026-07-07/
LOCATION:Perfect Pairing Market\, 38215 W. 10 Mile Rd.\, Farmington Hills\, Michigan\, 48335
CATEGORIES:Special Event
ATTACH;FMTTYPE=image/png:https://funinfarmington.com/wp-content/uploads/2026/01/Tuesday-with-Lee.png
END:VEVENT
END:VCALENDAR