BEGIN:VCALENDAR
VERSION:2.0
PRODID:-//Fun in Farmington - ECPv6.15.20//NONSGML v1.0//EN
CALSCALE:GREGORIAN
METHOD:PUBLISH
X-WR-CALNAME:Fun in Farmington
X-ORIGINAL-URL:https://funinfarmington.com
X-WR-CALDESC:Events for Fun in Farmington
REFRESH-INTERVAL;VALUE=DURATION:PT1H
X-Robots-Tag:noindex
X-PUBLISHED-TTL:PT1H
BEGIN:VTIMEZONE
TZID:UTC
BEGIN:STANDARD
TZOFFSETFROM:+0000
TZOFFSETTO:+0000
TZNAME:UTC
DTSTART:20250101T000000
END:STANDARD
END:VTIMEZONE
BEGIN:VEVENT
DTSTART;TZID=UTC:20260712T160000
DTEND;TZID=UTC:20260712T190000
DTSTAMP:20260420T141730
CREATED:20260118T211016Z
LAST-MODIFIED:20260118T211016Z
UID:10019251-1783872000-1783882800@funinfarmington.com
SUMMARY:Craft Night at Apothecary
DESCRIPTION:Join fellow crafters for crafts\, coffee\, and conversation every second Sunday and last Wednesday of the month!
URL:https://funinfarmington.com/event/craft-night-at-apothecary-2/2026-07-12/
LOCATION:Apothecary Espresso and Coffee\, 23366 Farmington Rd\, Farmington\, 48336
CATEGORIES:Crafting
END:VEVENT
BEGIN:VEVENT
DTSTART;TZID=UTC:20260712T180000
DTEND;TZID=UTC:20260712T210000
DTSTAMP:20260420T141730
CREATED:20250619T210723Z
LAST-MODIFIED:20250619T210723Z
UID:10016826-1783879200-1783890000@funinfarmington.com
SUMMARY:Pub Quiz at FBC
DESCRIPTION:Pub Quiz Trivia every Sunday night at Farmington Brewing Company.
URL:https://funinfarmington.com/event/pub-quiz-at-fbc/2026-07-12/
LOCATION:Farmington Brewing Company\, 33336 Grand River Ave\, Farmington\, Michigan\, 48336
CATEGORIES:Trivia
END:VEVENT
END:VCALENDAR