BEGIN:VCALENDAR
VERSION:2.0
PRODID:-//Fun in Farmington - ECPv6.15.20//NONSGML v1.0//EN
CALSCALE:GREGORIAN
METHOD:PUBLISH
X-ORIGINAL-URL:https://funinfarmington.com
X-WR-CALDESC:Events for Fun in Farmington
REFRESH-INTERVAL;VALUE=DURATION:PT1H
X-Robots-Tag:noindex
X-PUBLISHED-TTL:PT1H
BEGIN:VTIMEZONE
TZID:UTC
BEGIN:STANDARD
TZOFFSETFROM:+0000
TZOFFSETTO:+0000
TZNAME:UTC
DTSTART:20250101T000000
END:STANDARD
END:VTIMEZONE
BEGIN:VEVENT
DTSTART;TZID=UTC:20260914T160000
DTEND;TZID=UTC:20260914T170000
DTSTAMP:20260423T195809
CREATED:20260110T185924Z
LAST-MODIFIED:20260110T190814Z
UID:10019006-1789401600-1789405200@funinfarmington.com
SUMMARY:1-2-3 Read with Me (1st\, 2nd\, 3rd Grd) at Library (FH)
DESCRIPTION:Are you in 1st\, 2nd\, or 3rd grade? This book club is for you! Join us as we explore literary genres and read books together. Practice reading aloud (or just listen). There is no required reading—just come and read with me! \nJanuary Theme— Let’s go on an Adventure \nRegistration is required.
URL:https://funinfarmington.com/event/1-2-3-read-with-me-1st-2nd-3rd-grd-at-library-fh/2026-09-14/
LOCATION:Farmington Community Library – Farmington Hills Location\, 32737 W. 12 Mile Rd.\, Farmington Hills\, Michigan\, 48334
CATEGORIES:Community,Educational,Kids & Families
END:VEVENT
BEGIN:VEVENT
DTSTART;TZID=UTC:20260914T170000
DTEND;TZID=UTC:20260914T200000
DTSTAMP:20260423T195809
CREATED:20260222T214637Z
LAST-MODIFIED:20260222T214637Z
UID:10019702-1789405200-1789416000@funinfarmington.com
SUMMARY:Ladies Night at SIPS Sports Bar
DESCRIPTION:Girls Night at SIPS – drinks\, music and your TVs\, your way!
URL:https://funinfarmington.com/event/ladies-night-at-sips-sports-bar/2026-09-14/
LOCATION:SIPS Sports Bar\, 35223 Grand River Ave\, Farmington\, MI\, United States
CATEGORIES:Food,Women
END:VEVENT
BEGIN:VEVENT
DTSTART;TZID=UTC:20260914T183000
DTEND;TZID=UTC:20260914T203000
DTSTAMP:20260423T195809
CREATED:20250908T125825Z
LAST-MODIFIED:20250908T125825Z
UID:10017175-1789410600-1789417800@funinfarmington.com
SUMMARY:Trivia Night at Shots Bar and Grill
DESCRIPTION:𝑻𝑹𝑰𝑽𝑰𝑨 𝑵𝑰𝑮𝑯𝑻 tonight at Shots Bar & Grille in Farmington Hills!Game starts at 6:30pm!
URL:https://funinfarmington.com/event/trivia-night-at-shots-bar-and-grill/2026-09-14/
LOCATION:Shots Bar and Grille\, 30859 W 10 Mile Rd\, Farmington Hills\, Michigan\, 48336
CATEGORIES:Trivia
END:VEVENT
END:VCALENDAR