BEGIN:VCALENDAR
VERSION:2.0
PRODID:-//Fun in Farmington - ECPv6.15.20//NONSGML v1.0//EN
CALSCALE:GREGORIAN
METHOD:PUBLISH
X-WR-CALNAME:Fun in Farmington
X-ORIGINAL-URL:https://funinfarmington.com
X-WR-CALDESC:Events for Fun in Farmington
REFRESH-INTERVAL;VALUE=DURATION:PT1H
X-Robots-Tag:noindex
X-PUBLISHED-TTL:PT1H
BEGIN:VTIMEZONE
TZID:UTC
BEGIN:STANDARD
TZOFFSETFROM:+0000
TZOFFSETTO:+0000
TZNAME:UTC
DTSTART:20250101T000000
END:STANDARD
END:VTIMEZONE
BEGIN:VEVENT
DTSTART;TZID=UTC:20260923T183000
DTEND;TZID=UTC:20260923T193000
DTSTAMP:20260419T222248
CREATED:20260130T145218Z
LAST-MODIFIED:20260130T145218Z
UID:10019470-1790188200-1790191800@funinfarmington.com
SUMMARY:Discovery Storytime (Ages 2-6) at Library (Farmington)
DESCRIPTION:No registration is required. \nAt storytime\, we show you how to help your child’s brain grow by talking\, singing\, reading\, writing\, and playing\, and we help you connect with other parents. Children and their caregivers will enjoy a short storytime followed by exploration for children ages 2-6. As you engage in sensory play and movement together your child will be building literacy skills.
URL:https://funinfarmington.com/event/discovery-storytime-ages-2-6-at-library-farmington-2/2026-09-23/
LOCATION:Farmington Community Library – Farmington Location\, 23500 Liberty St.\, Farmington\, Michigan\, 48335
CATEGORIES:Community,Kids & Families,Reading
END:VEVENT
BEGIN:VEVENT
DTSTART;TZID=UTC:20260923T183000
DTEND;TZID=UTC:20260923T203000
DTSTAMP:20260419T222248
CREATED:20251117T152957Z
LAST-MODIFIED:20251117T152957Z
UID:10018129-1790188200-1790195400@funinfarmington.com
SUMMARY:OpinioNation! at Farmington Brewing Co
DESCRIPTION:OpinioNation at FBC!\nGet ready for some mid-week fun with OpinioNation at FBC! Join us every Wednesday for a low-stress\, high-energy game where your team debates the most popular answers to survey questions. Top two teams win a gift certificate to FBC! Games kick off at 6:30pm and 7:30pm!\nHere’s how it works:\nEach round has four survey questions\, and your team will try to guess the most common answers.Guess the most popular answer? Earn 5 points. The next most common answer? 4 points\, and so on.Bonus rounds and final questions offer big chances to score extra points\, but watch out—wrong answers can cost you!Bring your best guesses\, your A-team\, and enjoy a night full of laughs and friendly competition!
URL:https://funinfarmington.com/event/opinionation-at-farmington-brewing-co/2026-09-23/
LOCATION:Farmington Brewing Company\, 33336 Grand River Ave\, Farmington\, Michigan\, 48336
CATEGORIES:Trivia
END:VEVENT
END:VCALENDAR