BEGIN:VCALENDAR
VERSION:2.0
PRODID:-//Fun in Farmington - ECPv6.15.20//NONSGML v1.0//EN
CALSCALE:GREGORIAN
METHOD:PUBLISH
X-ORIGINAL-URL:https://funinfarmington.com
X-WR-CALDESC:Events for Fun in Farmington
REFRESH-INTERVAL;VALUE=DURATION:PT1H
X-Robots-Tag:noindex
X-PUBLISHED-TTL:PT1H
BEGIN:VTIMEZONE
TZID:UTC
BEGIN:STANDARD
TZOFFSETFROM:+0000
TZOFFSETTO:+0000
TZNAME:UTC
DTSTART:20250101T000000
END:STANDARD
END:VTIMEZONE
BEGIN:VEVENT
DTSTART;TZID=UTC:20260925T103000
DTEND;TZID=UTC:20260925T120000
DTSTAMP:20260419T223433
CREATED:20260419T184602Z
LAST-MODIFIED:20260419T184602Z
UID:10020853-1790332200-1790337600@funinfarmington.com
SUMMARY:Senior Social Hour! (Ages 60+) at Library (FH)
DESCRIPTION:Registration is preferred. \nAre you an adult 60+ looking for fun and an opportunity to socialize? Check out the library’s new program specifically for you! There will be crafts\, music\, games\, puzzles\, coffee\, and light refreshments. Make some friends while having fun! FCL’s Senior Outreach Librarian will also be available to answer questions about the Library. Drop-in anytime between 10:30-noon every fourth Friday of the month. Caregivers are also welcome to attend.
URL:https://funinfarmington.com/event/senior-social-hour-ages-60-at-library-fh/2026-09-25/
LOCATION:Farmington Community Library – Farmington Hills Location\, 32737 W. 12 Mile Rd.\, Farmington Hills\, Michigan\, 48334
CATEGORIES:Community,Seniors
END:VEVENT
BEGIN:VEVENT
DTSTART;TZID=UTC:20260925T170000
DTEND;TZID=UTC:20260925T190000
DTSTAMP:20260419T223433
CREATED:20260118T221717Z
LAST-MODIFIED:20260118T221717Z
UID:10019315-1790355600-1790362800@funinfarmington.com
SUMMARY:Cozy Vibes Silent Book Club at Road Less Traveled
DESCRIPTION:Welcome to Introvert Happy Hour! \nJoin us at one of our favorite local indie bookshops\, Road Less Traveled Books. Whether you’re a regular or new to the group\, this is the perfect opportunity to enjoy some quiet reading time\, connect with fellow introverts\, and explore an incredible selection of books. Who knows? You might find your next favorite read to add to your #TBR stack!\nSchedule: 5–6 PM: Silent reading time 6–7 PM: Introvert-friendly social hour\nBring your current read (and maybe a little spending money\, just in case!) and settle in for an evening of cozy vibes\, community\, and good books.\nWe can’t wait to see you there!
URL:https://funinfarmington.com/event/cozy-vibes-silent-book-club-at-road-less-traveled/2026-09-25/
LOCATION:Road Less Traveled Books\, 33300 Thomas St\, Farmington\, Michigan\, 48336
CATEGORIES:Book Club
END:VEVENT
BEGIN:VEVENT
DTSTART;TZID=UTC:20260925T183000
DTEND;TZID=UTC:20260925T213000
DTSTAMP:20260419T223433
CREATED:20260414T224353Z
LAST-MODIFIED:20260414T224353Z
UID:10020434-1790361000-1790371800@funinfarmington.com
SUMMARY:DCDI GAME NIGHT!!
DESCRIPTION:Join us at the DCDI Excellence Center for community game night every 4th Friday of the month!! Its free and welcome to all ages! There will be food and games so come play Smash Bros\, DND\, Board Games\, Spades\, Uno\, and More!
URL:https://funinfarmington.com/event/dcdi-game-night/2026-09-25/
LOCATION:DCDI Excellence Center\, 29300 W 9 Mile Rd\, Farmington Hills\, MI\, 48336\, United States
CATEGORIES:Games
ATTACH;FMTTYPE=image/png:https://funinfarmington.com/wp-content/uploads/2026/04/DCDI-Game-Night-Flyer-1.png
ORGANIZER;CN="Danika Community Development Inc.":MAILTO:danikacommunitydev@gmail.com
END:VEVENT
END:VCALENDAR