BEGIN:VCALENDAR
VERSION:2.0
PRODID:-//Fun in Farmington - ECPv6.15.20//NONSGML v1.0//EN
CALSCALE:GREGORIAN
METHOD:PUBLISH
X-WR-CALNAME:Fun in Farmington
X-ORIGINAL-URL:https://funinfarmington.com
X-WR-CALDESC:Events for Fun in Farmington
REFRESH-INTERVAL;VALUE=DURATION:PT1H
X-Robots-Tag:noindex
X-PUBLISHED-TTL:PT1H
BEGIN:VTIMEZONE
TZID:UTC
BEGIN:STANDARD
TZOFFSETFROM:+0000
TZOFFSETTO:+0000
TZNAME:UTC
DTSTART:20250101T000000
END:STANDARD
END:VTIMEZONE
BEGIN:VEVENT
DTSTART;TZID=UTC:20260930T160000
DTEND;TZID=UTC:20260930T190000
DTSTAMP:20260421T160231
CREATED:20260118T211058Z
LAST-MODIFIED:20260118T211058Z
UID:10019244-1790784000-1790794800@funinfarmington.com
SUMMARY:Craft Night at Apothecary
DESCRIPTION:Join fellow crafters for crafts\, coffee\, and conversation every second Sunday and last Wednesday of the month!
URL:https://funinfarmington.com/event/craft-night-at-apothecary-3/2026-09-30/
LOCATION:Apothecary Espresso and Coffee\, 23366 Farmington Rd\, Farmington\, 48336
CATEGORIES:Crafting
END:VEVENT
BEGIN:VEVENT
DTSTART;TZID=UTC:20260930T183000
DTEND;TZID=UTC:20260930T191500
DTSTAMP:20260421T160231
CREATED:20260110T191407Z
LAST-MODIFIED:20260302T145452Z
UID:10019045-1790793000-1790795700@funinfarmington.com
SUMMARY:Paws for Reading at Library (FH)
DESCRIPTION:Registration is required. \nPractice your reading with a certified therapy dog!  The dog loves listening to readers and will cheer you on!  Please sign up for one 15-minute time slot per week.
URL:https://funinfarmington.com/event/paws-for-reading/2026-09-30/
LOCATION:Farmington Community Library – Farmington Hills Location\, 32737 W. 12 Mile Rd.\, Farmington Hills\, Michigan\, 48334
CATEGORIES:Community,Educational,Kids & Families
END:VEVENT
BEGIN:VEVENT
DTSTART;TZID=UTC:20260930T183000
DTEND;TZID=UTC:20260930T203000
DTSTAMP:20260421T160231
CREATED:20251117T152957Z
LAST-MODIFIED:20251117T152957Z
UID:10018130-1790793000-1790800200@funinfarmington.com
SUMMARY:OpinioNation! at Farmington Brewing Co
DESCRIPTION:OpinioNation at FBC!\nGet ready for some mid-week fun with OpinioNation at FBC! Join us every Wednesday for a low-stress\, high-energy game where your team debates the most popular answers to survey questions. Top two teams win a gift certificate to FBC! Games kick off at 6:30pm and 7:30pm!\nHere’s how it works:\nEach round has four survey questions\, and your team will try to guess the most common answers.Guess the most popular answer? Earn 5 points. The next most common answer? 4 points\, and so on.Bonus rounds and final questions offer big chances to score extra points\, but watch out—wrong answers can cost you!Bring your best guesses\, your A-team\, and enjoy a night full of laughs and friendly competition!
URL:https://funinfarmington.com/event/opinionation-at-farmington-brewing-co/2026-09-30/
LOCATION:Farmington Brewing Company\, 33336 Grand River Ave\, Farmington\, Michigan\, 48336
CATEGORIES:Trivia
END:VEVENT
END:VCALENDAR