BEGIN:VCALENDAR
VERSION:2.0
PRODID:-//Fun in Farmington - ECPv6.15.20//NONSGML v1.0//EN
CALSCALE:GREGORIAN
METHOD:PUBLISH
X-ORIGINAL-URL:https://funinfarmington.com
X-WR-CALDESC:Events for Fun in Farmington
REFRESH-INTERVAL;VALUE=DURATION:PT1H
X-Robots-Tag:noindex
X-PUBLISHED-TTL:PT1H
BEGIN:VTIMEZONE
TZID:UTC
BEGIN:STANDARD
TZOFFSETFROM:+0000
TZOFFSETTO:+0000
TZNAME:UTC
DTSTART:20250101T000000
END:STANDARD
END:VTIMEZONE
BEGIN:VEVENT
DTSTART;TZID=UTC:20260307T100000
DTEND;TZID=UTC:20260307T130000
DTSTAMP:20260425T130939
CREATED:20260228T193034Z
LAST-MODIFIED:20260228T193034Z
UID:10019896-1772877600-1772888400@funinfarmington.com
SUMMARY:2D Art: Adult Workshop - Sumi-e: A Meditation in Ink Painting at The Hawk
DESCRIPTION:Discover Sumi-e — The mindful art of Japanese ink painting. Absorbing\, calming\, and spiritual\, learn to capture the essential character\, or “chi\,” of traditional subjects such as bamboo and orchid using just ink\, rice paper\, and a few elegant brushstrokes. Whether you’re a beginner or an experienced artist\, this immersive workshop will introduce you to this unique and relaxing form of artistic expression. All materials are included in the registration fee.
URL:https://funinfarmington.com/event/2d-art-adult-workshop-sumi-e-a-meditation-in-ink-painting-at-the-hawk/
LOCATION:The Hawk Community Center\, 29995 W 12 Mile Rd\, Farmington Hills\, Michigan\, 48334
CATEGORIES:Adults,Art,Crafting
END:VEVENT
BEGIN:VEVENT
DTSTART;TZID=UTC:20260307T100000
DTEND;TZID=UTC:20260307T130000
DTSTAMP:20260425T130939
CREATED:20260228T193524Z
LAST-MODIFIED:20260228T193524Z
UID:10019900-1772877600-1772888400@funinfarmington.com
SUMMARY:3D Art: Adult Workshop - Slip Trailing Surface Design
DESCRIPTION:Our Skill-building Series exist to provide continued learning opportunities for our students and experienced ceramicists.\nDiscover the art of slip trailing\, a decorative technique that adds texture\, dimension\, and intricate detail to your ceramic work! In this hands-on workshop\, you’ll learn how to apply clay slip with precision on a set of four coasters\, creating raised patterns and designs that bring depth and character to your pieces. You’ll experiment with different slip consistencies to explore a range of effects\, from crisp\, fine lines to flowing\, textured trails. We’ll also introduce Mason stains to add beautiful color variations to your slip work. Each participant will receive a slip trailer kit to continue exploring this technique at home. Whether you’re new to slip trailing or looking to refine your skills\, this workshop is a great way to elevate your ceramic decorating techniques! \nPlease note participants will work on leather hard sample coasters unless you provide your own leather hard work.
URL:https://funinfarmington.com/event/3d-art-adult-workshop-slip-trailing-surface-design/
LOCATION:The Hawk Community Center\, 29995 W 12 Mile Rd\, Farmington Hills\, Michigan\, 48334
CATEGORIES:Adults,Art,Crafting
END:VEVENT
BEGIN:VEVENT
DTSTART;TZID=UTC:20260307T220000
DTEND;TZID=UTC:20260307T220000
DTSTAMP:20260425T130939
CREATED:20260305T115117Z
LAST-MODIFIED:20260305T115117Z
UID:10019964-1772920800-1772920800@funinfarmington.com
SUMMARY:Farmington Film Festival afterparty at Lone Light Spirits and KickstART Gallery
DESCRIPTION:
URL:https://funinfarmington.com/event/farmington-film-festival-afterparty-at-lone-light-spirits-and-kickstart-gallery/
LOCATION:KickstART Gallery\, 23616 Farmington Rd\,\, Farmington\, Michigan\, 48335
CATEGORIES:Adults,Community,Festival
ATTACH;FMTTYPE=image/png:https://funinfarmington.com/wp-content/uploads/2026/03/film-fest.png
END:VEVENT
END:VCALENDAR