BEGIN:VCALENDAR
VERSION:2.0
PRODID:-//Fun in Farmington - ECPv6.15.20//NONSGML v1.0//EN
CALSCALE:GREGORIAN
METHOD:PUBLISH
X-ORIGINAL-URL:https://funinfarmington.com
X-WR-CALDESC:Events for Fun in Farmington
REFRESH-INTERVAL;VALUE=DURATION:PT1H
X-Robots-Tag:noindex
X-PUBLISHED-TTL:PT1H
BEGIN:VTIMEZONE
TZID:UTC
BEGIN:STANDARD
TZOFFSETFROM:+0000
TZOFFSETTO:+0000
TZNAME:UTC
DTSTART:20250101T000000
END:STANDARD
END:VTIMEZONE
BEGIN:VEVENT
DTSTART;TZID=UTC:20260314T100000
DTEND;TZID=UTC:20260314T130000
DTSTAMP:20260423T020330
CREATED:20260228T192714Z
LAST-MODIFIED:20260228T192714Z
UID:10019893-1773482400-1773493200@funinfarmington.com
SUMMARY:2D Art: Adult Workshop - Collage Exploration at The Hawk
DESCRIPTION:In this no-pressure\, explorative workshop\, you’ll enjoy a low-stakes way of layering paper combinations without stress. Students will create small and manageable collages to nurture creative intuition and develop skills for visual storytelling. You’ll learn the foundational aspect of collage arts including various materials\, tools\, and application methods.
URL:https://funinfarmington.com/event/2d-art-adult-workshop-collage-exploration-at-the-hawk/
LOCATION:The Hawk Community Center\, 29995 W 12 Mile Rd\, Farmington Hills\, Michigan\, 48334
CATEGORIES:Adults,Art,Crafting
END:VEVENT
BEGIN:VEVENT
DTSTART;TZID=UTC:20260314T100000
DTEND;TZID=UTC:20260314T130000
DTSTAMP:20260423T020330
CREATED:20260228T193416Z
LAST-MODIFIED:20260228T193416Z
UID:10019899-1773482400-1773493200@funinfarmington.com
SUMMARY:3D Art: Adult Workshop - Ceramic Herb & Garlic Bowl at The Hawk
DESCRIPTION:Join us for a hands-on ceramic workshop where you’ll create your own garlic & herb bowl—a versatile kitchen tool designed for grating garlic\, ginger\, lemon zest and more while also stripping fresh herbs with ease! Add some olive oil\, and your bowl now becomes the center of attention for your favorite dips and marinades. You’ll explore fundamental pottery techniques\, including slab building\, slumping\, piercing\, and forming\, to shape your unique bowl before selecting a glaze to add a beautiful finish to your piece. Perfect for beginners and experienced potters alike\, your handmade ceramic herb & garlic bowl will become a staple in your kitchen for years to come!
URL:https://funinfarmington.com/event/3d-art-adult-workshop-ceramic-herb-garlic-bowl-at-the-hawk/
LOCATION:The Hawk Community Center\, 29995 W 12 Mile Rd\, Farmington Hills\, Michigan\, 48334
CATEGORIES:Adults,Art,Crafting
END:VEVENT
BEGIN:VEVENT
DTSTART;TZID=UTC:20260314T180000
DTEND;TZID=UTC:20260314T200000
DTSTAMP:20260423T020330
CREATED:20260225T032720Z
LAST-MODIFIED:20260225T032720Z
UID:10019878-1773511200-1773518400@funinfarmington.com
SUMMARY:Starshine Circle: The Sweet Release
DESCRIPTION:Starshine Circle: The Sweet Release is a two-hour guided breathwork and reflection gathering designed to help you release self-limiting beliefs and strengthen grounded\, positive self-talk. This beginner-friendly community experience includes journaling\, guided breathwork\, integration\, and light refreshments. No prior experience is necessary.
URL:https://funinfarmington.com/event/starshine-circle-the-sweet-release/
LOCATION:TRV|FIT FARMINGTON HEALTH & FITNESS\, 33019 GRAND RIVER AVE\, Farmington\, MI\, 48336\, United States
CATEGORIES:Adults,Community,Spiritual,Wellness
ATTACH;FMTTYPE=image/png:https://funinfarmington.com/wp-content/uploads/2026/02/IMG_5087.png
ORGANIZER;CN="Starshine Lightwork":MAILTO:Starshinelightwork@gmail.com
END:VEVENT
END:VCALENDAR