BEGIN:VCALENDAR
VERSION:2.0
PRODID:-//Fun in Farmington - ECPv6.15.20//NONSGML v1.0//EN
CALSCALE:GREGORIAN
METHOD:PUBLISH
X-WR-CALNAME:Fun in Farmington
X-ORIGINAL-URL:https://funinfarmington.com
X-WR-CALDESC:Events for Fun in Farmington
REFRESH-INTERVAL;VALUE=DURATION:PT1H
X-Robots-Tag:noindex
X-PUBLISHED-TTL:PT1H
BEGIN:VTIMEZONE
TZID:UTC
BEGIN:STANDARD
TZOFFSETFROM:+0000
TZOFFSETTO:+0000
TZNAME:UTC
DTSTART:20250101T000000
END:STANDARD
END:VTIMEZONE
BEGIN:VEVENT
DTSTART;TZID=UTC:20260430T200000
DTEND;TZID=UTC:20260430T230000
DTSTAMP:20260420T225109
CREATED:20260223T000707Z
LAST-MODIFIED:20260223T000707Z
UID:10019775-1777579200-1777590000@funinfarmington.com
SUMMARY:Karaoke Night at 1Up Arcade Bar
DESCRIPTION:Join us for Karaoke night every Thursday from 8-11pm at 1Up Arcade Bar in Farmington. Bring your friends and compete for the title of karaoke champ while enjoying a vibe you won’t forget!
URL:https://funinfarmington.com/event/karaoke-night-at-1up-arcade-bar/2026-04-30/
LOCATION:1Up Arcade Bar\, 33316 Grand River Ave\, Farmington\, Michigan\, 48336
CATEGORIES:Adults,Dance,Karaoke,Music
ATTACH;FMTTYPE=image/png:https://funinfarmington.com/wp-content/uploads/2026/02/1up-arcade-karaoke.png
END:VEVENT
BEGIN:VEVENT
DTSTART;TZID=UTC:20260501T180000
DTEND;TZID=UTC:20260501T200000
DTSTAMP:20260420T225109
CREATED:20260419T235544Z
LAST-MODIFIED:20260419T235544Z
UID:10020926-1777658400-1777665600@funinfarmington.com
SUMMARY:Pollinator Show: For the Love of Bees at Skep Space
DESCRIPTION:Opening Reception for the exhibition: May 1st from 6-8pm\n\nSkep Space—named for the traditional\, handmade hives that protect and nurture the colony—invites artists of all disciplines to submit work for our upcoming exhibition: “For the Love of Pollinators.”As we prepare to celebrate May as Pollinator Month\, we are seeking artwork that honors the majesty\, fragility\, and essential role of pollinators within our ecosystem. From the intricate geometry of the hive to the tireless flight of the monarch\, we want to see how you interpret the “pollinator mindset” of communal growth and environmental stewardship.\n\nSUBMISSION DETAILSTheme: A celebration of pollinators (bees\, butterflies\, birds\, bats\, etc.) and their impact on our world.Media: All media welcome (Painting\, Photography\, Sculpture\, Fiber\, Mixed Media\, etc.).Size Constraints: 2-D works must not exceed 4 feet in any direction.Eligibility: Open to all artists\, age 18 and upVisit www.skepspace.org/pollinator for moe information
URL:https://funinfarmington.com/event/pollinator-show-for-the-love-of-bees-at-skep-space/
LOCATION:Skep Space\, 33018 Grand River Ave\, Farmington Hills\, Michigan\, 48336
CATEGORIES:Adults,Community,Shows
END:VEVENT
BEGIN:VEVENT
DTSTART;TZID=UTC:20260504T193000
DTEND;TZID=UTC:20260504T213000
DTSTAMP:20260420T225109
CREATED:20260222T235900Z
LAST-MODIFIED:20260222T235900Z
UID:10019761-1777923000-1777930200@funinfarmington.com
SUMMARY:Trivia Night at Basement Burger Bar
DESCRIPTION:Every Monday at 7:30pm and 8:30pm \nEvery Wednesday at 8:30pm and 9:30pm
URL:https://funinfarmington.com/event/trivia-night-at-basement-burger-bar/2026-05-04/
LOCATION:Basement Burger Bar\, 33316 Grand River Ave\, Farmington\, MI\, 48336\, United States
CATEGORIES:Adults,Games
ATTACH;FMTTYPE=image/png:https://funinfarmington.com/wp-content/uploads/2026/02/trivia.png
END:VEVENT
BEGIN:VEVENT
DTSTART;TZID=UTC:20260506T203000
DTEND;TZID=UTC:20260506T223000
DTSTAMP:20260420T225109
CREATED:20260223T000006Z
LAST-MODIFIED:20260301T192333Z
UID:10019930-1778099400-1778106600@funinfarmington.com
SUMMARY:Trivia Night at Basement Burger Bar
DESCRIPTION:Every Monday at 7:30pm and 8:30pm \nEvery Wednesday at 8:30pm and 9:30pm
URL:https://funinfarmington.com/event/trivia-night-at-basement-burger-bar-2/2026-05-06/
LOCATION:Basement Burger Bar\, 33316 Grand River Ave\, Farmington\, MI\, 48336\, United States
CATEGORIES:Adults,Games
ATTACH;FMTTYPE=image/png:https://funinfarmington.com/wp-content/uploads/2026/02/trivia.png
END:VEVENT
BEGIN:VEVENT
DTSTART;TZID=UTC:20260507T180000
DTEND;TZID=UTC:20260507T210000
DTSTAMP:20260420T225109
CREATED:20260418T213217Z
LAST-MODIFIED:20260418T213217Z
UID:10020843-1778176800-1778187600@funinfarmington.com
SUMMARY:Volunteer Nature Guide Training at Heritage Park
DESCRIPTION:Explore the skills needed to become a successful Volunteer Nature Guide. The training will cover best practices in the field of Environmental Education and Interpretation\, as well as hands-on activities related to programs offered at the Farmington Hills Nature Center. Participants will leave with helpful resources and a basic understanding of what it takes to interpret the natural world. Trainees will also have the opportunity to join the Volunteer Nature Guide team at the Nature Center. The training is designed for adults. Activities will take place indoors and outdoors. Please dress for the weather. All skill levels welcome! Pre-registration required.
URL:https://funinfarmington.com/event/volunteer-nature-guide-training-at-heritage-park/
LOCATION:Heritage Park\, 24915 Farmington Rd\, Farmington Hills\, MI\, 48336\, United States
CATEGORIES:Adults,Educational,NAture,Older Adults,Seniors,Teens
END:VEVENT
BEGIN:VEVENT
DTSTART;TZID=UTC:20260507T200000
DTEND;TZID=UTC:20260507T230000
DTSTAMP:20260420T225110
CREATED:20260223T000707Z
LAST-MODIFIED:20260223T000707Z
UID:10019776-1778184000-1778194800@funinfarmington.com
SUMMARY:Karaoke Night at 1Up Arcade Bar
DESCRIPTION:Join us for Karaoke night every Thursday from 8-11pm at 1Up Arcade Bar in Farmington. Bring your friends and compete for the title of karaoke champ while enjoying a vibe you won’t forget!
URL:https://funinfarmington.com/event/karaoke-night-at-1up-arcade-bar/2026-05-07/
LOCATION:1Up Arcade Bar\, 33316 Grand River Ave\, Farmington\, Michigan\, 48336
CATEGORIES:Adults,Dance,Karaoke,Music
ATTACH;FMTTYPE=image/png:https://funinfarmington.com/wp-content/uploads/2026/02/1up-arcade-karaoke.png
END:VEVENT
BEGIN:VEVENT
DTSTART;TZID=UTC:20260509T130000
DTEND;TZID=UTC:20260509T160000
DTSTAMP:20260420T225110
CREATED:20260419T235055Z
LAST-MODIFIED:20260419T235055Z
UID:10020924-1778331600-1778342400@funinfarmington.com
SUMMARY:Breathe & Bloom at Bodhi Yoga
DESCRIPTION:We will begin with gentle grounding and intention setting before moving into a guided somatic breathwork journey. Using activated breathing within a trauma-informed container\, this experience is designed to facilitate deep nervous system release and the activation and movement of stored emotions and energy in the body. \nYou’ll be guided through intentional breath patterns that work with the nervous system\, allowing what has been suppressed to safely surface\, move\, and integrate. While the experience is structured\, it is also intuitive—honoring your body’s pace and needs throughout the journey. \nSupported by shamanic music and tools\, somatic guidance\, gentle touch\, and a carefully held group space\, you’ll be invited to stay connected to your body while moving through activation and emotional release. Following the breathwork you will be supported to return to regulation and integration. We will end with an offering for tea and light snacks for nourishment. \nRooted in the energy of Breath & Bloom\, this is an invitation to soften\, open\, and tend to your inner landscape—creating space for your natural unfolding. \nPlease Note: For your safety\, participants are required to arrive sober. This experience is not recommended for those who are currently pregnant\, have had recent surgery within the past four weeks\, or have a history of glaucoma or detached retina. If you have questions or concerns\, please reach out prior to attending. \nImportant notes \nWe prioritize safety and there are a few contraindications to be considered for participation in the style of breathwork. Each participant will need to sign a waiver indicating any health conditions that may be a barrier to participating.
URL:https://funinfarmington.com/event/breathe-bloom-at-bodhi-yoga/
LOCATION:Bodhi Yoga\, 33047 Grand River Ave\, Farmington\, Michigan\, 48336
CATEGORIES:Adults,Wellness
END:VEVENT
BEGIN:VEVENT
DTSTART;TZID=UTC:20260511T193000
DTEND;TZID=UTC:20260511T213000
DTSTAMP:20260420T225110
CREATED:20260222T235900Z
LAST-MODIFIED:20260222T235900Z
UID:10019762-1778527800-1778535000@funinfarmington.com
SUMMARY:Trivia Night at Basement Burger Bar
DESCRIPTION:Every Monday at 7:30pm and 8:30pm \nEvery Wednesday at 8:30pm and 9:30pm
URL:https://funinfarmington.com/event/trivia-night-at-basement-burger-bar/2026-05-11/
LOCATION:Basement Burger Bar\, 33316 Grand River Ave\, Farmington\, MI\, 48336\, United States
CATEGORIES:Adults,Games
ATTACH;FMTTYPE=image/png:https://funinfarmington.com/wp-content/uploads/2026/02/trivia.png
END:VEVENT
BEGIN:VEVENT
DTSTART;TZID=UTC:20260512T183000
DTEND;TZID=UTC:20260512T200000
DTSTAMP:20260420T225110
CREATED:20260418T213038Z
LAST-MODIFIED:20260418T213038Z
UID:10020842-1778610600-1778616000@funinfarmington.com
SUMMARY:Nature Education for Adults: Frogs & Toads at Heritage Park
DESCRIPTION:Broaden your horizons and enhance your nature knowledge! Explore a new topic each month for an in-depth\, IN-PERSON program to dive deeper into the topic. Pre-registration is required.
URL:https://funinfarmington.com/event/nature-education-for-adults-frogs-toads-at-heritage-park/
LOCATION:Heritage Park\, 24915 Farmington Rd\, Farmington Hills\, MI\, 48336\, United States
CATEGORIES:Adults,NAture,Older Adults,Seniors
END:VEVENT
BEGIN:VEVENT
DTSTART;TZID=UTC:20260513T113000
DTEND;TZID=UTC:20260513T130000
DTSTAMP:20260420T225110
CREATED:20260420T000509Z
LAST-MODIFIED:20260420T000509Z
UID:10020929-1778671800-1778677200@funinfarmington.com
SUMMARY:Dine and Discover: Albert Kahn: Detroit's Architect at Costick Center
DESCRIPTION:Dive into the life and legacy of Albert Kahn\, the visionary architect who transformed Detroit’s skyline and industrial landscape. Known as the “Architect of Detroit\,” Kahn’s groundbreaking designs included factories\, skyscrapers\, and cultural landmarks that define the city’s character and industrial strength. This lecture highlights his innovation approach to architecture\, his influence on modern design\, and his enduring impact on Detroit’s architectural heritage.
URL:https://funinfarmington.com/event/dine-and-discover-albert-kahn-detroits-architect-at-costick-center/
LOCATION:Costick Center\, 28600 W Eleven Mile Rd\, Farmington Hills\, Michigan\, 48336
CATEGORIES:Adults,Educational,Food
END:VEVENT
BEGIN:VEVENT
DTSTART;TZID=UTC:20260513T203000
DTEND;TZID=UTC:20260513T223000
DTSTAMP:20260420T225110
CREATED:20260223T000006Z
LAST-MODIFIED:20260301T192333Z
UID:10019931-1778704200-1778711400@funinfarmington.com
SUMMARY:Trivia Night at Basement Burger Bar
DESCRIPTION:Every Monday at 7:30pm and 8:30pm \nEvery Wednesday at 8:30pm and 9:30pm
URL:https://funinfarmington.com/event/trivia-night-at-basement-burger-bar-2/2026-05-13/
LOCATION:Basement Burger Bar\, 33316 Grand River Ave\, Farmington\, MI\, 48336\, United States
CATEGORIES:Adults,Games
ATTACH;FMTTYPE=image/png:https://funinfarmington.com/wp-content/uploads/2026/02/trivia.png
END:VEVENT
BEGIN:VEVENT
DTSTART;TZID=UTC:20260514T200000
DTEND;TZID=UTC:20260514T230000
DTSTAMP:20260420T225110
CREATED:20260223T000707Z
LAST-MODIFIED:20260223T000707Z
UID:10019777-1778788800-1778799600@funinfarmington.com
SUMMARY:Karaoke Night at 1Up Arcade Bar
DESCRIPTION:Join us for Karaoke night every Thursday from 8-11pm at 1Up Arcade Bar in Farmington. Bring your friends and compete for the title of karaoke champ while enjoying a vibe you won’t forget!
URL:https://funinfarmington.com/event/karaoke-night-at-1up-arcade-bar/2026-05-14/
LOCATION:1Up Arcade Bar\, 33316 Grand River Ave\, Farmington\, Michigan\, 48336
CATEGORIES:Adults,Dance,Karaoke,Music
ATTACH;FMTTYPE=image/png:https://funinfarmington.com/wp-content/uploads/2026/02/1up-arcade-karaoke.png
END:VEVENT
BEGIN:VEVENT
DTSTART;TZID=UTC:20260516T190000
DTEND;TZID=UTC:20260516T190000
DTSTAMP:20260420T225110
CREATED:20260219T010037Z
LAST-MODIFIED:20260219T010607Z
UID:10019578-1778958000-1778958000@funinfarmington.com
SUMMARY:Multi-Course Chef's Tasting Pop-up Dinner with Gnomerie Kitchen
DESCRIPTION:Gnomerie Kitchen serves up a unique dining experience for adventurous foodies in metro Detroit. \n\n\n\n\nJoin us for an unforgettable evening on Saturday\, February 21\, 2026 at Gnomerie Kitchen. Indulge in a culinary experience like no other as our talented chef takes you on a journey through a multi-course tasting menu. Immerse yourself in the cozy ambiance of our intimate venue as you savor each carefully crafted dish. \nOur chef will present a diverse array of flavors\, textures\, and presentations that will tantalize your taste buds. This pop-up dinner promises to be a feast for all your senses. \nOur intention is for guests to fully interact with our chef. You can watch as each course is plated and our professionally trained chef explains his inspiration and creations. We will have water\, coffee\, tea\, and soft drinks available for you – feel free to bring anything else that you would prefer to drink. \n\n\nSecure your spot now for this exclusive event. Limited seats are available\, so book early to avoid disappointment. Get ready to embark on a gastronomic adventure that will leave you craving for more. Mark your calendars and join us for a night of culinary bliss! \n\n\n\n\nIf you want to make alternative payments via Venmo\, Paypal or Cash App – please contact us to to make arrangements.
URL:https://funinfarmington.com/event/multi-course-chefs-tasting-pop-up-dinner-with-gnomerie-kitchen/2026-05-16/
LOCATION:Gnomerie Kitchen\, 23121 Potomac Circle\, Farmington Hills\, MI\, 48335\, United States
CATEGORIES:Adults,Food
ATTACH;FMTTYPE=image/png:https://funinfarmington.com/wp-content/uploads/2026/02/gnomerie.png
END:VEVENT
BEGIN:VEVENT
DTSTART;TZID=UTC:20260518T193000
DTEND;TZID=UTC:20260518T213000
DTSTAMP:20260420T225110
CREATED:20260222T235900Z
LAST-MODIFIED:20260222T235900Z
UID:10019763-1779132600-1779139800@funinfarmington.com
SUMMARY:Trivia Night at Basement Burger Bar
DESCRIPTION:Every Monday at 7:30pm and 8:30pm \nEvery Wednesday at 8:30pm and 9:30pm
URL:https://funinfarmington.com/event/trivia-night-at-basement-burger-bar/2026-05-18/
LOCATION:Basement Burger Bar\, 33316 Grand River Ave\, Farmington\, MI\, 48336\, United States
CATEGORIES:Adults,Games
ATTACH;FMTTYPE=image/png:https://funinfarmington.com/wp-content/uploads/2026/02/trivia.png
END:VEVENT
BEGIN:VEVENT
DTSTART;TZID=UTC:20260520T203000
DTEND;TZID=UTC:20260520T223000
DTSTAMP:20260420T225110
CREATED:20260223T000006Z
LAST-MODIFIED:20260301T192333Z
UID:10019932-1779309000-1779316200@funinfarmington.com
SUMMARY:Trivia Night at Basement Burger Bar
DESCRIPTION:Every Monday at 7:30pm and 8:30pm \nEvery Wednesday at 8:30pm and 9:30pm
URL:https://funinfarmington.com/event/trivia-night-at-basement-burger-bar-2/2026-05-20/
LOCATION:Basement Burger Bar\, 33316 Grand River Ave\, Farmington\, MI\, 48336\, United States
CATEGORIES:Adults,Games
ATTACH;FMTTYPE=image/png:https://funinfarmington.com/wp-content/uploads/2026/02/trivia.png
END:VEVENT
BEGIN:VEVENT
DTSTART;TZID=UTC:20260521T200000
DTEND;TZID=UTC:20260521T230000
DTSTAMP:20260420T225110
CREATED:20260223T000707Z
LAST-MODIFIED:20260223T000707Z
UID:10019778-1779393600-1779404400@funinfarmington.com
SUMMARY:Karaoke Night at 1Up Arcade Bar
DESCRIPTION:Join us for Karaoke night every Thursday from 8-11pm at 1Up Arcade Bar in Farmington. Bring your friends and compete for the title of karaoke champ while enjoying a vibe you won’t forget!
URL:https://funinfarmington.com/event/karaoke-night-at-1up-arcade-bar/2026-05-21/
LOCATION:1Up Arcade Bar\, 33316 Grand River Ave\, Farmington\, Michigan\, 48336
CATEGORIES:Adults,Dance,Karaoke,Music
ATTACH;FMTTYPE=image/png:https://funinfarmington.com/wp-content/uploads/2026/02/1up-arcade-karaoke.png
END:VEVENT
BEGIN:VEVENT
DTSTART;TZID=UTC:20260525T193000
DTEND;TZID=UTC:20260525T213000
DTSTAMP:20260420T225110
CREATED:20260222T235900Z
LAST-MODIFIED:20260222T235900Z
UID:10019764-1779737400-1779744600@funinfarmington.com
SUMMARY:Trivia Night at Basement Burger Bar
DESCRIPTION:Every Monday at 7:30pm and 8:30pm \nEvery Wednesday at 8:30pm and 9:30pm
URL:https://funinfarmington.com/event/trivia-night-at-basement-burger-bar/2026-05-25/
LOCATION:Basement Burger Bar\, 33316 Grand River Ave\, Farmington\, MI\, 48336\, United States
CATEGORIES:Adults,Games
ATTACH;FMTTYPE=image/png:https://funinfarmington.com/wp-content/uploads/2026/02/trivia.png
END:VEVENT
BEGIN:VEVENT
DTSTART;TZID=UTC:20260527T203000
DTEND;TZID=UTC:20260527T223000
DTSTAMP:20260420T225110
CREATED:20260223T000006Z
LAST-MODIFIED:20260301T192333Z
UID:10019933-1779913800-1779921000@funinfarmington.com
SUMMARY:Trivia Night at Basement Burger Bar
DESCRIPTION:Every Monday at 7:30pm and 8:30pm \nEvery Wednesday at 8:30pm and 9:30pm
URL:https://funinfarmington.com/event/trivia-night-at-basement-burger-bar-2/2026-05-27/
LOCATION:Basement Burger Bar\, 33316 Grand River Ave\, Farmington\, MI\, 48336\, United States
CATEGORIES:Adults,Games
ATTACH;FMTTYPE=image/png:https://funinfarmington.com/wp-content/uploads/2026/02/trivia.png
END:VEVENT
BEGIN:VEVENT
DTSTART;TZID=UTC:20260528T200000
DTEND;TZID=UTC:20260528T230000
DTSTAMP:20260420T225110
CREATED:20260223T000707Z
LAST-MODIFIED:20260223T000707Z
UID:10019779-1779998400-1780009200@funinfarmington.com
SUMMARY:Karaoke Night at 1Up Arcade Bar
DESCRIPTION:Join us for Karaoke night every Thursday from 8-11pm at 1Up Arcade Bar in Farmington. Bring your friends and compete for the title of karaoke champ while enjoying a vibe you won’t forget!
URL:https://funinfarmington.com/event/karaoke-night-at-1up-arcade-bar/2026-05-28/
LOCATION:1Up Arcade Bar\, 33316 Grand River Ave\, Farmington\, Michigan\, 48336
CATEGORIES:Adults,Dance,Karaoke,Music
ATTACH;FMTTYPE=image/png:https://funinfarmington.com/wp-content/uploads/2026/02/1up-arcade-karaoke.png
END:VEVENT
BEGIN:VEVENT
DTSTART;TZID=UTC:20260603T203000
DTEND;TZID=UTC:20260603T223000
DTSTAMP:20260420T225110
CREATED:20260223T000006Z
LAST-MODIFIED:20260301T192333Z
UID:10019934-1780518600-1780525800@funinfarmington.com
SUMMARY:Trivia Night at Basement Burger Bar
DESCRIPTION:Every Monday at 7:30pm and 8:30pm \nEvery Wednesday at 8:30pm and 9:30pm
URL:https://funinfarmington.com/event/trivia-night-at-basement-burger-bar-2/2026-06-03/
LOCATION:Basement Burger Bar\, 33316 Grand River Ave\, Farmington\, MI\, 48336\, United States
CATEGORIES:Adults,Games
ATTACH;FMTTYPE=image/png:https://funinfarmington.com/wp-content/uploads/2026/02/trivia.png
END:VEVENT
BEGIN:VEVENT
DTSTART;TZID=UTC:20260604T200000
DTEND;TZID=UTC:20260604T230000
DTSTAMP:20260420T225110
CREATED:20260223T000707Z
LAST-MODIFIED:20260223T000707Z
UID:10019780-1780603200-1780614000@funinfarmington.com
SUMMARY:Karaoke Night at 1Up Arcade Bar
DESCRIPTION:Join us for Karaoke night every Thursday from 8-11pm at 1Up Arcade Bar in Farmington. Bring your friends and compete for the title of karaoke champ while enjoying a vibe you won’t forget!
URL:https://funinfarmington.com/event/karaoke-night-at-1up-arcade-bar/2026-06-04/
LOCATION:1Up Arcade Bar\, 33316 Grand River Ave\, Farmington\, Michigan\, 48336
CATEGORIES:Adults,Dance,Karaoke,Music
ATTACH;FMTTYPE=image/png:https://funinfarmington.com/wp-content/uploads/2026/02/1up-arcade-karaoke.png
END:VEVENT
BEGIN:VEVENT
DTSTART;TZID=UTC:20260611T200000
DTEND;TZID=UTC:20260611T230000
DTSTAMP:20260420T225110
CREATED:20260223T000707Z
LAST-MODIFIED:20260223T000707Z
UID:10019781-1781208000-1781218800@funinfarmington.com
SUMMARY:Karaoke Night at 1Up Arcade Bar
DESCRIPTION:Join us for Karaoke night every Thursday from 8-11pm at 1Up Arcade Bar in Farmington. Bring your friends and compete for the title of karaoke champ while enjoying a vibe you won’t forget!
URL:https://funinfarmington.com/event/karaoke-night-at-1up-arcade-bar/2026-06-11/
LOCATION:1Up Arcade Bar\, 33316 Grand River Ave\, Farmington\, Michigan\, 48336
CATEGORIES:Adults,Dance,Karaoke,Music
ATTACH;FMTTYPE=image/png:https://funinfarmington.com/wp-content/uploads/2026/02/1up-arcade-karaoke.png
END:VEVENT
BEGIN:VEVENT
DTSTART;TZID=UTC:20260618T200000
DTEND;TZID=UTC:20260618T230000
DTSTAMP:20260420T225110
CREATED:20260223T000707Z
LAST-MODIFIED:20260223T000707Z
UID:10019782-1781812800-1781823600@funinfarmington.com
SUMMARY:Karaoke Night at 1Up Arcade Bar
DESCRIPTION:Join us for Karaoke night every Thursday from 8-11pm at 1Up Arcade Bar in Farmington. Bring your friends and compete for the title of karaoke champ while enjoying a vibe you won’t forget!
URL:https://funinfarmington.com/event/karaoke-night-at-1up-arcade-bar/2026-06-18/
LOCATION:1Up Arcade Bar\, 33316 Grand River Ave\, Farmington\, Michigan\, 48336
CATEGORIES:Adults,Dance,Karaoke,Music
ATTACH;FMTTYPE=image/png:https://funinfarmington.com/wp-content/uploads/2026/02/1up-arcade-karaoke.png
END:VEVENT
BEGIN:VEVENT
DTSTART;TZID=UTC:20260625T200000
DTEND;TZID=UTC:20260625T230000
DTSTAMP:20260420T225110
CREATED:20260223T000707Z
LAST-MODIFIED:20260223T000707Z
UID:10019783-1782417600-1782428400@funinfarmington.com
SUMMARY:Karaoke Night at 1Up Arcade Bar
DESCRIPTION:Join us for Karaoke night every Thursday from 8-11pm at 1Up Arcade Bar in Farmington. Bring your friends and compete for the title of karaoke champ while enjoying a vibe you won’t forget!
URL:https://funinfarmington.com/event/karaoke-night-at-1up-arcade-bar/2026-06-25/
LOCATION:1Up Arcade Bar\, 33316 Grand River Ave\, Farmington\, Michigan\, 48336
CATEGORIES:Adults,Dance,Karaoke,Music
ATTACH;FMTTYPE=image/png:https://funinfarmington.com/wp-content/uploads/2026/02/1up-arcade-karaoke.png
END:VEVENT
BEGIN:VEVENT
DTSTART;TZID=UTC:20260626T213000
DTEND;TZID=UTC:20260626T223000
DTSTAMP:20260420T225110
CREATED:20260418T213350Z
LAST-MODIFIED:20260418T213350Z
UID:10020844-1782509400-1782513000@funinfarmington.com
SUMMARY:Adults Only Night Hike at Heritage Park
DESCRIPTION:By popular demand. Experience Heritage Park after dark on this “adults only” guided night hike! Don’t let the kids have all the fun! Pre-registration required. Program will take place entirely outdoors.
URL:https://funinfarmington.com/event/adults-only-night-hike-at-heritage-park/
LOCATION:Heritage Park\, 24915 Farmington Rd\, Farmington Hills\, MI\, 48336\, United States
CATEGORIES:Adults,NAture,Older Adults,Seniors
END:VEVENT
BEGIN:VEVENT
DTSTART;TZID=UTC:20260702T200000
DTEND;TZID=UTC:20260702T230000
DTSTAMP:20260420T225110
CREATED:20260223T000707Z
LAST-MODIFIED:20260223T000707Z
UID:10019784-1783022400-1783033200@funinfarmington.com
SUMMARY:Karaoke Night at 1Up Arcade Bar
DESCRIPTION:Join us for Karaoke night every Thursday from 8-11pm at 1Up Arcade Bar in Farmington. Bring your friends and compete for the title of karaoke champ while enjoying a vibe you won’t forget!
URL:https://funinfarmington.com/event/karaoke-night-at-1up-arcade-bar/2026-07-02/
LOCATION:1Up Arcade Bar\, 33316 Grand River Ave\, Farmington\, Michigan\, 48336
CATEGORIES:Adults,Dance,Karaoke,Music
ATTACH;FMTTYPE=image/png:https://funinfarmington.com/wp-content/uploads/2026/02/1up-arcade-karaoke.png
END:VEVENT
BEGIN:VEVENT
DTSTART;TZID=UTC:20260709T200000
DTEND;TZID=UTC:20260709T230000
DTSTAMP:20260420T225110
CREATED:20260223T000707Z
LAST-MODIFIED:20260223T000707Z
UID:10019785-1783627200-1783638000@funinfarmington.com
SUMMARY:Karaoke Night at 1Up Arcade Bar
DESCRIPTION:Join us for Karaoke night every Thursday from 8-11pm at 1Up Arcade Bar in Farmington. Bring your friends and compete for the title of karaoke champ while enjoying a vibe you won’t forget!
URL:https://funinfarmington.com/event/karaoke-night-at-1up-arcade-bar/2026-07-09/
LOCATION:1Up Arcade Bar\, 33316 Grand River Ave\, Farmington\, Michigan\, 48336
CATEGORIES:Adults,Dance,Karaoke,Music
ATTACH;FMTTYPE=image/png:https://funinfarmington.com/wp-content/uploads/2026/02/1up-arcade-karaoke.png
END:VEVENT
BEGIN:VEVENT
DTSTART;TZID=UTC:20260716T200000
DTEND;TZID=UTC:20260716T230000
DTSTAMP:20260420T225110
CREATED:20260223T000707Z
LAST-MODIFIED:20260223T000707Z
UID:10019786-1784232000-1784242800@funinfarmington.com
SUMMARY:Karaoke Night at 1Up Arcade Bar
DESCRIPTION:Join us for Karaoke night every Thursday from 8-11pm at 1Up Arcade Bar in Farmington. Bring your friends and compete for the title of karaoke champ while enjoying a vibe you won’t forget!
URL:https://funinfarmington.com/event/karaoke-night-at-1up-arcade-bar/2026-07-16/
LOCATION:1Up Arcade Bar\, 33316 Grand River Ave\, Farmington\, Michigan\, 48336
CATEGORIES:Adults,Dance,Karaoke,Music
ATTACH;FMTTYPE=image/png:https://funinfarmington.com/wp-content/uploads/2026/02/1up-arcade-karaoke.png
END:VEVENT
BEGIN:VEVENT
DTSTART;TZID=UTC:20260723T200000
DTEND;TZID=UTC:20260723T230000
DTSTAMP:20260420T225110
CREATED:20260223T000707Z
LAST-MODIFIED:20260223T000707Z
UID:10019787-1784836800-1784847600@funinfarmington.com
SUMMARY:Karaoke Night at 1Up Arcade Bar
DESCRIPTION:Join us for Karaoke night every Thursday from 8-11pm at 1Up Arcade Bar in Farmington. Bring your friends and compete for the title of karaoke champ while enjoying a vibe you won’t forget!
URL:https://funinfarmington.com/event/karaoke-night-at-1up-arcade-bar/2026-07-23/
LOCATION:1Up Arcade Bar\, 33316 Grand River Ave\, Farmington\, Michigan\, 48336
CATEGORIES:Adults,Dance,Karaoke,Music
ATTACH;FMTTYPE=image/png:https://funinfarmington.com/wp-content/uploads/2026/02/1up-arcade-karaoke.png
END:VEVENT
BEGIN:VEVENT
DTSTART;TZID=UTC:20260730T200000
DTEND;TZID=UTC:20260730T230000
DTSTAMP:20260420T225110
CREATED:20260223T000707Z
LAST-MODIFIED:20260223T000707Z
UID:10019788-1785441600-1785452400@funinfarmington.com
SUMMARY:Karaoke Night at 1Up Arcade Bar
DESCRIPTION:Join us for Karaoke night every Thursday from 8-11pm at 1Up Arcade Bar in Farmington. Bring your friends and compete for the title of karaoke champ while enjoying a vibe you won’t forget!
URL:https://funinfarmington.com/event/karaoke-night-at-1up-arcade-bar/2026-07-30/
LOCATION:1Up Arcade Bar\, 33316 Grand River Ave\, Farmington\, Michigan\, 48336
CATEGORIES:Adults,Dance,Karaoke,Music
ATTACH;FMTTYPE=image/png:https://funinfarmington.com/wp-content/uploads/2026/02/1up-arcade-karaoke.png
END:VEVENT
END:VCALENDAR