BEGIN:VCALENDAR
VERSION:2.0
PRODID:-//Fun in Farmington - ECPv6.15.20//NONSGML v1.0//EN
CALSCALE:GREGORIAN
METHOD:PUBLISH
X-ORIGINAL-URL:https://funinfarmington.com
X-WR-CALDESC:Events for Fun in Farmington
REFRESH-INTERVAL;VALUE=DURATION:PT1H
X-Robots-Tag:noindex
X-PUBLISHED-TTL:PT1H
BEGIN:VTIMEZONE
TZID:UTC
BEGIN:STANDARD
TZOFFSETFROM:+0000
TZOFFSETTO:+0000
TZNAME:UTC
DTSTART:20250101T000000
END:STANDARD
END:VTIMEZONE
BEGIN:VEVENT
DTSTART;TZID=UTC:20260209T190000
DTEND;TZID=UTC:20260209T200000
DTSTAMP:20260423T091320
CREATED:20260209T134350Z
LAST-MODIFIED:20260209T134350Z
UID:10019520-1770663600-1770667200@funinfarmington.com
SUMMARY:Top Shelf Reads Book Discussion with the Library - on Zoom
DESCRIPTION:This event is only being offered virtually on Zoom. Registration is required to receive the Zoom meeting link.  \nA Zoom exclusive book club where we enjoy reading “Top Shelf” books featuring a diverse range of voices and stories. \nThis month we will be discussing Take My Hand by Dolen Perkins-Valdez. \nLimited copies of book discussion titles will be available at the Information Desks at both FCL locations approximately 30 days before the discussion.
URL:https://funinfarmington.com/event/top-shelf-reads-book-discussion-with-the-library-on-zoom/
LOCATION:Zoom – Virtual
CATEGORIES:Book Club,Reading
END:VEVENT
BEGIN:VEVENT
DTSTART;TZID=UTC:20260211T180000
DTEND;TZID=UTC:20260211T200000
DTSTAMP:20260423T091320
CREATED:20260121T145205Z
LAST-MODIFIED:20260121T145205Z
UID:10019375-1770832800-1770840000@funinfarmington.com
SUMMARY:Ali Hazelwood Book Release at Sante
DESCRIPTION:In partnership with our friends at Road Less Traveled\, get ready to celebrate the launch of Ali Hazelwood’s latest book in person! Join us for a fun-filled evening with fellow fans\, exciting chats\, and drinks. Whether you’re a longtime reader or new to her stories\, this party is the perfect chance to dive into the world of Ali Hazelwood. Don’t miss out on the laughs\, good vibes\, and all-around bookish fun! Your ticket includes a signed hard cover copy of the book plus 2 drinks!
URL:https://funinfarmington.com/event/ali-hazelwood-book-release-at-sante/
LOCATION:Santé\, 33314 Grand Rive Ave\, Farmington\, MI\, 48336\, United States
CATEGORIES:Book Club,Community,Reading,Special Event,Wine,Writing
ATTACH;FMTTYPE=image/avif:https://funinfarmington.com/wp-content/uploads/2026/01/sante.avif
END:VEVENT
BEGIN:VEVENT
DTSTART;TZID=UTC:20260219T180000
DTEND;TZID=UTC:20260219T200000
DTSTAMP:20260423T091320
CREATED:20260108T140316Z
LAST-MODIFIED:20260108T140316Z
UID:10018930-1771524000-1771531200@funinfarmington.com
SUMMARY:Cozy Vibes Silent Book Club at Blue Hat
DESCRIPTION:Welcome to Introvert Happy Hour! \nBring your current read\, grab a drink or a quick bite\, and settle in for an evening of quiet connection and community.\n 6–7 PM: Quiet reading time 7–8 PM: Introvert-friendly social hour\nCome for the books. Stay for the vibes.
URL:https://funinfarmington.com/event/cozy-vibes-silent-book-club-at-blue-hat/2026-02-19/
LOCATION:Blue Hat Coffee\, 23715 Farmington Rd.\, Farmington\, Michigan\, 48336
CATEGORIES:Book Club
END:VEVENT
BEGIN:VEVENT
DTSTART;TZID=UTC:20260222T120000
DTEND;TZID=UTC:20260222T140000
DTSTAMP:20260423T091320
CREATED:20250925T195538Z
LAST-MODIFIED:20260324T155711Z
UID:10019295-1771761600-1771768800@funinfarmington.com
SUMMARY:Cozy Vibes Silent Book Club at Blue Hat
DESCRIPTION:Welcome to Introvert Happy Hour! \nBring your current read\, grab a drink or quick bite\, and settle in for an evening of quiet connection and community.\n1-2 PM: Quiet reading time2-3 PM: Introvert-friendly social hour\nCome for the books. Stay for the vibes
URL:https://funinfarmington.com/event/silent-book-club-craft-and-read-at-library-farmington-2/2026-02-22/
LOCATION:Blue Hat Coffee\, 23715 Farmington Rd.\, Farmington\, Michigan\, 48336
CATEGORIES:Book Club
END:VEVENT
BEGIN:VEVENT
DTSTART;TZID=UTC:20260227T170000
DTEND;TZID=UTC:20260227T190000
DTSTAMP:20260423T091320
CREATED:20260118T221717Z
LAST-MODIFIED:20260118T221717Z
UID:10019308-1772211600-1772218800@funinfarmington.com
SUMMARY:Cozy Vibes Silent Book Club at Road Less Traveled
DESCRIPTION:Welcome to Introvert Happy Hour! \nJoin us at one of our favorite local indie bookshops\, Road Less Traveled Books. Whether you’re a regular or new to the group\, this is the perfect opportunity to enjoy some quiet reading time\, connect with fellow introverts\, and explore an incredible selection of books. Who knows? You might find your next favorite read to add to your #TBR stack!\nSchedule: 5–6 PM: Silent reading time 6–7 PM: Introvert-friendly social hour\nBring your current read (and maybe a little spending money\, just in case!) and settle in for an evening of cozy vibes\, community\, and good books.\nWe can’t wait to see you there!
URL:https://funinfarmington.com/event/cozy-vibes-silent-book-club-at-road-less-traveled/2026-02-27/
LOCATION:Road Less Traveled Books\, 33300 Thomas St\, Farmington\, Michigan\, 48336
CATEGORIES:Book Club
END:VEVENT
END:VCALENDAR