BEGIN:VCALENDAR
VERSION:2.0
PRODID:-//Fun in Farmington - ECPv6.15.20//NONSGML v1.0//EN
CALSCALE:GREGORIAN
METHOD:PUBLISH
X-ORIGINAL-URL:https://funinfarmington.com
X-WR-CALDESC:Events for Fun in Farmington
REFRESH-INTERVAL;VALUE=DURATION:PT1H
X-Robots-Tag:noindex
X-PUBLISHED-TTL:PT1H
BEGIN:VTIMEZONE
TZID:UTC
BEGIN:STANDARD
TZOFFSETFROM:+0000
TZOFFSETTO:+0000
TZNAME:UTC
DTSTART:20250101T000000
END:STANDARD
END:VTIMEZONE
BEGIN:VEVENT
DTSTART;TZID=UTC:20260322T120000
DTEND;TZID=UTC:20260322T140000
DTSTAMP:20260423T184007
CREATED:20250925T195538Z
LAST-MODIFIED:20260324T155711Z
UID:10019296-1774180800-1774188000@funinfarmington.com
SUMMARY:Cozy Vibes Silent Book Club at Blue Hat
DESCRIPTION:Welcome to Introvert Happy Hour! \nBring your current read\, grab a drink or quick bite\, and settle in for an evening of quiet connection and community.\n1-2 PM: Quiet reading time2-3 PM: Introvert-friendly social hour\nCome for the books. Stay for the vibes
URL:https://funinfarmington.com/event/silent-book-club-craft-and-read-at-library-farmington-2/2026-03-22/
LOCATION:Blue Hat Coffee\, 23715 Farmington Rd.\, Farmington\, Michigan\, 48336
CATEGORIES:Book Club
END:VEVENT
BEGIN:VEVENT
DTSTART;TZID=UTC:20260322T150000
DTEND;TZID=UTC:20260322T150000
DTSTAMP:20260423T184007
CREATED:20260309T011525Z
LAST-MODIFIED:20260309T011525Z
UID:10019986-1774191600-1774191600@funinfarmington.com
SUMMARY:Book Club at Road Less Traveled
DESCRIPTION:“Midnight in the Garden of Good and Evil” by John Berendt \nGet 20% off your copy at Road Less Traveled. See you March 22!
URL:https://funinfarmington.com/event/book-club-at-road-less-traveled/
LOCATION:Road Less Traveled Books\, 33300 Thomas St\, Farmington\, Michigan\, 48336
CATEGORIES:Book Club
END:VEVENT
END:VCALENDAR