BEGIN:VCALENDAR
VERSION:2.0
PRODID:-//Fun in Farmington - ECPv6.15.20//NONSGML v1.0//EN
CALSCALE:GREGORIAN
METHOD:PUBLISH
X-ORIGINAL-URL:https://funinfarmington.com
X-WR-CALDESC:Events for Fun in Farmington
REFRESH-INTERVAL;VALUE=DURATION:PT1H
X-Robots-Tag:noindex
X-PUBLISHED-TTL:PT1H
BEGIN:VTIMEZONE
TZID:UTC
BEGIN:STANDARD
TZOFFSETFROM:+0000
TZOFFSETTO:+0000
TZNAME:UTC
DTSTART:20250101T000000
END:STANDARD
END:VTIMEZONE
BEGIN:VEVENT
DTSTART;TZID=UTC:20260325T190000
DTEND;TZID=UTC:20260325T203000
DTSTAMP:20260419T214642
CREATED:20260322T200004Z
LAST-MODIFIED:20260322T200004Z
UID:10020036-1774465200-1774470600@funinfarmington.com
SUMMARY:Starships & Stories Book Club at Library (FH)
DESCRIPTION:Age Group:\nAdults\n\n\n\n\nPlease see event details below for registration requirements.\nRegistration will close on March 25\, 2026 @ 7:00pm.\n\n\n\n\nProgram Description\n‎ ‎ ‎ ‎ ‎ ‎ ‎\n\nLibrary events are always free to the public and you do not need a library card to attend! \nThis program will be presented in-person and virtually on Zoom. Join us in-person in Conference Room B at the FCL Farmington Hills location at 32737 West 12 Mile Rd.\, Farmington Hills\, MI 48334.  \nRegistration is required to receive the Zoom meeting link. \nCalling all Space Cadets and Sorcerers! Do you love getting lost in books about alternate universes? Time travel? Anything science fiction related\, with perhaps a splash of fantasy? Then the Starships & Stories book discussion is for you! \nThis month we will be reading Translation State by Ann Leckie. \nLimited copies of book discussion titles will be available at the Information Desks at both FCL locations approximately 30 days before the discussion.
URL:https://funinfarmington.com/event/starships-stories-book-club-at-library-fh/
LOCATION:Farmington Community Library – Farmington Hills Location\, 32737 W. 12 Mile Rd.\, Farmington Hills\, Michigan\, 48334
CATEGORIES:Adults,Book Club
END:VEVENT
END:VCALENDAR