BEGIN:VCALENDAR
VERSION:2.0
PRODID:-//Fun in Farmington - ECPv6.15.20//NONSGML v1.0//EN
CALSCALE:GREGORIAN
METHOD:PUBLISH
X-ORIGINAL-URL:https://funinfarmington.com
X-WR-CALDESC:Events for Fun in Farmington
REFRESH-INTERVAL;VALUE=DURATION:PT1H
X-Robots-Tag:noindex
X-PUBLISHED-TTL:PT1H
BEGIN:VTIMEZONE
TZID:UTC
BEGIN:STANDARD
TZOFFSETFROM:+0000
TZOFFSETTO:+0000
TZNAME:UTC
DTSTART:20240101T000000
END:STANDARD
END:VTIMEZONE
BEGIN:VEVENT
DTSTART;TZID=UTC:20251020T183000
DTEND;TZID=UTC:20251020T203000
DTSTAMP:20260424T230531
CREATED:20251002T151047Z
LAST-MODIFIED:20251002T151047Z
UID:10017807-1760985000-1760992200@funinfarmington.com
SUMMARY:An Evening with Katherine Center - REGISTRATION REQUIRED
DESCRIPTION:Library events are always free to the public and you do not need a library card to attend!\nThis program will be presented in-person and virtually on Zoom. Join us in-person in the auditorium at the FCL Farmington Hills location at 32737 W. 12 Mile Rd.\, Farmington Hills\, MI\, 48334.\nRegistration is required.  \nFCL is thrilled to welcome New York Times bestselling author Katherine Center!\nDescribed by BookPage as “the reigning queen of comfort reads\,” Katherine is the author of How to Walk Away\, Things You Save in a Fire\, What You Wish For\, and more. Her laugh-and-cry stories about resilience\, love\, and second chances have been praised as “satisfying in the most soul-nourishing way” by The Dallas Morning News.\nHer novels have appeared on numerous Best-Of lists\, including:\n– Real Simple’s Best Books of 2020\n– Amazon’s Top 100 Books of 2019\n– Goodreads Best Books of the Year\n– And many more\nAbout the Author\nHer 2022 hit The Bodyguard was called “a shot of pure joy” by bestselling author Emily Henry. Two of her books have been adapted for the screen: The Lost Husband (starring Josh Duhamel)\, which hit #1 on Netflix\, and Happiness for Beginners\, now a Netflix original starring Ellie Kemper.\nKatherine lives in Houston\, Texas\, with her husband\, two kids\, and their fluffy-but-fierce dog.\nThe Road Less Traveled Bookstore will be on site during the event with copies of Katherine Center’s books available for purchase. A book signing with the author will follow the discussion!\nGenerously sponsored by the Farmington Friends of the Library
URL:https://funinfarmington.com/event/an-evening-with-katherine-center-registration-required/
LOCATION:Michigan
CATEGORIES:Book Club,Special Event
END:VEVENT
BEGIN:VEVENT
DTSTART;TZID=UTC:20251016T180000
DTEND;TZID=UTC:20251016T200000
DTSTAMP:20260424T230531
CREATED:20250603T160523Z
LAST-MODIFIED:20250616T190135Z
UID:10016767-1760637600-1760644800@funinfarmington.com
SUMMARY:Silent Book Club at Blue Hat
DESCRIPTION:Welcome to Introvert Happy Hour! \n\n\nWe’re heading back to where it all began—Blue Hat Coffee\, a beloved favorite and the cozy birthplace of our Silent Book Club. Whether you’re new or one of our original members\, this is the perfect chance to settle in with your current read and enjoy the relaxed\, welcoming vibe that started it all. \n\n\nSchedule:6–7 PM: Quiet reading time7–8 PM: Introvert-friendly social hour \n\nBring your book\, grab a warm drink\, and join us for an evening of quiet connection and community. Let’s celebrate the joy of reading together in this special spot.\nWe can’t wait to see you
URL:https://funinfarmington.com/event/silent-book-club-at-blue-hat-2/2025-10-16/
LOCATION:Blue Hat Coffee\, 23715 Farmington Rd.\, Farmington\, Michigan\, 48336
CATEGORIES:Book Club
END:VEVENT
BEGIN:VEVENT
DTSTART;TZID=UTC:20251007T180000
DTEND;TZID=UTC:20251007T200000
DTSTAMP:20260424T230531
CREATED:20250603T155926Z
LAST-MODIFIED:20250603T155926Z
UID:10016524-1759860000-1759867200@funinfarmington.com
SUMMARY:Silent Book Club at Blue Hat
DESCRIPTION:Welcome to Introvert Happy Hour! \n\n\nWe’re heading back to where it all began—Blue Hat Coffee\, a beloved favorite and the cozy birthplace of our Silent Book Club. Whether you’re new or one of our original members\, this is the perfect chance to settle in with your current read and enjoy the relaxed\, welcoming vibe that started it all. \n\nSchedule:6–7 PM: Quiet reading time7–8 PM: Introvert-friendly social hour \n\nBring your book\, grab a warm drink\, and join us for an evening of quiet connection and community. Let’s celebrate the joy of reading together in this special spot.\nWe can’t wait to see you!
URL:https://funinfarmington.com/event/silent-book-club-at-blue-hat/2025-10-07/
LOCATION:Blue Hat Coffee\, 23715 Farmington Rd.\, Farmington\, Michigan\, 48336
CATEGORIES:Book Club
END:VEVENT
BEGIN:VEVENT
DTSTART;TZID=UTC:20250926T170000
DTEND;TZID=UTC:20250926T190000
DTSTAMP:20260424T230531
CREATED:20250603T161908Z
LAST-MODIFIED:20250603T162132Z
UID:10016547-1758906000-1758913200@funinfarmington.com
SUMMARY:Silent Book Club at Road Less Traveled Books
DESCRIPTION:Welcome to Introvert Happy Hour! \n\n\nJoin us at one of our favorite local indie bookshops\, Road Less Traveled Books. Whether you’re a regular or new to the group\, this is the perfect opportunity to enjoy some quiet reading time\, connect with fellow introverts\, and explore an incredible selection of books. Who knows? You might find your next favorite read to add to your #TBR stack! \n\n\nSchedule:5–6 PM: Silent reading time6–7 PM: Introvert-friendly social hour \n\nBring your current read (and maybe a little spending money\, just in case!) and settle in for an evening of cozy vibes\, community\, and good books.\nWe can’t wait to see you there!
URL:https://funinfarmington.com/event/silent-book-club-at-road-less-traveled-books/2025-09-26/
LOCATION:Road Less Traveled Books\, 33300 Thomas St\, Farmington\, Michigan\, 48336
CATEGORIES:Book Club,Shopping
END:VEVENT
BEGIN:VEVENT
DTSTART;TZID=UTC:20250918T180000
DTEND;TZID=UTC:20250918T200000
DTSTAMP:20260424T230531
CREATED:20250603T160523Z
LAST-MODIFIED:20250616T190135Z
UID:10016766-1758218400-1758225600@funinfarmington.com
SUMMARY:Silent Book Club at Blue Hat
DESCRIPTION:Welcome to Introvert Happy Hour! \n\n\nWe’re heading back to where it all began—Blue Hat Coffee\, a beloved favorite and the cozy birthplace of our Silent Book Club. Whether you’re new or one of our original members\, this is the perfect chance to settle in with your current read and enjoy the relaxed\, welcoming vibe that started it all. \n\n\nSchedule:6–7 PM: Quiet reading time7–8 PM: Introvert-friendly social hour \n\nBring your book\, grab a warm drink\, and join us for an evening of quiet connection and community. Let’s celebrate the joy of reading together in this special spot.\nWe can’t wait to see you
URL:https://funinfarmington.com/event/silent-book-club-at-blue-hat-2/2025-09-18/
LOCATION:Blue Hat Coffee\, 23715 Farmington Rd.\, Farmington\, Michigan\, 48336
CATEGORIES:Book Club
END:VEVENT
BEGIN:VEVENT
DTSTART;TZID=UTC:20250902T180000
DTEND;TZID=UTC:20250902T200000
DTSTAMP:20260424T230531
CREATED:20250603T155926Z
LAST-MODIFIED:20250603T155926Z
UID:10016523-1756836000-1756843200@funinfarmington.com
SUMMARY:Silent Book Club at Blue Hat
DESCRIPTION:Welcome to Introvert Happy Hour! \n\n\nWe’re heading back to where it all began—Blue Hat Coffee\, a beloved favorite and the cozy birthplace of our Silent Book Club. Whether you’re new or one of our original members\, this is the perfect chance to settle in with your current read and enjoy the relaxed\, welcoming vibe that started it all. \n\nSchedule:6–7 PM: Quiet reading time7–8 PM: Introvert-friendly social hour \n\nBring your book\, grab a warm drink\, and join us for an evening of quiet connection and community. Let’s celebrate the joy of reading together in this special spot.\nWe can’t wait to see you!
URL:https://funinfarmington.com/event/silent-book-club-at-blue-hat/2025-09-02/
LOCATION:Blue Hat Coffee\, 23715 Farmington Rd.\, Farmington\, Michigan\, 48336
CATEGORIES:Book Club
END:VEVENT
BEGIN:VEVENT
DTSTART;TZID=UTC:20250829T170000
DTEND;TZID=UTC:20250829T190000
DTSTAMP:20260424T230531
CREATED:20250603T161908Z
LAST-MODIFIED:20250603T162132Z
UID:10016546-1756486800-1756494000@funinfarmington.com
SUMMARY:Silent Book Club at Road Less Traveled Books
DESCRIPTION:Welcome to Introvert Happy Hour! \n\n\nJoin us at one of our favorite local indie bookshops\, Road Less Traveled Books. Whether you’re a regular or new to the group\, this is the perfect opportunity to enjoy some quiet reading time\, connect with fellow introverts\, and explore an incredible selection of books. Who knows? You might find your next favorite read to add to your #TBR stack! \n\n\nSchedule:5–6 PM: Silent reading time6–7 PM: Introvert-friendly social hour \n\nBring your current read (and maybe a little spending money\, just in case!) and settle in for an evening of cozy vibes\, community\, and good books.\nWe can’t wait to see you there!
URL:https://funinfarmington.com/event/silent-book-club-at-road-less-traveled-books/2025-08-29/
LOCATION:Road Less Traveled Books\, 33300 Thomas St\, Farmington\, Michigan\, 48336
CATEGORIES:Book Club,Shopping
END:VEVENT
BEGIN:VEVENT
DTSTART;TZID=UTC:20250824T133000
DTEND;TZID=UTC:20250824T153000
DTSTAMP:20260424T230531
CREATED:20250603T161054Z
LAST-MODIFIED:20250925T193340Z
UID:10016535-1756042200-1756049400@funinfarmington.com
SUMMARY:Silent Book Club Craft and Read at Blue Hat
DESCRIPTION:Welcome to Introvert Happy Hour! \n\n\nWhether you’re a regular or new to the group\, this is the perfect opportunity to enjoy some quiet reading time\, connect with fellow introverts\, and explore an incredible selection of books. Who knows? You might find your next favorite read to add to your #TBR stack!\nSchedule:1:30-2:30PM: Silent reading time2:30-3:30 PM: Introvert-friendly social hour\nBring your current read (and maybe a little spending money\, just in case!) and settle in for an afternoon of cozy vibes\, community\, and good books.\nWe can’t wait to see you there!
URL:https://funinfarmington.com/event/silent-book-club-craft-and-read-at-library-farmington/2025-08-24/
LOCATION:Blue Hat Coffee\, 23715 Farmington Rd.\, Farmington\, Michigan\, 48336
CATEGORIES:Book Club
END:VEVENT
BEGIN:VEVENT
DTSTART;TZID=UTC:20250821T180000
DTEND;TZID=UTC:20250821T200000
DTSTAMP:20260424T230531
CREATED:20250603T160523Z
LAST-MODIFIED:20250616T190135Z
UID:10016765-1755799200-1755806400@funinfarmington.com
SUMMARY:Silent Book Club at Blue Hat
DESCRIPTION:Welcome to Introvert Happy Hour! \n\n\nWe’re heading back to where it all began—Blue Hat Coffee\, a beloved favorite and the cozy birthplace of our Silent Book Club. Whether you’re new or one of our original members\, this is the perfect chance to settle in with your current read and enjoy the relaxed\, welcoming vibe that started it all. \n\n\nSchedule:6–7 PM: Quiet reading time7–8 PM: Introvert-friendly social hour \n\nBring your book\, grab a warm drink\, and join us for an evening of quiet connection and community. Let’s celebrate the joy of reading together in this special spot.\nWe can’t wait to see you
URL:https://funinfarmington.com/event/silent-book-club-at-blue-hat-2/2025-08-21/
LOCATION:Blue Hat Coffee\, 23715 Farmington Rd.\, Farmington\, Michigan\, 48336
CATEGORIES:Book Club
END:VEVENT
BEGIN:VEVENT
DTSTART;TZID=UTC:20250805T180000
DTEND;TZID=UTC:20250805T200000
DTSTAMP:20260424T230531
CREATED:20250603T155926Z
LAST-MODIFIED:20250603T155926Z
UID:10016522-1754416800-1754424000@funinfarmington.com
SUMMARY:Silent Book Club at Blue Hat
DESCRIPTION:Welcome to Introvert Happy Hour! \n\n\nWe’re heading back to where it all began—Blue Hat Coffee\, a beloved favorite and the cozy birthplace of our Silent Book Club. Whether you’re new or one of our original members\, this is the perfect chance to settle in with your current read and enjoy the relaxed\, welcoming vibe that started it all. \n\nSchedule:6–7 PM: Quiet reading time7–8 PM: Introvert-friendly social hour \n\nBring your book\, grab a warm drink\, and join us for an evening of quiet connection and community. Let’s celebrate the joy of reading together in this special spot.\nWe can’t wait to see you!
URL:https://funinfarmington.com/event/silent-book-club-at-blue-hat/2025-08-05/
LOCATION:Blue Hat Coffee\, 23715 Farmington Rd.\, Farmington\, Michigan\, 48336
CATEGORIES:Book Club
END:VEVENT
BEGIN:VEVENT
DTSTART;TZID=UTC:20250727T133000
DTEND;TZID=UTC:20250727T153000
DTSTAMP:20260424T230531
CREATED:20250603T161054Z
LAST-MODIFIED:20250925T193340Z
UID:10017671-1753623000-1753630200@funinfarmington.com
SUMMARY:Silent Book Club Craft and Read at Blue Hat
DESCRIPTION:Welcome to Introvert Happy Hour! \n\n\nWhether you’re a regular or new to the group\, this is the perfect opportunity to enjoy some quiet reading time\, connect with fellow introverts\, and explore an incredible selection of books. Who knows? You might find your next favorite read to add to your #TBR stack!\nSchedule:1:30-2:30PM: Silent reading time2:30-3:30 PM: Introvert-friendly social hour\nBring your current read (and maybe a little spending money\, just in case!) and settle in for an afternoon of cozy vibes\, community\, and good books.\nWe can’t wait to see you there!
URL:https://funinfarmington.com/event/silent-book-club-craft-and-read-at-library-farmington/2025-07-27/
LOCATION:Blue Hat Coffee\, 23715 Farmington Rd.\, Farmington\, Michigan\, 48336
CATEGORIES:Book Club
END:VEVENT
BEGIN:VEVENT
DTSTART;TZID=UTC:20250725T170000
DTEND;TZID=UTC:20250725T190000
DTSTAMP:20260424T230531
CREATED:20250603T161908Z
LAST-MODIFIED:20250603T162132Z
UID:10016545-1753462800-1753470000@funinfarmington.com
SUMMARY:Silent Book Club at Road Less Traveled Books
DESCRIPTION:Welcome to Introvert Happy Hour! \n\n\nJoin us at one of our favorite local indie bookshops\, Road Less Traveled Books. Whether you’re a regular or new to the group\, this is the perfect opportunity to enjoy some quiet reading time\, connect with fellow introverts\, and explore an incredible selection of books. Who knows? You might find your next favorite read to add to your #TBR stack! \n\n\nSchedule:5–6 PM: Silent reading time6–7 PM: Introvert-friendly social hour \n\nBring your current read (and maybe a little spending money\, just in case!) and settle in for an evening of cozy vibes\, community\, and good books.\nWe can’t wait to see you there!
URL:https://funinfarmington.com/event/silent-book-club-at-road-less-traveled-books/2025-07-25/
LOCATION:Road Less Traveled Books\, 33300 Thomas St\, Farmington\, Michigan\, 48336
CATEGORIES:Book Club,Shopping
END:VEVENT
BEGIN:VEVENT
DTSTART;TZID=UTC:20250717T180000
DTEND;TZID=UTC:20250717T200000
DTSTAMP:20260424T230531
CREATED:20250603T160523Z
LAST-MODIFIED:20250616T190135Z
UID:10016764-1752775200-1752782400@funinfarmington.com
SUMMARY:Silent Book Club at Blue Hat
DESCRIPTION:Welcome to Introvert Happy Hour! \n\n\nWe’re heading back to where it all began—Blue Hat Coffee\, a beloved favorite and the cozy birthplace of our Silent Book Club. Whether you’re new or one of our original members\, this is the perfect chance to settle in with your current read and enjoy the relaxed\, welcoming vibe that started it all. \n\n\nSchedule:6–7 PM: Quiet reading time7–8 PM: Introvert-friendly social hour \n\nBring your book\, grab a warm drink\, and join us for an evening of quiet connection and community. Let’s celebrate the joy of reading together in this special spot.\nWe can’t wait to see you
URL:https://funinfarmington.com/event/silent-book-club-at-blue-hat-2/2025-07-17/
LOCATION:Blue Hat Coffee\, 23715 Farmington Rd.\, Farmington\, Michigan\, 48336
CATEGORIES:Book Club
END:VEVENT
BEGIN:VEVENT
DTSTART;TZID=UTC:20250701T180000
DTEND;TZID=UTC:20250701T200000
DTSTAMP:20260424T230531
CREATED:20250603T155926Z
LAST-MODIFIED:20250603T155926Z
UID:10016521-1751392800-1751400000@funinfarmington.com
SUMMARY:Silent Book Club at Blue Hat
DESCRIPTION:Welcome to Introvert Happy Hour! \n\n\nWe’re heading back to where it all began—Blue Hat Coffee\, a beloved favorite and the cozy birthplace of our Silent Book Club. Whether you’re new or one of our original members\, this is the perfect chance to settle in with your current read and enjoy the relaxed\, welcoming vibe that started it all. \n\nSchedule:6–7 PM: Quiet reading time7–8 PM: Introvert-friendly social hour \n\nBring your book\, grab a warm drink\, and join us for an evening of quiet connection and community. Let’s celebrate the joy of reading together in this special spot.\nWe can’t wait to see you!
URL:https://funinfarmington.com/event/silent-book-club-at-blue-hat/2025-07-01/
LOCATION:Blue Hat Coffee\, 23715 Farmington Rd.\, Farmington\, Michigan\, 48336
CATEGORIES:Book Club
END:VEVENT
BEGIN:VEVENT
DTSTART;TZID=UTC:20250627T170000
DTEND;TZID=UTC:20250627T190000
DTSTAMP:20260424T230531
CREATED:20250603T161908Z
LAST-MODIFIED:20250603T162132Z
UID:10016544-1751043600-1751050800@funinfarmington.com
SUMMARY:Silent Book Club at Road Less Traveled Books
DESCRIPTION:Welcome to Introvert Happy Hour! \n\n\nJoin us at one of our favorite local indie bookshops\, Road Less Traveled Books. Whether you’re a regular or new to the group\, this is the perfect opportunity to enjoy some quiet reading time\, connect with fellow introverts\, and explore an incredible selection of books. Who knows? You might find your next favorite read to add to your #TBR stack! \n\n\nSchedule:5–6 PM: Silent reading time6–7 PM: Introvert-friendly social hour \n\nBring your current read (and maybe a little spending money\, just in case!) and settle in for an evening of cozy vibes\, community\, and good books.\nWe can’t wait to see you there!
URL:https://funinfarmington.com/event/silent-book-club-at-road-less-traveled-books/2025-06-27/
LOCATION:Road Less Traveled Books\, 33300 Thomas St\, Farmington\, Michigan\, 48336
CATEGORIES:Book Club,Shopping
END:VEVENT
BEGIN:VEVENT
DTSTART;TZID=UTC:20250622T133000
DTEND;TZID=UTC:20250622T153000
DTSTAMP:20260424T230531
CREATED:20250603T161054Z
LAST-MODIFIED:20250925T193340Z
UID:10016534-1750599000-1750606200@funinfarmington.com
SUMMARY:Silent Book Club Craft and Read at Blue Hat
DESCRIPTION:Welcome to Introvert Happy Hour! \n\n\nWhether you’re a regular or new to the group\, this is the perfect opportunity to enjoy some quiet reading time\, connect with fellow introverts\, and explore an incredible selection of books. Who knows? You might find your next favorite read to add to your #TBR stack!\nSchedule:1:30-2:30PM: Silent reading time2:30-3:30 PM: Introvert-friendly social hour\nBring your current read (and maybe a little spending money\, just in case!) and settle in for an afternoon of cozy vibes\, community\, and good books.\nWe can’t wait to see you there!
URL:https://funinfarmington.com/event/silent-book-club-craft-and-read-at-library-farmington/2025-06-22/
LOCATION:Blue Hat Coffee\, 23715 Farmington Rd.\, Farmington\, Michigan\, 48336
CATEGORIES:Book Club
END:VEVENT
BEGIN:VEVENT
DTSTART;TZID=UTC:20250619T180000
DTEND;TZID=UTC:20250619T200000
DTSTAMP:20260424T230531
CREATED:20250603T160523Z
LAST-MODIFIED:20250616T190135Z
UID:10016763-1750356000-1750363200@funinfarmington.com
SUMMARY:Silent Book Club at Blue Hat
DESCRIPTION:Welcome to Introvert Happy Hour! \n\n\nWe’re heading back to where it all began—Blue Hat Coffee\, a beloved favorite and the cozy birthplace of our Silent Book Club. Whether you’re new or one of our original members\, this is the perfect chance to settle in with your current read and enjoy the relaxed\, welcoming vibe that started it all. \n\n\nSchedule:6–7 PM: Quiet reading time7–8 PM: Introvert-friendly social hour \n\nBring your book\, grab a warm drink\, and join us for an evening of quiet connection and community. Let’s celebrate the joy of reading together in this special spot.\nWe can’t wait to see you
URL:https://funinfarmington.com/event/silent-book-club-at-blue-hat-2/2025-06-19/
LOCATION:Blue Hat Coffee\, 23715 Farmington Rd.\, Farmington\, Michigan\, 48336
CATEGORIES:Book Club
END:VEVENT
BEGIN:VEVENT
DTSTART;TZID=UTC:20250603T180000
DTEND;TZID=UTC:20250603T200000
DTSTAMP:20260424T230531
CREATED:20250603T155926Z
LAST-MODIFIED:20250603T155926Z
UID:10016520-1748973600-1748980800@funinfarmington.com
SUMMARY:Silent Book Club at Blue Hat
DESCRIPTION:Welcome to Introvert Happy Hour! \n\n\nWe’re heading back to where it all began—Blue Hat Coffee\, a beloved favorite and the cozy birthplace of our Silent Book Club. Whether you’re new or one of our original members\, this is the perfect chance to settle in with your current read and enjoy the relaxed\, welcoming vibe that started it all. \n\nSchedule:6–7 PM: Quiet reading time7–8 PM: Introvert-friendly social hour \n\nBring your book\, grab a warm drink\, and join us for an evening of quiet connection and community. Let’s celebrate the joy of reading together in this special spot.\nWe can’t wait to see you!
URL:https://funinfarmington.com/event/silent-book-club-at-blue-hat/2025-06-03/
LOCATION:Blue Hat Coffee\, 23715 Farmington Rd.\, Farmington\, Michigan\, 48336
CATEGORIES:Book Club
END:VEVENT
END:VCALENDAR