BEGIN:VCALENDAR
VERSION:2.0
PRODID:-//Fun in Farmington - ECPv6.15.20//NONSGML v1.0//EN
CALSCALE:GREGORIAN
METHOD:PUBLISH
X-ORIGINAL-URL:https://funinfarmington.com
X-WR-CALDESC:Events for Fun in Farmington
REFRESH-INTERVAL;VALUE=DURATION:PT1H
X-Robots-Tag:noindex
X-PUBLISHED-TTL:PT1H
BEGIN:VTIMEZONE
TZID:UTC
BEGIN:STANDARD
TZOFFSETFROM:+0000
TZOFFSETTO:+0000
TZNAME:UTC
DTSTART:20290101T000000
END:STANDARD
END:VTIMEZONE
BEGIN:VEVENT
DTSTART;TZID=UTC:20300927T170000
DTEND;TZID=UTC:20300927T190000
DTSTAMP:20260420T031016
CREATED:20260118T221717Z
LAST-MODIFIED:20260118T221717Z
UID:10019363-1916758800-1916766000@funinfarmington.com
SUMMARY:Cozy Vibes Silent Book Club at Road Less Traveled
DESCRIPTION:Welcome to Introvert Happy Hour! \nJoin us at one of our favorite local indie bookshops\, Road Less Traveled Books. Whether you’re a regular or new to the group\, this is the perfect opportunity to enjoy some quiet reading time\, connect with fellow introverts\, and explore an incredible selection of books. Who knows? You might find your next favorite read to add to your #TBR stack!\nSchedule: 5–6 PM: Silent reading time 6–7 PM: Introvert-friendly social hour\nBring your current read (and maybe a little spending money\, just in case!) and settle in for an evening of cozy vibes\, community\, and good books.\nWe can’t wait to see you there!
URL:https://funinfarmington.com/event/cozy-vibes-silent-book-club-at-road-less-traveled/2030-09-27/
LOCATION:Road Less Traveled Books\, 33300 Thomas St\, Farmington\, Michigan\, 48336
CATEGORIES:Book Club
END:VEVENT
BEGIN:VEVENT
DTSTART;TZID=UTC:20301025T170000
DTEND;TZID=UTC:20301025T190000
DTSTAMP:20260420T031016
CREATED:20260118T221717Z
LAST-MODIFIED:20260118T221717Z
UID:10019364-1919178000-1919185200@funinfarmington.com
SUMMARY:Cozy Vibes Silent Book Club at Road Less Traveled
DESCRIPTION:Welcome to Introvert Happy Hour! \nJoin us at one of our favorite local indie bookshops\, Road Less Traveled Books. Whether you’re a regular or new to the group\, this is the perfect opportunity to enjoy some quiet reading time\, connect with fellow introverts\, and explore an incredible selection of books. Who knows? You might find your next favorite read to add to your #TBR stack!\nSchedule: 5–6 PM: Silent reading time 6–7 PM: Introvert-friendly social hour\nBring your current read (and maybe a little spending money\, just in case!) and settle in for an evening of cozy vibes\, community\, and good books.\nWe can’t wait to see you there!
URL:https://funinfarmington.com/event/cozy-vibes-silent-book-club-at-road-less-traveled/2030-10-25/
LOCATION:Road Less Traveled Books\, 33300 Thomas St\, Farmington\, Michigan\, 48336
CATEGORIES:Book Club
END:VEVENT
BEGIN:VEVENT
DTSTART;TZID=UTC:20301129T170000
DTEND;TZID=UTC:20301129T190000
DTSTAMP:20260420T031016
CREATED:20260118T221717Z
LAST-MODIFIED:20260118T221717Z
UID:10019365-1922202000-1922209200@funinfarmington.com
SUMMARY:Cozy Vibes Silent Book Club at Road Less Traveled
DESCRIPTION:Welcome to Introvert Happy Hour! \nJoin us at one of our favorite local indie bookshops\, Road Less Traveled Books. Whether you’re a regular or new to the group\, this is the perfect opportunity to enjoy some quiet reading time\, connect with fellow introverts\, and explore an incredible selection of books. Who knows? You might find your next favorite read to add to your #TBR stack!\nSchedule: 5–6 PM: Silent reading time 6–7 PM: Introvert-friendly social hour\nBring your current read (and maybe a little spending money\, just in case!) and settle in for an evening of cozy vibes\, community\, and good books.\nWe can’t wait to see you there!
URL:https://funinfarmington.com/event/cozy-vibes-silent-book-club-at-road-less-traveled/2030-11-29/
LOCATION:Road Less Traveled Books\, 33300 Thomas St\, Farmington\, Michigan\, 48336
CATEGORIES:Book Club
END:VEVENT
BEGIN:VEVENT
DTSTART;TZID=UTC:20301227T170000
DTEND;TZID=UTC:20301227T190000
DTSTAMP:20260420T031016
CREATED:20260118T221717Z
LAST-MODIFIED:20260118T221717Z
UID:10019366-1924621200-1924628400@funinfarmington.com
SUMMARY:Cozy Vibes Silent Book Club at Road Less Traveled
DESCRIPTION:Welcome to Introvert Happy Hour! \nJoin us at one of our favorite local indie bookshops\, Road Less Traveled Books. Whether you’re a regular or new to the group\, this is the perfect opportunity to enjoy some quiet reading time\, connect with fellow introverts\, and explore an incredible selection of books. Who knows? You might find your next favorite read to add to your #TBR stack!\nSchedule: 5–6 PM: Silent reading time 6–7 PM: Introvert-friendly social hour\nBring your current read (and maybe a little spending money\, just in case!) and settle in for an evening of cozy vibes\, community\, and good books.\nWe can’t wait to see you there!
URL:https://funinfarmington.com/event/cozy-vibes-silent-book-club-at-road-less-traveled/2030-12-27/
LOCATION:Road Less Traveled Books\, 33300 Thomas St\, Farmington\, Michigan\, 48336
CATEGORIES:Book Club
END:VEVENT
END:VCALENDAR