BEGIN:VCALENDAR
VERSION:2.0
PRODID:-//Fun in Farmington - ECPv6.15.20//NONSGML v1.0//EN
CALSCALE:GREGORIAN
METHOD:PUBLISH
X-WR-CALNAME:Fun in Farmington
X-ORIGINAL-URL:https://funinfarmington.com
X-WR-CALDESC:Events for Fun in Farmington
REFRESH-INTERVAL;VALUE=DURATION:PT1H
X-Robots-Tag:noindex
X-PUBLISHED-TTL:PT1H
BEGIN:VTIMEZONE
TZID:UTC
BEGIN:STANDARD
TZOFFSETFROM:+0000
TZOFFSETTO:+0000
TZNAME:UTC
DTSTART:20250101T000000
END:STANDARD
END:VTIMEZONE
BEGIN:VEVENT
DTSTART;TZID=UTC:20260201T140000
DTEND;TZID=UTC:20260201T151500
DTSTAMP:20260419T153339
CREATED:20260125T201830Z
LAST-MODIFIED:20260125T201830Z
UID:10019391-1769954400-1769958900@funinfarmington.com
SUMMARY:Yoga + Live Music at Bodhi Yoga (registration required)
DESCRIPTION:REGISTRATION REQUIRED \nJoin Katie Hipple and Jay Frydenlund for a little gift of music and movement\, from our hearts to yours. \nThis 75 minute class will offer a slow flow yoga class\, live acoustic guitar and a sound bath Savasana \nSign up at: BodhiYogaFarmington.com
URL:https://funinfarmington.com/event/yoga-live-music-at-bodhi-yoga-registration-required/
LOCATION:Bodhi Yoga\, 33047 Grand River Ave\, Farmington\, Michigan\, 48336
CATEGORIES:Community,Fitness,Music,Wellness,Yoga
END:VEVENT
BEGIN:VEVENT
DTSTART;TZID=UTC:20260202T183000
DTEND;TZID=UTC:20260202T203000
DTSTAMP:20260419T153339
CREATED:20260111T232151Z
LAST-MODIFIED:20260111T232151Z
UID:10019134-1770057000-1770064200@funinfarmington.com
SUMMARY:Alphabet Soup for Grades 6-12 at Library (Farmington)
DESCRIPTION:No registration is required. \nAlphabet Soup is an LGBTQ+ group for tweens and teens! We’re focused on creating a safe and creative space for young people at the library! Each month we’ll highlight some LGBTQ+ books and materials\, talk about current events\, have lots of fun\, and maybe even make some new friends in the process! This is a safe space for YOU! – All are welcome!
URL:https://funinfarmington.com/event/alphabet-soup-for-grades-6-12-at-library-farmington/
LOCATION:Farmington Community Library – Farmington Location\, 23500 Liberty St.\, Farmington\, Michigan\, 48335
CATEGORIES:Community,LGBTQ+,Reading,Teens
END:VEVENT
BEGIN:VEVENT
DTSTART;TZID=UTC:20260203T173000
DTEND;TZID=UTC:20260203T200000
DTSTAMP:20260419T153339
CREATED:20260201T173151Z
LAST-MODIFIED:20260201T173151Z
UID:10019500-1770139800-1770148800@funinfarmington.com
SUMMARY:Casual Euchre at Peterlins
DESCRIPTION:This is all about Meeting People via Euchre! For this event\, you do not need to show up at the start time and you can leave whenever. \n\n\n\n\nSupport the Restaurant: Enjoy dinner at Euchre and earn an extra 10 points! \nEntry & Prizes: No entry fee required. Weekly highest scorers get a prize\, and there’s a grand prize for the monthly champion. \nFlexible Timing: Arrive any time you prefer. Most guests come early for dinner in peace\, while others join later. Leave at your own convenience. \nNew to Euchre? No problem! Watch these “How to Play Euchre” videos. Install the Trickster Cards app on your phone and set up an account (see our signup instructions here). It’s great for practice and for instances when we have an uneven number of players. \nHow to Participate: \n\nCreate an account on DarbyConnections.com.\nJust show up! No need for weekly commitments or playing all evening. Typically\, we play 6-8 games each night.\n\nGame Rules & Format: \n\nScoring: Everyone deals twice each game. Can have more then 10 points. Four points for Euchres and Reneges on Loners. Your weekly score is the sum of your top five games. Monthly score is based on your top ten games.\nWinning: Daily high-scorers win a prize. Tie-breakers favor the player with the highest hand. Must be present to win.\nGameplay: Change partners after each game. Each player deals twice. Screw the Dealer. No game starts post 8:30 pm.\nAdditional Rules:\n\n\nNo table talk regarding the current hand. Talk your heads off about everything else. THIS IS A SOCIAL EVENT! Keep games brisk.\nDon’t be a jerk!\nHave fun!\n\n\n\nImportant Notes: \n\nRegister to help us manage seating and scoring.\nLogged-in users can view scores on the event page.\nWe communicate via text for seat assignments and score updates.\n\nWe look forward to seeing you and hope you have a great time!
URL:https://funinfarmington.com/event/casual-euchre-at-peterlins-3/
LOCATION:Peterlin’s Restaurant & Bar\, 22004 Farmington Rd\, Farmington\, Michigan\, 48336
CATEGORIES:Community,Food,Games
END:VEVENT
BEGIN:VEVENT
DTSTART;TZID=UTC:20260204T183000
DTEND;TZID=UTC:20260204T191500
DTSTAMP:20260419T153339
CREATED:20260110T191407Z
LAST-MODIFIED:20260302T145452Z
UID:10019028-1770229800-1770232500@funinfarmington.com
SUMMARY:Paws for Reading at Library (FH)
DESCRIPTION:Registration is required. \nPractice your reading with a certified therapy dog!  The dog loves listening to readers and will cheer you on!  Please sign up for one 15-minute time slot per week.
URL:https://funinfarmington.com/event/paws-for-reading/2026-02-04/
LOCATION:Farmington Community Library – Farmington Hills Location\, 32737 W. 12 Mile Rd.\, Farmington Hills\, Michigan\, 48334
CATEGORIES:Community,Educational,Kids & Families
END:VEVENT
BEGIN:VEVENT
DTSTART;TZID=UTC:20260204T183000
DTEND;TZID=UTC:20260204T200000
DTSTAMP:20260419T153339
CREATED:20260201T164658Z
LAST-MODIFIED:20260201T164658Z
UID:10019497-1770229800-1770235200@funinfarmington.com
SUMMARY:FAMC Meet and Greet Mom Night Out at Los Amigos Don Juan
DESCRIPTION:Are you interested in making some mom friends? Do you want to find out more about the Farmington Area Mothers’ Club? Come join us for our quarterly general meeting. No membership required to attend. We will go over some club business\, but will mostly enjoy some good food and even better company! Come say hi and ask all your questions.It is helpful to let us know if you plan to attend\, so we can save you a seat. (Just shoot us a DM) But if it’s a last minute decision\, don’t let it stop you! We can ALWAYS make room for another mother \nLos Amigos Don Juan \n19333 Victor Parkway\, Livonia
URL:https://funinfarmington.com/event/famc-meet-and-greet-mom-night-out-at-los-amigos-don-juan/
LOCATION:MI
CATEGORIES:Community,Moms
END:VEVENT
BEGIN:VEVENT
DTSTART;TZID=UTC:20260205T080000
DTEND;TZID=UTC:20260205T091500
DTSTAMP:20260419T153339
CREATED:20260201T170706Z
LAST-MODIFIED:20260201T170706Z
UID:10019499-1770278400-1770282900@funinfarmington.com
SUMMARY:Morning Boost at JAN-PRO
DESCRIPTION:Join us for an energetic start to kick off your morning! We welcome you on Thursday\, February 5 from 8-9:15am to boost your energy and networking! Free for chamber members! $10 for guests. \nPlease register in advance at www.gfachamber.com/events
URL:https://funinfarmington.com/event/morning-boost-at-jan-pro/
LOCATION:JAN-PRO Detroit\, 32823 W 12 Mile Road\, Farmington Hills\, MI\, 48334\, United States
CATEGORIES:Community
END:VEVENT
BEGIN:VEVENT
DTSTART;TZID=UTC:20260207T103000
DTEND;TZID=UTC:20260207T110000
DTSTAMP:20260419T153339
CREATED:20260111T224219Z
LAST-MODIFIED:20260111T224219Z
UID:10019121-1770460200-1770462000@funinfarmington.com
SUMMARY:Move Your Body for Families @ Library (FH)
DESCRIPTION:Join us for this special dance edition of Move Your Body! Wear loose-fitting clothing and bring a water bottle.
URL:https://funinfarmington.com/event/move-your-body-for-families-library-fh/
LOCATION:Farmington Community Library – Farmington Hills Location\, 32737 W. 12 Mile Rd.\, Farmington Hills\, Michigan\, 48334
CATEGORIES:Community,Dance,Kids & Families
END:VEVENT
BEGIN:VEVENT
DTSTART;TZID=UTC:20260207T120000
DTEND;TZID=UTC:20260207T170000
DTSTAMP:20260419T153339
CREATED:20260201T164101Z
LAST-MODIFIED:20260201T164101Z
UID:10019496-1770465600-1770483600@funinfarmington.com
SUMMARY:Farmington Brewing Co. Mug Club Release
DESCRIPTION:🎉 Mark your calendars! \nFBC will be opening their doors at NOON on Saturday\, February 7th to start slinging those long awaited\, highly requested 2026 Mug Club memberships! \nWe have a VERY limited number of available mugs this year so the closer to noon you get there\, the better off you’ll be! \nEach mug is $75 annually\nHere’s the breakdown of what perks you can expect: \n🍺 your own numbered 20oz mug\n🍺 $1 off every pour\n🍺 half off growler fills Tuesday-Thursday\n🍺 10% off of merch\n🍺 special release beers\n🍺 members only events
URL:https://funinfarmington.com/event/farmington-brewing-co-mug-club-release/
LOCATION:Farmington Brewing Company\, 33336 Grand River Ave\, Farmington\, Michigan\, 48336
CATEGORIES:Community,Hobbies,Special Event
END:VEVENT
BEGIN:VEVENT
DTSTART;TZID=UTC:20260207T190000
DTEND;TZID=UTC:20260207T210000
DTSTAMP:20260419T153339
CREATED:20260118T215706Z
LAST-MODIFIED:20260129T161509Z
UID:10019293-1770490800-1770498000@funinfarmington.com
SUMMARY:Glow Skate at Riley Park
DESCRIPTION:7-9 pm \n33113 Grand River Ave
URL:https://funinfarmington.com/event/glow-skate-at-riley-park-2/
LOCATION:Riley Park\, 33113 Grand River Ave\, Farmington\, Michigan\, 48335
CATEGORIES:Community,Fitness,Kids & Families
END:VEVENT
BEGIN:VEVENT
DTSTART;TZID=UTC:20260209T110000
DTEND;TZID=UTC:20260209T140000
DTSTAMP:20260419T153339
CREATED:20260209T131342Z
LAST-MODIFIED:20260209T131342Z
UID:10019514-1770634800-1770645600@funinfarmington.com
SUMMARY:Open Mic Monday at The Hawk
DESCRIPTION:Come shake off the Monday Blues at our Open Mic Monday the 2nd Monday of the month. Sit back and relax to American Standards\, Folk Blues\, and Jazz favorites. John Telford will be your host. Bring your instrument if you want to join in. No charge to enjoy the music. Beverages will be available for purchase.
URL:https://funinfarmington.com/event/open-mic-monday-at-the-hawk/
LOCATION:Costick Center\, 28600 W Eleven Mile Rd\, Farmington Hills\, Michigan\, 48336
CATEGORIES:Community,Music,Seniors
END:VEVENT
BEGIN:VEVENT
DTSTART;TZID=UTC:20260209T160000
DTEND;TZID=UTC:20260209T170000
DTSTAMP:20260419T153339
CREATED:20260110T185924Z
LAST-MODIFIED:20260110T190814Z
UID:10018999-1770652800-1770656400@funinfarmington.com
SUMMARY:1-2-3 Read with Me (1st\, 2nd\, 3rd Grd) at Library (FH)
DESCRIPTION:Are you in 1st\, 2nd\, or 3rd grade? This book club is for you! Join us as we explore literary genres and read books together. Practice reading aloud (or just listen). There is no required reading—just come and read with me! \nJanuary Theme— Let’s go on an Adventure \nRegistration is required.
URL:https://funinfarmington.com/event/1-2-3-read-with-me-1st-2nd-3rd-grd-at-library-fh/2026-02-09/
LOCATION:Farmington Community Library – Farmington Hills Location\, 32737 W. 12 Mile Rd.\, Farmington Hills\, Michigan\, 48334
CATEGORIES:Community,Educational,Kids & Families
END:VEVENT
BEGIN:VEVENT
DTSTART;TZID=UTC:20260211T173000
DTEND;TZID=UTC:20260211T183000
DTSTAMP:20260419T153339
CREATED:20260209T123656Z
LAST-MODIFIED:20260209T123656Z
UID:10019509-1770831000-1770834600@funinfarmington.com
SUMMARY:Meet author Stacey Kulingowski at Road Less Traveled Books
DESCRIPTION:Make 2026 the year you @bringyourbigenergy! Meet author Stacey Kulingowski at Road Less Traveled Books on Feb. 11!
URL:https://funinfarmington.com/event/meet-author-stacey-kulingowski-at-road-less-traveled-books/
LOCATION:Road Less Traveled Books\, 33300 Thomas St\, Farmington\, Michigan\, 48336
CATEGORIES:Community,Reading,Special Event
END:VEVENT
BEGIN:VEVENT
DTSTART;TZID=UTC:20260211T180000
DTEND;TZID=UTC:20260211T200000
DTSTAMP:20260419T153339
CREATED:20260121T145205Z
LAST-MODIFIED:20260121T145205Z
UID:10019375-1770832800-1770840000@funinfarmington.com
SUMMARY:Ali Hazelwood Book Release at Sante
DESCRIPTION:In partnership with our friends at Road Less Traveled\, get ready to celebrate the launch of Ali Hazelwood’s latest book in person! Join us for a fun-filled evening with fellow fans\, exciting chats\, and drinks. Whether you’re a longtime reader or new to her stories\, this party is the perfect chance to dive into the world of Ali Hazelwood. Don’t miss out on the laughs\, good vibes\, and all-around bookish fun! Your ticket includes a signed hard cover copy of the book plus 2 drinks!
URL:https://funinfarmington.com/event/ali-hazelwood-book-release-at-sante/
LOCATION:Santé\, 33314 Grand Rive Ave\, Farmington\, MI\, 48336\, United States
CATEGORIES:Book Club,Community,Reading,Special Event,Wine,Writing
ATTACH;FMTTYPE=image/avif:https://funinfarmington.com/wp-content/uploads/2026/01/sante.avif
END:VEVENT
BEGIN:VEVENT
DTSTART;TZID=UTC:20260212T183000
DTEND;TZID=UTC:20260212T200000
DTSTAMP:20260419T153339
CREATED:20260209T130853Z
LAST-MODIFIED:20260209T130853Z
UID:10019513-1770921000-1770926400@funinfarmington.com
SUMMARY:Social Security Strategies in Retirement Planning at Library (FH) (Reg. Required)
DESCRIPTION:Registration is required. \nMore than 70 million Americans (21% of the U.S. population) receive some form of Social Security. This presentation will explain when to apply for Social Security benefits\, consideration of how to integrate taking Social Security into your wealth planning\, and investment strategies in retirement. Presented by Joseph Mooshi\, MBA/MSF (Founder\, Managing Director\, and Wealth Advisor at MOOSHI Wealth Planning & Management). \nHandouts will be provided.
URL:https://funinfarmington.com/event/social-security-strategies-in-retirement-planning-at-library-fh-reg-required/
LOCATION:Farmington Community Library – Farmington Hills Location\, 32737 W. 12 Mile Rd.\, Farmington Hills\, Michigan\, 48334
CATEGORIES:Community,Educational,Seniors
END:VEVENT
BEGIN:VEVENT
DTSTART;TZID=UTC:20260213T113000
DTEND;TZID=UTC:20260213T133000
DTSTAMP:20260419T153339
CREATED:20260121T154854Z
LAST-MODIFIED:20260121T154854Z
UID:10019382-1770982200-1770989400@funinfarmington.com
SUMMARY:Mardi Gras Party at The Hawk (50+)
DESCRIPTION:Celebrate Mardi Gras\, a celebration of life at the Costick Center with a festive lunch followed by live music. You will feel like you are in New Orleans’s cafe on Bourbon Street. Don’t forget your beads! Register by Thursday February 5 online or at the Costick Center front desk. Space is limited. No walk-ins.\n\n\n$10 cancellation fee.\n$5 transfer fee.
URL:https://funinfarmington.com/event/mardi-gras-party-at-the-hawk-50/
LOCATION:The Hawk Community Center\, 29995 W 12 Mile Rd\, Farmington Hills\, Michigan\, 48334
CATEGORIES:Community,Dance,Festival,Older Adults,Seniors,Special Event
END:VEVENT
BEGIN:VEVENT
DTSTART;TZID=UTC:20260213T190000
DTEND;TZID=UTC:20260213T210000
DTSTAMP:20260419T153339
CREATED:20260209T152258Z
LAST-MODIFIED:20260209T152258Z
UID:10019522-1771009200-1771016400@funinfarmington.com
SUMMARY:Connect Four Tournament at Plus
DESCRIPTION:Connect Four tournament! DJ Alfi LIVE. Come in this week to practice and pre-register. First 16 names are in! $5/entry. Winner takes all\, plus prizes! We’ll have food and drink available.
URL:https://funinfarmington.com/event/connect-four-tournament-at-plus/
LOCATION:Plus Skateboarding\, 33335 Grand River Ave\, Farmington\, MI\, 48336\, United States
CATEGORIES:Community,Games,Music,Teens
ATTACH;FMTTYPE=image/png:https://funinfarmington.com/wp-content/uploads/2026/02/Plus-connect-4.png
END:VEVENT
BEGIN:VEVENT
DTSTART;TZID=UTC:20260214T103000
DTEND;TZID=UTC:20260214T120000
DTSTAMP:20260419T153339
CREATED:20260209T124613Z
LAST-MODIFIED:20260209T124613Z
UID:10019512-1771065000-1771070400@funinfarmington.com
SUMMARY:FAMC Meet and Greet at Library (Farmington)
DESCRIPTION:Join us at the downtown Farmington Library for family storytime (ages 1-6) and to find out more about FAMC. We’ll be in the play area afterwards at 11:30 to answer any questions. RSVP or drop us a message to let us know to look out for you!
URL:https://funinfarmington.com/event/famc-meet-and-greet-at-library-farmington/
LOCATION:Farmington Community Library – Farmington Location\, 23500 Liberty St.\, Farmington\, Michigan\, 48335
CATEGORIES:Community,Kids & Families,Moms
END:VEVENT
BEGIN:VEVENT
DTSTART;TZID=UTC:20260214T140000
DTEND;TZID=UTC:20260214T160000
DTSTAMP:20260419T153339
CREATED:20260111T224430Z
LAST-MODIFIED:20260111T224430Z
UID:10019122-1771077600-1771084800@funinfarmington.com
SUMMARY:Valentine Ice Skate at Riley Park
DESCRIPTION:This event will take place at Riley Ice Skate Rink at 33113 Grand River Ave\, Farmington\, MI 48335. \nNo registration is required. \nLet’s share a little Farmington Love today! We’ll skate together and make valentines to share. \nBring your ice skates. No skates? No problem — skates are available to borrow. Sizes may vary.
URL:https://funinfarmington.com/event/valentine-ice-skate-at-riley-park/
LOCATION:Riley Park\, 33113 Grand River Ave\, Farmington\, Michigan\, 48335
CATEGORIES:Community,Hobbies,Kids & Families,Special Event
END:VEVENT
BEGIN:VEVENT
DTSTART;TZID=UTC:20260214T140000
DTEND;TZID=UTC:20260214T160000
DTSTAMP:20260419T153339
CREATED:20260130T150328Z
LAST-MODIFIED:20260130T150328Z
UID:10019478-1771077600-1771084800@funinfarmington.com
SUMMARY:Warm Wraps\, Warm Hearts! (Grades 6-12) at Library (FH)
DESCRIPTION:Registration is required. \nHave fun\, and maybe learn some new skills as we make warm lap blankets and shawls for seniors in local nursing homes.  All supplies provided; all we need is you! If you would like to earn volunteer hours for participating\, you must be 14 and have a work permit on file with the library.
URL:https://funinfarmington.com/event/warm-wraps-warm-hearts-grades-6-12-at-library-fh/
LOCATION:Farmington Community Library – Farmington Hills Location\, 32737 W. 12 Mile Rd.\, Farmington Hills\, Michigan\, 48334
CATEGORIES:Community,Crafting,Teens
END:VEVENT
BEGIN:VEVENT
DTSTART;TZID=UTC:20260214T140000
DTEND;TZID=UTC:20260214T160000
DTSTAMP:20260419T153339
CREATED:20260209T122044Z
LAST-MODIFIED:20260209T122136Z
UID:10019505-1771077600-1771084800@funinfarmington.com
SUMMARY:Valentine Ice Skate at Riley Park
DESCRIPTION:Let’s share a little Farmington Love today! We’ll skate together and make valentines to share. \nBring your ice skates. No skates? No problem — skates are available to borrow. Sizes may vary.
URL:https://funinfarmington.com/event/valentine-ice-skate-at-riley-park-2/
LOCATION:Riley Skate Park\, 35520 Eight Mile Rd\, Farmington\, MI\, 48335\, United States
CATEGORIES:Community,Hobbies,Holiday,Kids & Families,Older Adults,Seniors
END:VEVENT
BEGIN:VEVENT
DTSTART;TZID=UTC:20260215T140000
DTEND;TZID=UTC:20260215T170000
DTSTAMP:20260419T153339
CREATED:20260121T150712Z
LAST-MODIFIED:20260121T150712Z
UID:10019378-1771164000-1771174800@funinfarmington.com
SUMMARY:Lunar New Year Celebration at The Hawk
DESCRIPTION:Xiao Dong Wei\, Master of the Erhu\, and Steinway Artist\, Yuki Mack\, return to the Hawk Black Box for a concert celebrating Lunar New Year. At the age of 11\, Xiao Dong Wei was accepted into the prestigious Central Conservatory of Music in Beijing where she earned her degree. A Kresge Artist\, University of Michigan lecturer\, frequent guest soloist for the Detroit Symphony Orchestra and other renowned orchestras\, Xiao Dong Wei has travelled the world sharing her profound musical talent. Yuki Mack has performed throughout the United States and three continents. Yuki’s performances include a broad range of piano works including chamber music and as a soloist with many orchestras. The Lunar New Year Celebration will also include a family-friendly crafts\, dance and fitness presentations\, and cultural exploration. Your ticket price includes admission to both the concert and the day’s activities. \n2:00pm-4:00pm Cultural Celebration\,\n4:00pm Concert
URL:https://funinfarmington.com/event/lunar-new-year-celebration-at-the-hawk/
LOCATION:The Hawk Community Center\, 29995 W 12 Mile Rd\, Farmington Hills\, Michigan\, 48334
CATEGORIES:Art,Community,Concert,Festival,Holiday,Kids & Families,Music
END:VEVENT
BEGIN:VEVENT
DTSTART;TZID=UTC:20260216T140000
DTEND;TZID=UTC:20260216T160000
DTSTAMP:20260419T153339
CREATED:20260111T224813Z
LAST-MODIFIED:20260111T224813Z
UID:10019123-1771250400-1771257600@funinfarmington.com
SUMMARY:Beat Winter Blues with Camping at the Library (Farmington)
DESCRIPTION:No registration is required.  \nHas the cold winter weather got you down? Come warm up like it’s summer with Camping at FCL! Enjoy a number of camping-themed activities\, such as reading books around a (pretend) fire\, going on scavenger hunts\, playing games of cornhole\, and more. Step out of the cold and imagine yourself in warm weather fun! \nFood will be offered at this event and you are welcome to bring your own. To notify us of a food allergy\, please reach out to the staff member at the library.
URL:https://funinfarmington.com/event/beat-winter-blues-with-camping-at-the-library-farmington/
LOCATION:Farmington Community Library – Farmington Location\, 23500 Liberty St.\, Farmington\, Michigan\, 48335
CATEGORIES:Community,Kids & Families,Teens
END:VEVENT
BEGIN:VEVENT
DTSTART;TZID=UTC:20260217T140000
DTEND;TZID=UTC:20260217T150000
DTSTAMP:20260419T153339
CREATED:20260111T225052Z
LAST-MODIFIED:20260111T225052Z
UID:10019124-1771336800-1771340400@funinfarmington.com
SUMMARY:Warm up with Some Pups at Library (FH)
DESCRIPTION:No registration is required. \nDo you need to warm up with some friends that have PAWS? Come to the Library to meet our certified therapy dogs! A light refreshment will be served.
URL:https://funinfarmington.com/event/warm-up-with-some-pups-at-library-fh/
LOCATION:Farmington Community Library – Farmington Hills Location\, 32737 W. 12 Mile Rd.\, Farmington Hills\, Michigan\, 48334
CATEGORIES:Community,Kids & Families,Pets
END:VEVENT
BEGIN:VEVENT
DTSTART;TZID=UTC:20260217T173000
DTEND;TZID=UTC:20260217T203000
DTSTAMP:20260419T153339
CREATED:20260215T214752Z
LAST-MODIFIED:20260215T214752Z
UID:10019558-1771349400-1771360200@funinfarmington.com
SUMMARY:Casual Euchre at Peterlins
DESCRIPTION:This is all about Meeting People via Euchre! For this event\, you do not need to show up at the start time and you can leave whenever. \n\n\n\n\nSupport the Restaurant: Enjoy dinner at Euchre and earn an extra 10 points! \nEntry & Prizes: No entry fee required. Weekly highest scorers get a prize\, and there’s a grand prize for the monthly champion. \nFlexible Timing: Arrive any time you prefer. Most guests come early for dinner in peace\, while others join later. Leave at your own convenience. \nNew to Euchre? No problem! Watch these “How to Play Euchre” videos. Install the Trickster Cards app on your phone and set up an account (see our signup instructions here). It’s great for practice and for instances when we have an uneven number of players. \nHow to Participate: \n\nCreate an account on DarbyConnections.com.\nJust show up! No need for weekly commitments or playing all evening. Typically\, we play 6-8 games each night.\n\nGame Rules & Format: \n\nScoring: Everyone deals twice each game. Can have more then 10 points. Four points for Euchres and Reneges on Loners. Your weekly score is the sum of your top five games. Monthly score is based on your top ten games.\nWinning: Daily high-scorers win a prize. Tie-breakers favor the player with the highest hand. Must be present to win.\nGameplay: Change partners after each game. Each player deals twice. Screw the Dealer. No game starts post 8:30 pm.\nAdditional Rules:\n\n\nNo table talk regarding the current hand. Talk your heads off about everything else. THIS IS A SOCIAL EVENT! Keep games brisk.\nDon’t be a jerk!\nHave fun!\n\n\n\nImportant Notes: \n\nRegister to help us manage seating and scoring.\nLogged-in users can view scores on the event page.\nWe communicate via text for seat assignments and score updates.\n\nWe look forward to seeing you and hope you have a great time!
URL:https://funinfarmington.com/event/casual-euchre-at-peterlins-4/2026-02-17/
LOCATION:Peterlin’s Restaurant & Bar\, 22004 Farmington Rd\, Farmington\, Michigan\, 48336
CATEGORIES:Community,Food,Games
END:VEVENT
BEGIN:VEVENT
DTSTART;TZID=UTC:20260218T183000
DTEND;TZID=UTC:20260218T191500
DTSTAMP:20260419T153339
CREATED:20260110T191407Z
LAST-MODIFIED:20260302T145452Z
UID:10019029-1771439400-1771442100@funinfarmington.com
SUMMARY:Paws for Reading at Library (FH)
DESCRIPTION:Registration is required. \nPractice your reading with a certified therapy dog!  The dog loves listening to readers and will cheer you on!  Please sign up for one 15-minute time slot per week.
URL:https://funinfarmington.com/event/paws-for-reading/2026-02-18/
LOCATION:Farmington Community Library – Farmington Hills Location\, 32737 W. 12 Mile Rd.\, Farmington Hills\, Michigan\, 48334
CATEGORIES:Community,Educational,Kids & Families
END:VEVENT
BEGIN:VEVENT
DTSTART;TZID=UTC:20260218T183000
DTEND;TZID=UTC:20260218T203000
DTSTAMP:20260419T153339
CREATED:20260111T225514Z
LAST-MODIFIED:20260111T225514Z
UID:10019126-1771439400-1771446600@funinfarmington.com
SUMMARY:Family Picnic Movie Night at Library (Farmington)
DESCRIPTION:No registration is required. \nBring a blanket or chairs and some snacks and join us for a viewing of How to Train Your Dragon the 2025 live-action remake (PG\, 2 hrs. 5 mins.).
URL:https://funinfarmington.com/event/family-picnic-movie-night-at-library-farmington-3/
LOCATION:Farmington Community Library – Farmington Location\, 23500 Liberty St.\, Farmington\, Michigan\, 48335
CATEGORIES:Community,Kids & Families,Movies
END:VEVENT
BEGIN:VEVENT
DTSTART;TZID=UTC:20260218T190000
DTEND;TZID=UTC:20260218T210000
DTSTAMP:20260419T153339
CREATED:20260215T193014Z
LAST-MODIFIED:20260215T193014Z
UID:10019544-1771441200-1771448400@funinfarmington.com
SUMMARY:Jeopardy! Bar League at Sidecar Slider Bar
DESCRIPTION:
URL:https://funinfarmington.com/event/jeopardy-bar-league-at-sidecar-slider-bar/
LOCATION:Sidecar Slider Bar\, 32720 Grand River Ave\, Farmington\, Michigan\, 48336
CATEGORIES:Community,Contest,Games
END:VEVENT
BEGIN:VEVENT
DTSTART;TZID=UTC:20260219T183000
DTEND;TZID=UTC:20260219T203000
DTSTAMP:20260419T153339
CREATED:20260130T145927Z
LAST-MODIFIED:20260130T145927Z
UID:10019477-1771525800-1771533000@funinfarmington.com
SUMMARY:Books & Bites (Grades 6-12) at Library (Farmington)
DESCRIPTION:Registration is required. \nDo you love books? Do you love snacks? Do you love books AND snacks? Join Miss Rebecca and bring your favorite snack along while we talk about a different book every month! \nBooks will be distributed at the Books and Bites session previous to this one.  Weren’t at the last meeting? Check to see if the book is available in our catalog! Check out the book\, read it on your own\, and then join other readers during the book discussion to share what you thought. \n\n\n\n\nTitle: A Magic Steeped in Poison by Judy Lin
URL:https://funinfarmington.com/event/books-bites-grades-6-12-at-library-farmington/
LOCATION:Farmington Community Library – Farmington Location\, 23500 Liberty St.\, Farmington\, Michigan\, 48335
CATEGORIES:Community,Food,Reading,Teens
END:VEVENT
BEGIN:VEVENT
DTSTART;TZID=UTC:20260220T160000
DTEND;TZID=UTC:20260220T170000
DTSTAMP:20260419T153339
CREATED:20260110T190623Z
LAST-MODIFIED:20260110T190623Z
UID:10018984-1771603200-1771606800@funinfarmington.com
SUMMARY:FCL Coding Lab (Grades 3-5) at Library (Farmington)
DESCRIPTION:Registration is not required.  \nLearn how to code with FCL’s Fiero Code program! \nEvery 3rd Friday from September to December\, get together with friends in an open lab session and jump into the fun world of coding. Learn at your own pace or work together on different projects\, like designing a website\, programming a dancing robot\, or designing video games! \nIf you don’t have a Fiero Code account yet\, we can help you set one up. You’ll need an email address. If you have a Farmington Community Library card\, please have your card number and PIN with you. If you don’t have an FCL card\, no problem—staff can still help you get started. \nParticipants can either bring their own laptops or use one of the library’s laptops. Laptops are limited\, so we encourage participants to share with a friend.
URL:https://funinfarmington.com/event/fcl-coding-lab-grades-3-5-at-library-farmington/2026-02-20/
LOCATION:Farmington Community Library – Farmington Location\, 23500 Liberty St.\, Farmington\, Michigan\, 48335
CATEGORIES:Community,Educational,Kids & Families
END:VEVENT
BEGIN:VEVENT
DTSTART;TZID=UTC:20260220T180000
DTEND;TZID=UTC:20260220T200000
DTSTAMP:20260419T153339
CREATED:20260215T192737Z
LAST-MODIFIED:20260215T192737Z
UID:10019543-1771610400-1771617600@funinfarmington.com
SUMMARY:Artist Talk with Alessandra Lipman at FH City Hall
DESCRIPTION:Artist Alessandra Lipman wins the People’s Choice Awards at the 2026-2027 Public Art Program Opening Reception at the Farmington Hills City Hall. \nThe public is invited to meet Lipman during an Artist Talk and Opening Reception on Friday\, February 20 at City Hall\, 6-8pm. \nAlessandra Lipman was awarded a solo show by winning the People’s Choice Award at the opening reception for the 2026-2027 Public Art Program. In the newest exhibit of the year\, Lipman will display a collection of 34 mixed media artworks through March 20 at the Rotating Exhibits Gallery in Farmington Hills City Hall at 31555 W Eleven Mile.
URL:https://funinfarmington.com/event/artist-talk-with-alessandra-lipman-at-fh-city-hall/
LOCATION:Farmington Hills City Hall\, 31555 W 11 Mile Rd\, Farmington Hills\, Michigan\, 48336
CATEGORIES:Art,Community
END:VEVENT
END:VCALENDAR