BEGIN:VCALENDAR
VERSION:2.0
PRODID:-//Fun in Farmington - ECPv6.15.20//NONSGML v1.0//EN
CALSCALE:GREGORIAN
METHOD:PUBLISH
X-WR-CALNAME:Fun in Farmington
X-ORIGINAL-URL:https://funinfarmington.com
X-WR-CALDESC:Events for Fun in Farmington
REFRESH-INTERVAL;VALUE=DURATION:PT1H
X-Robots-Tag:noindex
X-PUBLISHED-TTL:PT1H
BEGIN:VTIMEZONE
TZID:UTC
BEGIN:STANDARD
TZOFFSETFROM:+0000
TZOFFSETTO:+0000
TZNAME:UTC
DTSTART:20250101T000000
END:STANDARD
END:VTIMEZONE
BEGIN:VEVENT
DTSTART;TZID=UTC:20260111T080000
DTEND;TZID=UTC:20260111T170000
DTSTAMP:20260425T184804
CREATED:20260111T225242Z
LAST-MODIFIED:20260111T225242Z
UID:10019125-1768118400-1768150800@funinfarmington.com
SUMMARY:Family Picnic Movie Night at Library (Farmington)
DESCRIPTION:No registration is required. \nBring a blanket or chairs and some snacks and join us for a viewing of How to Train Your Dragon the 2025 live-action remake (PG\, 2 hrs. 5 mins.).
URL:https://funinfarmington.com/event/family-picnic-movie-night-at-library-farmington-2/
LOCATION:Farmington Community Library – Farmington Hills Location\, 32737 W. 12 Mile Rd.\, Farmington Hills\, Michigan\, 48334
CATEGORIES:Community,Kids & Families,Movies,Teens
END:VEVENT
BEGIN:VEVENT
DTSTART;TZID=UTC:20260111T110000
DTEND;TZID=UTC:20260111T130000
DTSTAMP:20260425T184804
CREATED:20260108T141725Z
LAST-MODIFIED:20260108T141725Z
UID:10018944-1768129200-1768136400@funinfarmington.com
SUMMARY:The Assembly: Power of Silence at The Hawk
DESCRIPTION:NEW LOCATION: THE HAWK FARMINGTON HILLS\nSunday Assembly Detroit is a secular congregation that meets to hear great talks and generally celebrate the wonder of life. It’s a service for anyone who wants to live better\, help often\, and wonder more.\nThis free event is in beautiful Farmington Hills. We’ll listen to a talk then enjoying a meal during the event.\n**Speaker**\nWe don’t have clergy\, instead we have local community leaders and thinkers. For this month we are having Victoria talk about The Power of Silence\nHere is a taste of what he’ll talk about this month:\nIn today’s noisy and bustling world\, what role does silence play? This talk will explore how silence acts in everything from the secular to the sacred. With personal anecdotes and audience engagement\, this talk aims to leave you thinking about silence itself in those rare moments you encounter it.\n**Our Program**\n1. Welcome and Gathering Statement\n2. Quick agenda outline\n3. Speaker and speech introduction\n4. Speaker gives talk\n5. Dismissal for food\n6. Everyone comes back to table(s)\n7. Brief toast/address\, including some short recognition of “life happens” (ie. Birthdays\, other news)\n8. We dig in! Feel free to chat about whatever.\n9. Cleanup and taking leftovers home\n**Childcare**\nFamilies with children are encouraged to attend! There is free childcare during the service\n**Radically Inclusive**\nWe are a radically inclusive community and we welcome our LGBTQIA+ brothers\, sisters\, and siblings. We will have material supplied from Affirmations on our welcome table along with free prophylactics and feminine hygiene products.\nWe also welcome everyone along the secular/religious spectrum. Whatever your degree of religion\, spirituality\, or utter lack thereof you are welcome here. As an organization\, we don’t do religious\, spiritual\, or supernatural things\, but we don’t dwell on that — rather we focus on Humanism and its associated values.\n**We can’t wait to see you!**\nIf you’re looking for an inviting and positive community\, you’ve come to the right place. We look forward to getting to know you if you’re new and welcoming you back home if you’ve been before.\n**About the speaker**\nOur speaker is Victoria Edwards\, MLIS\, a communications coordinator for a public library. She has been involved with Sunday Assembly since 2019 and is married to SAD board member Austin Edwards. She previously delivered a talk to SAD on fairy tales.
URL:https://funinfarmington.com/event/the-assembly-power-of-silence-at-the-hawk/
LOCATION:Michigan
CATEGORIES:Community
END:VEVENT
END:VCALENDAR