BEGIN:VCALENDAR
VERSION:2.0
PRODID:-//Fun in Farmington - ECPv6.15.20//NONSGML v1.0//EN
CALSCALE:GREGORIAN
METHOD:PUBLISH
X-WR-CALNAME:Fun in Farmington
X-ORIGINAL-URL:https://funinfarmington.com
X-WR-CALDESC:Events for Fun in Farmington
REFRESH-INTERVAL;VALUE=DURATION:PT1H
X-Robots-Tag:noindex
X-PUBLISHED-TTL:PT1H
BEGIN:VTIMEZONE
TZID:UTC
BEGIN:STANDARD
TZOFFSETFROM:+0000
TZOFFSETTO:+0000
TZNAME:UTC
DTSTART:20250101T000000
END:STANDARD
END:VTIMEZONE
BEGIN:VEVENT
DTSTART;TZID=UTC:20260127T100000
DTEND;TZID=UTC:20260127T110000
DTSTAMP:20260423T214551
CREATED:20260111T234002Z
LAST-MODIFIED:20260111T234002Z
UID:10019153-1769508000-1769511600@funinfarmington.com
SUMMARY:The Next Chapter (60+) at Costick Center
DESCRIPTION:No registration is required. \nJoin the Farmington Community Library’s Senior Outreach Librarian every fourth Tuesday of the month at the Costick Center to learn about the library\, check out an assortment of large print books\, and engage in a fun activity. \nThis month’s activity is “Positive Affirmation Paintings”. Start off the year 2026 on the right foot! Come create a positive affirmations painting that’ll provide you with words of inspiration\, kindness\, and gratitude you can draw from for the rest of the year. All art supplies will be provided. \nThis event is intended for adults ages 60+.
URL:https://funinfarmington.com/event/the-next-chapter-60-at-costick-center-2/
LOCATION:Costick Center\, 28600 W Eleven Mile Rd\, Farmington Hills\, Michigan\, 48336
CATEGORIES:Art,Community,Crafting,Seniors
END:VEVENT
BEGIN:VEVENT
DTSTART;TZID=UTC:20260127T183000
DTEND;TZID=UTC:20260127T193000
DTSTAMP:20260423T214551
CREATED:20260110T191855Z
LAST-MODIFIED:20260110T191855Z
UID:10019078-1769538600-1769542200@funinfarmington.com
SUMMARY:Drop-in Chess
DESCRIPTION:No registration is required. \nDrop in and play chess with friends or meet new players. Chess sets will be provided; instruction will not be provided.
URL:https://funinfarmington.com/event/drop-in-chess/2026-01-27/
LOCATION:Farmington Community Library – Farmington Hills Location\, 32737 W. 12 Mile Rd.\, Farmington Hills\, Michigan\, 48334
CATEGORIES:Community,Games,Kids & Families
END:VEVENT
BEGIN:VEVENT
DTSTART;TZID=UTC:20260127T190000
DTEND;TZID=UTC:20260127T203000
DTSTAMP:20260423T214551
CREATED:20260110T190620Z
LAST-MODIFIED:20260110T190620Z
UID:10018982-1769540400-1769545800@funinfarmington.com
SUMMARY:Community Sings with Matt Watroba at Library (Farmington)
DESCRIPTION:Library events are always free to the public and you do not need a library card to attend!  \nThis program will be presented in-person and virtually on Zoom. Join us in-person in the Auditorium at the FCL Farmington location at 23500 Liberty St.\, Farmington\, MI\, 48335. \nRegistration is required to receive the Zoom meeting link. No registration is required to attend in person. \nMatt Watroba will lead you and your family in an evening of song. Sing along\, suggest a song to share\, or just listen. Join an inspiring group of all abilities\, ages\, cultures and musical interests for a powerful experience that nurtures body and soul and strengthens our community. \n  \n\n\n\nDisclaimer(s)\n\n\n\n\nTo request ADA accommodations\, such as wheelchair access or sign language interpretation\, please complete the Accommodation Request Form at least 10 days before the event.
URL:https://funinfarmington.com/event/community-sings-with-matt-watroba-at-library-farmington/
LOCATION:Farmington Community Library – Farmington Location\, 23500 Liberty St.\, Farmington\, Michigan\, 48335
CATEGORIES:Community,Concert
END:VEVENT
END:VCALENDAR