BEGIN:VCALENDAR
VERSION:2.0
PRODID:-//Fun in Farmington - ECPv6.15.20//NONSGML v1.0//EN
CALSCALE:GREGORIAN
METHOD:PUBLISH
X-WR-CALNAME:Fun in Farmington
X-ORIGINAL-URL:https://funinfarmington.com
X-WR-CALDESC:Events for Fun in Farmington
REFRESH-INTERVAL;VALUE=DURATION:PT1H
X-Robots-Tag:noindex
X-PUBLISHED-TTL:PT1H
BEGIN:VTIMEZONE
TZID:UTC
BEGIN:STANDARD
TZOFFSETFROM:+0000
TZOFFSETTO:+0000
TZNAME:UTC
DTSTART:20250101T000000
END:STANDARD
END:VTIMEZONE
BEGIN:VEVENT
DTSTART;TZID=UTC:20260209T110000
DTEND;TZID=UTC:20260209T140000
DTSTAMP:20260420T002321
CREATED:20260209T131342Z
LAST-MODIFIED:20260209T131342Z
UID:10019514-1770634800-1770645600@funinfarmington.com
SUMMARY:Open Mic Monday at The Hawk
DESCRIPTION:Come shake off the Monday Blues at our Open Mic Monday the 2nd Monday of the month. Sit back and relax to American Standards\, Folk Blues\, and Jazz favorites. John Telford will be your host. Bring your instrument if you want to join in. No charge to enjoy the music. Beverages will be available for purchase.
URL:https://funinfarmington.com/event/open-mic-monday-at-the-hawk/
LOCATION:Costick Center\, 28600 W Eleven Mile Rd\, Farmington Hills\, Michigan\, 48336
CATEGORIES:Community,Music,Seniors
END:VEVENT
BEGIN:VEVENT
DTSTART;TZID=UTC:20260209T160000
DTEND;TZID=UTC:20260209T170000
DTSTAMP:20260420T002321
CREATED:20260110T185924Z
LAST-MODIFIED:20260110T190814Z
UID:10018999-1770652800-1770656400@funinfarmington.com
SUMMARY:1-2-3 Read with Me (1st\, 2nd\, 3rd Grd) at Library (FH)
DESCRIPTION:Are you in 1st\, 2nd\, or 3rd grade? This book club is for you! Join us as we explore literary genres and read books together. Practice reading aloud (or just listen). There is no required reading—just come and read with me! \nJanuary Theme— Let’s go on an Adventure \nRegistration is required.
URL:https://funinfarmington.com/event/1-2-3-read-with-me-1st-2nd-3rd-grd-at-library-fh/2026-02-09/
LOCATION:Farmington Community Library – Farmington Hills Location\, 32737 W. 12 Mile Rd.\, Farmington Hills\, Michigan\, 48334
CATEGORIES:Community,Educational,Kids & Families
END:VEVENT
END:VCALENDAR