BEGIN:VCALENDAR
VERSION:2.0
PRODID:-//Fun in Farmington - ECPv6.15.20//NONSGML v1.0//EN
CALSCALE:GREGORIAN
METHOD:PUBLISH
X-ORIGINAL-URL:https://funinfarmington.com
X-WR-CALDESC:Events for Fun in Farmington
REFRESH-INTERVAL;VALUE=DURATION:PT1H
X-Robots-Tag:noindex
X-PUBLISHED-TTL:PT1H
BEGIN:VTIMEZONE
TZID:UTC
BEGIN:STANDARD
TZOFFSETFROM:+0000
TZOFFSETTO:+0000
TZNAME:UTC
DTSTART:20250101T000000
END:STANDARD
END:VTIMEZONE
BEGIN:VEVENT
DTSTART;TZID=UTC:20260214T103000
DTEND;TZID=UTC:20260214T120000
DTSTAMP:20260419T171455
CREATED:20260209T124613Z
LAST-MODIFIED:20260209T124613Z
UID:10019512-1771065000-1771070400@funinfarmington.com
SUMMARY:FAMC Meet and Greet at Library (Farmington)
DESCRIPTION:Join us at the downtown Farmington Library for family storytime (ages 1-6) and to find out more about FAMC. We’ll be in the play area afterwards at 11:30 to answer any questions. RSVP or drop us a message to let us know to look out for you!
URL:https://funinfarmington.com/event/famc-meet-and-greet-at-library-farmington/
LOCATION:Farmington Community Library – Farmington Location\, 23500 Liberty St.\, Farmington\, Michigan\, 48335
CATEGORIES:Community,Kids & Families,Moms
END:VEVENT
BEGIN:VEVENT
DTSTART;TZID=UTC:20260214T140000
DTEND;TZID=UTC:20260214T160000
DTSTAMP:20260419T171455
CREATED:20260111T224430Z
LAST-MODIFIED:20260111T224430Z
UID:10019122-1771077600-1771084800@funinfarmington.com
SUMMARY:Valentine Ice Skate at Riley Park
DESCRIPTION:This event will take place at Riley Ice Skate Rink at 33113 Grand River Ave\, Farmington\, MI 48335. \nNo registration is required. \nLet’s share a little Farmington Love today! We’ll skate together and make valentines to share. \nBring your ice skates. No skates? No problem — skates are available to borrow. Sizes may vary.
URL:https://funinfarmington.com/event/valentine-ice-skate-at-riley-park/
LOCATION:Riley Park\, 33113 Grand River Ave\, Farmington\, Michigan\, 48335
CATEGORIES:Community,Hobbies,Kids & Families,Special Event
END:VEVENT
BEGIN:VEVENT
DTSTART;TZID=UTC:20260214T140000
DTEND;TZID=UTC:20260214T160000
DTSTAMP:20260419T171455
CREATED:20260130T150328Z
LAST-MODIFIED:20260130T150328Z
UID:10019478-1771077600-1771084800@funinfarmington.com
SUMMARY:Warm Wraps\, Warm Hearts! (Grades 6-12) at Library (FH)
DESCRIPTION:Registration is required. \nHave fun\, and maybe learn some new skills as we make warm lap blankets and shawls for seniors in local nursing homes.  All supplies provided; all we need is you! If you would like to earn volunteer hours for participating\, you must be 14 and have a work permit on file with the library.
URL:https://funinfarmington.com/event/warm-wraps-warm-hearts-grades-6-12-at-library-fh/
LOCATION:Farmington Community Library – Farmington Hills Location\, 32737 W. 12 Mile Rd.\, Farmington Hills\, Michigan\, 48334
CATEGORIES:Community,Crafting,Teens
END:VEVENT
BEGIN:VEVENT
DTSTART;TZID=UTC:20260214T140000
DTEND;TZID=UTC:20260214T160000
DTSTAMP:20260419T171455
CREATED:20260209T122044Z
LAST-MODIFIED:20260209T122136Z
UID:10019505-1771077600-1771084800@funinfarmington.com
SUMMARY:Valentine Ice Skate at Riley Park
DESCRIPTION:Let’s share a little Farmington Love today! We’ll skate together and make valentines to share. \nBring your ice skates. No skates? No problem — skates are available to borrow. Sizes may vary.
URL:https://funinfarmington.com/event/valentine-ice-skate-at-riley-park-2/
LOCATION:Riley Skate Park\, 35520 Eight Mile Rd\, Farmington\, MI\, 48335\, United States
CATEGORIES:Community,Hobbies,Holiday,Kids & Families,Older Adults,Seniors
END:VEVENT
END:VCALENDAR