BEGIN:VCALENDAR
VERSION:2.0
PRODID:-//Fun in Farmington - ECPv6.15.20//NONSGML v1.0//EN
CALSCALE:GREGORIAN
METHOD:PUBLISH
X-ORIGINAL-URL:https://funinfarmington.com
X-WR-CALDESC:Events for Fun in Farmington
REFRESH-INTERVAL;VALUE=DURATION:PT1H
X-Robots-Tag:noindex
X-PUBLISHED-TTL:PT1H
BEGIN:VTIMEZONE
TZID:UTC
BEGIN:STANDARD
TZOFFSETFROM:+0000
TZOFFSETTO:+0000
TZNAME:UTC
DTSTART:20250101T000000
END:STANDARD
END:VTIMEZONE
BEGIN:VEVENT
DTSTART;TZID=UTC:20260228T090000
DTEND;TZID=UTC:20260228T100000
DTSTAMP:20260423T164218
CREATED:20260223T022519Z
LAST-MODIFIED:20260223T022519Z
UID:10019874-1772269200-1772272800@funinfarmington.com
SUMMARY:Farmington Public Schools Coffee and Conversation at Blue Hat
DESCRIPTION:The Board of Education will be hosting Coffee & Conversation at Blue Hat Coffee. We encourage families and community members to stop by and chat!
URL:https://funinfarmington.com/event/farmington-public-schools-coffee-and-conversation-at-blue-hat/
LOCATION:Blue Hat Coffee\, 23715 Farmington Rd.\, Farmington\, Michigan\, 48336
CATEGORIES:Community,Kids & Families,Parents,Schools
END:VEVENT
BEGIN:VEVENT
DTSTART;TZID=UTC:20260228T093000
DTEND;TZID=UTC:20260228T120000
DTSTAMP:20260423T164218
CREATED:20260120T141900Z
LAST-MODIFIED:20260120T141900Z
UID:10019373-1772271000-1772280000@funinfarmington.com
SUMMARY:Detroit Metropolitan Youth Symphony Open House at The Hawk
DESCRIPTION:9:30-12 – Open rehearsal @ the Hawk in Farmington Hills\nExperience DMYS for a day – bring your instrument and music stand and rehearse with our renowned orchestras.  All Open House participants should print a copy of the DMYS music and BRING A MUSIC STAND! You will be emailed a link to the music after registering – please print in advance!\n\nReady to audition?  Play for our conductors same day (at break or directly following rehearsal) and normal audition fee is waived (pending section availability).  Review audition and orchestra requirements at: https://www.detroitmys.org/orchestras \n\nPlease note that accepted students will be eligible to enroll early for the 2026-27 season and start in September 2026.  \n\n\nThere will be a short\, informal Q&A for interested parents at 9:45 in the lobby.  Parents should plan to pick up  students AFTER rehearsal (11:30 Sinfonia\, 12pm for String\, Concert\, Symphony).\n\n\nQuestions?  Contact:  Auditions@DetroitMYS.org
URL:https://funinfarmington.com/event/detroit-metropolitan-youth-symphony-open-house-at-the-hawk/
LOCATION:The Hawk Community Center\, 29995 W 12 Mile Rd\, Farmington Hills\, Michigan\, 48334
CATEGORIES:Art,Community,Kids & Families,Music
ATTACH;FMTTYPE=image/webp:https://funinfarmington.com/wp-content/uploads/2026/01/symphony.webp
END:VEVENT
BEGIN:VEVENT
DTSTART;TZID=UTC:20260228T110000
DTEND;TZID=UTC:20260228T120000
DTSTAMP:20260423T164218
CREATED:20260110T192323Z
LAST-MODIFIED:20260110T192323Z
UID:10019096-1772276400-1772280000@funinfarmington.com
SUMMARY:Saturday STREAM (Grades K-5) at Library (Farmington)
DESCRIPTION:No registration is required. \nKids in grades K-5 can come to the Library and experiment with Science\, Technology\, Reading\, Engineering\, Art\, and Math concepts. We will have a selection of toys available for open-ended play and discovery.
URL:https://funinfarmington.com/event/saturday-stream-grades-k-5-at-library-farmington-2/2026-02-28/
LOCATION:Farmington Community Library – Farmington Location\, 23500 Liberty St.\, Farmington\, Michigan\, 48335
CATEGORIES:Art,Community,Educational,Kids & Families
END:VEVENT
BEGIN:VEVENT
DTSTART;TZID=UTC:20260228T170000
DTEND;TZID=UTC:20260228T200000
DTSTAMP:20260423T164218
CREATED:20260222T213528Z
LAST-MODIFIED:20260222T213528Z
UID:10019671-1772298000-1772308800@funinfarmington.com
SUMMARY:Andrea's Kitchen at Farmington Brewing Co.
DESCRIPTION:Join us at the brewery February 28th for a special dinner popup with Andrea’s Kitchen in the taproom from 5-8pm. \nAndrea will be serving up fresh\, handmade pastas and irresistible Italian favorites to pair perfectly with your favorite brews.
URL:https://funinfarmington.com/event/andreas-kitchen-at-farmington-brewing-co/
LOCATION:Farmington Brewing Company\, 33336 Grand River Ave\, Farmington\, Michigan\, 48336
CATEGORIES:Adults,Community,Food
END:VEVENT
END:VCALENDAR