BEGIN:VCALENDAR
VERSION:2.0
PRODID:-//Fun in Farmington - ECPv6.15.20//NONSGML v1.0//EN
CALSCALE:GREGORIAN
METHOD:PUBLISH
X-WR-CALNAME:Fun in Farmington
X-ORIGINAL-URL:https://funinfarmington.com
X-WR-CALDESC:Events for Fun in Farmington
REFRESH-INTERVAL;VALUE=DURATION:PT1H
X-Robots-Tag:noindex
X-PUBLISHED-TTL:PT1H
BEGIN:VTIMEZONE
TZID:UTC
BEGIN:STANDARD
TZOFFSETFROM:+0000
TZOFFSETTO:+0000
TZNAME:UTC
DTSTART:20250101T000000
END:STANDARD
END:VTIMEZONE
BEGIN:VEVENT
DTSTART;TZID=UTC:20260313T180000
DTEND;TZID=UTC:20260313T210000
DTSTAMP:20260421T111858
CREATED:20260125T204911Z
LAST-MODIFIED:20260125T204911Z
UID:10019394-1773424800-1773435600@funinfarmington.com
SUMMARY:Social Art Night at The Hawk (21+) (registration required)
DESCRIPTION:REGISTRATION REQUIRED \nCOCKTAILS & COLLAGE (21+)\nWorking with mixed media materials\, you’ll be guided in creating small\, handcrafted collages. Bring new life to patterned papers of different textures\, magazine pages\, newspapers\, and so much more.
URL:https://funinfarmington.com/event/social-art-night-at-the-hawk-21-registration-required-2/
LOCATION:The Hawk Community Center\, 29995 W 12 Mile Rd\, Farmington Hills\, Michigan\, 48334
CATEGORIES:Art,Community
ATTACH;FMTTYPE=image/jpeg:https://funinfarmington.com/wp-content/uploads/2026/01/social-art-night.jpg
END:VEVENT
END:VCALENDAR