BEGIN:VCALENDAR
VERSION:2.0
PRODID:-//Fun in Farmington - ECPv6.15.20//NONSGML v1.0//EN
CALSCALE:GREGORIAN
METHOD:PUBLISH
X-ORIGINAL-URL:https://funinfarmington.com
X-WR-CALDESC:Events for Fun in Farmington
REFRESH-INTERVAL;VALUE=DURATION:PT1H
X-Robots-Tag:noindex
X-PUBLISHED-TTL:PT1H
BEGIN:VTIMEZONE
TZID:UTC
BEGIN:STANDARD
TZOFFSETFROM:+0000
TZOFFSETTO:+0000
TZNAME:UTC
DTSTART:20250101T000000
END:STANDARD
END:VTIMEZONE
BEGIN:VEVENT
DTSTART;TZID=UTC:20260314T110000
DTEND;TZID=UTC:20260314T150000
DTSTAMP:20260419T125747
CREATED:20260312T133157Z
LAST-MODIFIED:20260312T133157Z
UID:10019990-1773486000-1773500400@funinfarmington.com
SUMMARY:Jax Kar Wash Grand Opening Party
DESCRIPTION:3 Chances to win a YEAR unlimited club membership! Live DJ\, free washes and free food!
URL:https://funinfarmington.com/event/jax-kar-wash-grand-opening-party/
LOCATION:Jax Car Wash Farmington\, 31500 Grand River Ave\, Farmington\, MI\, 48336\, United States
CATEGORIES:Community,Food,Special Event
END:VEVENT
BEGIN:VEVENT
DTSTART;TZID=UTC:20260314T180000
DTEND;TZID=UTC:20260314T200000
DTSTAMP:20260419T125747
CREATED:20260225T032720Z
LAST-MODIFIED:20260225T032720Z
UID:10019878-1773511200-1773518400@funinfarmington.com
SUMMARY:Starshine Circle: The Sweet Release
DESCRIPTION:Starshine Circle: The Sweet Release is a two-hour guided breathwork and reflection gathering designed to help you release self-limiting beliefs and strengthen grounded\, positive self-talk. This beginner-friendly community experience includes journaling\, guided breathwork\, integration\, and light refreshments. No prior experience is necessary.
URL:https://funinfarmington.com/event/starshine-circle-the-sweet-release/
LOCATION:TRV|FIT FARMINGTON HEALTH & FITNESS\, 33019 GRAND RIVER AVE\, Farmington\, MI\, 48336\, United States
CATEGORIES:Adults,Community,Spiritual,Wellness
ATTACH;FMTTYPE=image/png:https://funinfarmington.com/wp-content/uploads/2026/02/IMG_5087.png
ORGANIZER;CN="Starshine Lightwork":MAILTO:Starshinelightwork@gmail.com
END:VEVENT
END:VCALENDAR