BEGIN:VCALENDAR
VERSION:2.0
PRODID:-//Fun in Farmington - ECPv6.15.20//NONSGML v1.0//EN
CALSCALE:GREGORIAN
METHOD:PUBLISH
X-WR-CALNAME:Fun in Farmington
X-ORIGINAL-URL:https://funinfarmington.com
X-WR-CALDESC:Events for Fun in Farmington
REFRESH-INTERVAL;VALUE=DURATION:PT1H
X-Robots-Tag:noindex
X-PUBLISHED-TTL:PT1H
BEGIN:VTIMEZONE
TZID:UTC
BEGIN:STANDARD
TZOFFSETFROM:+0000
TZOFFSETTO:+0000
TZNAME:UTC
DTSTART:20250101T000000
END:STANDARD
END:VTIMEZONE
BEGIN:VEVENT
DTSTART;TZID=UTC:20260327T180000
DTEND;TZID=UTC:20260327T210000
DTSTAMP:20260419T225253
CREATED:20260228T192135Z
LAST-MODIFIED:20260228T192135Z
UID:10019889-1774634400-1774645200@funinfarmington.com
SUMMARY:Kids Night at The Hawk
DESCRIPTION:TGIF! Why hire a sitter? Parents can plan a special night out while kids get to enjoy a night in at the Hawk Community Center. Hawk Recreation Staff will plan and oversee activities for a fun-filled night\, including pizza party\, swimming\, giant inflatables and other fun activities. You do not need to be a passholder to participate. Emergency form must be filled out at check-in.\n*Participants will have supervised access to the pool and should BRING A SWIMSUIT AND TOWEL if they wish to participate in pool activities. Participants will also have supervised access to bouncers and should WEAR SOCKS if they wish to participate in bouncer activities.
URL:https://funinfarmington.com/event/kids-night-at-the-hawk-2/2026-03-27/
LOCATION:The Hawk Community Center\, 29995 W 12 Mile Rd\, Farmington Hills\, Michigan\, 48334
CATEGORIES:Community,Kids & Families
END:VEVENT
BEGIN:VEVENT
DTSTART;TZID=UTC:20260327T190000
DTEND;TZID=UTC:20260327T190000
DTSTAMP:20260419T225253
CREATED:20260228T194441Z
LAST-MODIFIED:20260228T194441Z
UID:10019907-1774638000-1774638000@funinfarmington.com
SUMMARY:Find Nemo Kids! at The Hawk
DESCRIPTION:Explore the big blue world with this lively 30-minute musical based on the beloved Pixar film! Featuring memorable songs such as “Just Keep Swimming\,” “Fish Are Friends Not Food\,” and “Go With the Flow\,” Finding Nemo KIDS brings a vibrant underwater world to life on stage in a story full of family\, friendship\, and adventure. Presented by the Farmington Hills Youth Theatre Rising Stars program in conjunction with In The Mitten Productions. \nFinding Nemo Kids! is presented in special arrangement with Music Theatrre International (MTI). All authorized performance materials are also supplied by MTI. www.MTIShows.com
URL:https://funinfarmington.com/event/find-nemo-kids-at-the-hawk/2026-03-27/
LOCATION:The Hawk Community Center\, 29995 W 12 Mile Rd\, Farmington Hills\, Michigan\, 48334
CATEGORIES:Art,Community,Theater
END:VEVENT
BEGIN:VEVENT
DTSTART;TZID=UTC:20260327T190000
DTEND;TZID=UTC:20260327T210000
DTSTAMP:20260419T225253
CREATED:20260222T234410Z
LAST-MODIFIED:20260222T234410Z
UID:10019746-1774638000-1774645200@funinfarmington.com
SUMMARY:Crafters In Community - BYOC at UU Farmington
DESCRIPTION:Bring your unfinished crafts and hang with us! \nAll are welcome to join us for casual conversation and community with others. Bring your in progress projects to work on – we provide the snacks and the space. Last month\, our crafters were working on watercolors\, knitting\, needle felting\, embroidery\, cross-stitch\, and crochet.
URL:https://funinfarmington.com/event/crafters-in-community-byoc-at-uu-farmington/2026-03-27/
LOCATION:Universalist Unitarian Church of Farmington\, 25301 Halsted Rd\, Farmington Hills\, Michigan\, 48335
CATEGORIES:Community,Crafting
END:VEVENT
END:VCALENDAR