BEGIN:VCALENDAR
VERSION:2.0
PRODID:-//Fun in Farmington - ECPv6.15.20//NONSGML v1.0//EN
CALSCALE:GREGORIAN
METHOD:PUBLISH
X-ORIGINAL-URL:https://funinfarmington.com
X-WR-CALDESC:Events for Fun in Farmington
REFRESH-INTERVAL;VALUE=DURATION:PT1H
X-Robots-Tag:noindex
X-PUBLISHED-TTL:PT1H
BEGIN:VTIMEZONE
TZID:UTC
BEGIN:STANDARD
TZOFFSETFROM:+0000
TZOFFSETTO:+0000
TZNAME:UTC
DTSTART:20250101T000000
END:STANDARD
END:VTIMEZONE
BEGIN:VEVENT
DTSTART;TZID=UTC:20260429T163000
DTEND;TZID=UTC:20260429T183000
DTSTAMP:20260419T155226
CREATED:20260415T141905Z
LAST-MODIFIED:20260415T141905Z
UID:10020505-1777480200-1777487400@funinfarmington.com
SUMMARY:After Hours hosted by Z Painting at the Farmington Civic Theater
DESCRIPTION:Join us to wind down and network at the end of your busy day! Enjoy some adult beverages while you hang out with great people and learn more about our host. \nRegister in advance at gfachamber.com/events
URL:https://funinfarmington.com/event/after-hours-hosted-by-z-painting-at-the-farmington-civic-theater/
LOCATION:Farmington Civic Theater\, 33332 Grand River Ave\, Farmington\, Michigan\, 48336
CATEGORIES:Community,Networking
END:VEVENT
BEGIN:VEVENT
DTSTART;TZID=UTC:20260429T183000
DTEND;TZID=UTC:20260429T191500
DTSTAMP:20260419T155226
CREATED:20260110T191407Z
LAST-MODIFIED:20260302T145452Z
UID:10019034-1777487400-1777490100@funinfarmington.com
SUMMARY:Paws for Reading at Library (FH)
DESCRIPTION:Registration is required. \nPractice your reading with a certified therapy dog!  The dog loves listening to readers and will cheer you on!  Please sign up for one 15-minute time slot per week.
URL:https://funinfarmington.com/event/paws-for-reading/2026-04-29/
LOCATION:Farmington Community Library – Farmington Hills Location\, 32737 W. 12 Mile Rd.\, Farmington Hills\, Michigan\, 48334
CATEGORIES:Community,Educational,Kids & Families
END:VEVENT
END:VCALENDAR