BEGIN:VCALENDAR
VERSION:2.0
PRODID:-//Fun in Farmington - ECPv6.15.20//NONSGML v1.0//EN
CALSCALE:GREGORIAN
METHOD:PUBLISH
X-ORIGINAL-URL:https://funinfarmington.com
X-WR-CALDESC:Events for Fun in Farmington
REFRESH-INTERVAL;VALUE=DURATION:PT1H
X-Robots-Tag:noindex
X-PUBLISHED-TTL:PT1H
BEGIN:VTIMEZONE
TZID:UTC
BEGIN:STANDARD
TZOFFSETFROM:+0000
TZOFFSETTO:+0000
TZNAME:UTC
DTSTART:20250101T000000
END:STANDARD
END:VTIMEZONE
BEGIN:VEVENT
DTSTART;TZID=UTC:20260430T183000
DTEND;TZID=UTC:20260430T183000
DTSTAMP:20260421T144826
CREATED:20260419T230635Z
LAST-MODIFIED:20260419T230635Z
UID:10020915-1777573800-1777573800@funinfarmington.com
SUMMARY:LGBTQ+ Movie Night at UU Farmington
DESCRIPTION:Come join us for a screening of “Funny That Way” starring Julia Scotti. All are welcome – no RSVP required. Zero tolerance policy for hate or intolerance.
URL:https://funinfarmington.com/event/lgbtq-movie-night-at-uu-farmington/
LOCATION:Universalist Unitarian Church of Farmington\, 25301 Halsted Rd\, Farmington Hills\, Michigan\, 48335
CATEGORIES:Adults,Community,Kids & Families,LGBTQ+,Movies,Older Adults,Parents,Seniors
END:VEVENT
BEGIN:VEVENT
DTSTART;TZID=UTC:20260430T183000
DTEND;TZID=UTC:20260430T190000
DTSTAMP:20260421T144826
CREATED:20260420T214526Z
LAST-MODIFIED:20260420T214526Z
UID:10020931-1777573800-1777575600@funinfarmington.com
SUMMARY:LGBTQ+ Movie Night
DESCRIPTION:Come one\, come all to our first queer community event of the year!\nWe will be screening the documentary starring Julia Scotti\, “Funny That Way\,” at the Universalist Unitarian Church of Farmington on April 30th. Doors will open at 6:30\, the movie will begin at 7:00. Expect popcorn & drinks!\nFAPA aims to create a radically inclusive space. All are welcome. Zero tolerance policy for hate and intolerance of any form. DM or comment with any questions. We hope to see you there!
URL:https://funinfarmington.com/event/lgbtq-movie-night/
LOCATION:Universalist Unitarian Church of Farmington\, 25301 Halsted Rd\, Farmington Hills\, Michigan\, 48335
CATEGORIES:Comedy,Community,LGBTQ+,Movies
ATTACH;FMTTYPE=image/png:https://funinfarmington.com/wp-content/uploads/2026/04/FAPA-Movie-Night-Flyer-Poster-Square.png
ORGANIZER;CN="The Farmington Area Progressive Alliance":MAILTO:argot.kramer@uufarmington.org
END:VEVENT
END:VCALENDAR