BEGIN:VCALENDAR
VERSION:2.0
PRODID:-//Fun in Farmington - ECPv6.15.20//NONSGML v1.0//EN
CALSCALE:GREGORIAN
METHOD:PUBLISH
X-ORIGINAL-URL:https://funinfarmington.com
X-WR-CALDESC:Events for Fun in Farmington
REFRESH-INTERVAL;VALUE=DURATION:PT1H
X-Robots-Tag:noindex
X-PUBLISHED-TTL:PT1H
BEGIN:VTIMEZONE
TZID:UTC
BEGIN:STANDARD
TZOFFSETFROM:+0000
TZOFFSETTO:+0000
TZNAME:UTC
DTSTART:20250101T000000
END:STANDARD
END:VTIMEZONE
BEGIN:VEVENT
DTSTART;TZID=UTC:20260503T140000
DTEND;TZID=UTC:20260503T160000
DTSTAMP:20260420T050109
CREATED:20260418T174130Z
LAST-MODIFIED:20260418T174130Z
UID:10020511-1777816800-1777824000@funinfarmington.com
SUMMARY:Spring Market Swap at The Grazery
DESCRIPTION:Swap your spring goodies and find fresh treasures at this fun in-person Market Swap! \n\n\n\n\nJoin us for The Grazery Market Swap – Spring Edition\, a curated\, feel-good experience where creativity meets community. \nEach guest will bring 12 identical homemade or handmade items to exchange—ranging from baked goods and sweet treats to candles\, crafts\, and more. During this guided swap\, you’ll trade items with others and leave with a unique collection of goods you didn’t come with. \nThis is the perfect opportunity to share your favorite recipes\, showcase your creativity\, or even promote your business in a relaxed and welcoming environment. \n✨ Complimentary dirty soda included for all participants\n🧀 Charcuterie cups available for purchase \nWe’re keeping this event intimate with limited spots to ensure a quality experience for everyone. \n📍 The Grazery\n🗓 Sunday\, May 3rd\n⏰ 2:00 PM – 4:00 PM \nGuests must bring 12 identical items\, individually packaged\, along with a basket or bag to collect their swaps. \nRSVP is required to participate. Spots are limited. \n\n\n\n\nPlease also RVSP here — https://form.jotform.com/260887101098057
URL:https://funinfarmington.com/event/spring-market-swap-at-the-grazery/
LOCATION:No Graze Off (The Grazery)\, 22836 Orchard Lake Rd\, Farmington Hills\, MI\, 48336\, United States
CATEGORIES:Art,Community,Food
END:VEVENT
END:VCALENDAR